{"text_format":"1","workbook":"xlsx","n_sheets":7,"sheets":["Calculator","Kaller","Ford","GM","Unit conv","Fjäderkurva","Tempdatabladet"],"not_rendered":{"charts":2,"images":8,"macros":1,"external_links":3,"defined_names":14,"comments":0,"pivot_tables":0},"unopened":[],"bounds":{"document_bytes":16777216,"sheet_cells":100000,"rows_first":2000,"rows_last":500,"rows_between":2000,"halvings":0,"cell_chars":16384,"cell_head_chars":4096},"cells_cut":0,"cells_raw":0,"read":"whole","date_system":"1900"}

{"sheet":"Calculator","index":0,"n_rows":60,"n_cols":34,"rows_kept":60,"cut":false,"hidden":false,"merged":[]}
[null,"Indexval från listor. Input till kod",null,null,null,"Lbox 6","LBox 7","LBox 8",null,null,"Vald produkt",null,null,"Fi","Fs","Fylltryck"]
[null,"val1","val2","val3",null,"TU",250,10,null,null,"TU",250,10,2650,3500,150]
[null,1,1,1,null,"X",500,12.7,null,null,"Kolumn 7 Ska vara StrCode"]
[null,null,null,null,null,"TX",750,16,null,null,"TU 250-10"]
[null,"Lbox 9 Varumärke",null,null,null,"R19",1500,25,null,null,{"$f":"FIND(\"-\",K4)","v":7}]
[null,"KALLER",1,"Index",null,"M2",3000,38.1,null,null,{"$f":"LEFT(K4,K5-1)","v":"TU 250"}]
[null,"FORD",null,null,null,"MC3",5000,50]
[null,"GM",null,null,null,"CU4",7500,63.5]
[null,"tblKaller",null,null,null,"CX",10000,80,null,null,"Hämtat från temperaturbladet"]
[null,null,null,null,null,"K",null,100,null,null,{"$f":"VLOOKUP($K$6,Tempdatabladet!$A$1:$AD$167,16,0)","v":22.647529921091891},null,null,{"$f":"IF(ISERROR(K10),\"Temperature data not available\",\"\")","v":""}]
[null,null,null,null,null,"LCF",null,125,null,null,{"$f":"IF(ISERROR(K10),\"No data\",K10)","v":22.647529921091891},"om no data",null,"Felmeddelande om tempdata saknas"]
[null,null,null,null,null,"XG"]
[null,null,null,null,null,"R12"]
[null,null,null,null,null,"R15"]
[null,null,null,null,null,"TL",null,null,null,null,{"$f":"VLOOKUP($K$6,Tempdatabladet!$A$1:$AD$167,17,0)","v":32.647529921091888}]
[null,null,null,null,null,"TUS",null,null,null,null,{"$f":"IF(ISERROR(K15),\"No data\",K15)","v":32.647529921091888},"om no data",null,null,null,null,null,null,null,null,"Number of gas Springs",null,null,1,"pcs"]
[null,null,null,null,null,"TUR",null,null,null,null,null,null,null,null,null,null,null,null,null,null,"Filling Pressure",null,null,150,{"$f":"'Unit conv'!B18","v":"bar"},{"$f":"CONCATENATE(\"Maximum filling pressure is \",P2*FLOOR('Unit conv'!B17,0.01),\" \",'Unit conv'!B18)","v":"Maximum filling pressure is 150 bar"},null,null,{"$f":"IF(X17>P2*'Unit conv'!B17,\"Filling Pressure to High!\",\"\")","v":""}]
[null,null,null,null,null,"XF",null,null,null,null,null,null,null,null,null,null,null,null,null,null,"Used Stroke",null,null,10,"mm",{"$f":"Fjäderkurva!D51","v":""}]
[null,null,null,null,null,null,null,null,null,null,null,null,null,null,null,null,null,null,null,null,"Frequency",null,null,20,"spm"]
[null,null,null,null,null,null,null,null,null,null,null,null,null,null,null,null,null,null,null,null,"Surrounding Temperature",null,null,20,"°C"]
[null,null,null,null,null,null,null,null,null,null,null,"Grönmarkerade rutor är ej skyddade för att makrot ska skunna skriva där"]
[null,null,null,null,null,null,null,null,null,null,null,"User data fält och cell med email länk är upplåst"]
[null,null,null,null,null,null,null,null,null,null,null,null,null,null,null,null,null,null,null,null,{"$f":"CONCATENATE(\"Total force of \",X16,\" gas spring\",IF(X16>1,\"s\",\"\"),\" in \",AA42)","v":"Total force of 1 gas spring in kN"}]
[null,null,null,null,null,null,null,null,null,null,null,null,null,null,null,null,null,null,null,null,{"$f":"CONCATENATE(\"Selected spring: KALLER \",K6,\" with stroke length of \",M2,\" mm\")","v":"Selected spring: KALLER TU 250 with stroke length of 10 mm"},null,null,null,null,null,null,null,null,"  Temp  °C",null,null," "," "]
[]
[]
[null,null,null,null,null,null,null,null,null,null,null,null,null,null,null,null,null,null,null,null,null,{"$f":"AB46-Z46","v":9.9999999999999964}]
[]
[null,null,null,null,null,null,null,null,null,null,null,null,null,null,null,null,null,null,null,null,null,{"$f":"80-AB46","v":47.352470078908112}]
[null,null,null,null,null,null,null,null,null,null,null,null,null,null,null,null,null,null,null,null,null,20]
[]
[null,null,null,null,null,null,null,null,null,null,null,null,null,null,null,null,null,null,null,null,null,{"$f":"Z46","v":22.647529921091891}]
[null,null,null,null,null,null,null,null,null,null,null,null,null,null,null,null,null,null,null,null,null,{"$f":"V32-X20","v":2.6475299210918912},"min över rum"]
[]
[]
[]
[]
[]
[]
[]
[null,null,null,null,null,null,null,null,null,null,null,null,null,null,null,null,null,null,null,null,{"$f":"Fjäderkurva!AH10","v":"Isothermal force at estimated running temperature"}]
[null,null,null,null,null,null,null,null,null,null,null,null,null,null,null,null,null,null,null,null,"INITIAL FORCE",null,null,null,null,{"$f":"Fjäderkurva!D46","v":2.7191670794911036},{"$f":"'Unit conv'!B24","v":"kN"}]
[]
[null,null,null,null,null,null,null,null,null,null,null,null,null,null,null,null,null,null,null,null,"FINAL FORCE",null,null,null,null,{"$f":"Fjäderkurva!D48","v":3.5913527464976838},{"$f":"'Unit conv'!B24","v":"kN"}]
[]
[null,null,null,null,null,null,null,null,null,null,null,null,null,null,null,null,null,null,null,null,"ESTIMATED RUNNING TEMPERATURE BETWEEN:",null,null,null,null,{"$f":"K11","v":22.647529921091891},null,{"$f":"K16","v":32.647529921091888},"[°C]"]
[null,null,null,null,null,null,null,null,null,null,null,null,null,null,null,null,null,null,null,null,null,null,null,null,null,null,null,{"$f":"IFERROR(IF(K15>80,\"High temp. Please contact your distributor for advice.\",\"\"),\"\")","v":""}]
[null,null,null,null,null,null,null,null,null,null,null,null,null,null,null,null,null,null,null,null,null,null,null,null,null,null,null,{"$f":"N10","v":""}]
[]
[null,null,null,null,null,null,null,null,null,null,null,null,null,null,null,null,null,null,null,null,"IMPORTANT:"]
[]
[]
[]
[]
[]
[]
[]
[]
[]
[null,null,null,null,null,null,null,null,null,null,null,null,null,null,null,null,null,null,null,null,"Please send feeback and comments to:",null,null,null,"info@kaller.com"]

{"sheet":"Kaller","index":1,"n_rows":863,"n_cols":14,"rows_kept":863,"cut":false,"hidden":true,"merged":[]}
["Detta är värden ur katalog/MC",null,null,"Serie","Modell","Slagl","Fi","Fs","Tryck","StrCode"]
[null,null,null,"TU",250,10,2650,3500,150,"TU 250-10"]
[null,null,null,"TU",250,12.7,2650,3500,150,"TU 250-12,7"]
[null,null,null,"TU",250,16,2650,3500,150,"TU 250-16",null,null,"Not:"]
[null,null,null,"TU",250,25,2650,3500,150,"TU 250-25",null,null,"2017-01-11","CU4, CX, K, LCF, XG, R12, R15, TL, TUS, TUR inlagda"]
[null,null,null,"TU",250,38.1,2650,3500,150,"TU 250-38,1"]
[null,null,null,"TU",250,50,2650,3500,150,"TU 250-50"]
[null,null,null,"TU",250,63.5,2650,3500,150,"TU 250-63,5"]
[null,null,null,"TU",250,80,2650,3500,150,"TU 250-80"]
[null,null,null,"TU",250,100,2650,3500,150,"TU 250-100"]
[null,null,null,"TU",250,125,2650,3500,150,"TU 250-125"]
[null,null,null,"TU",500,10,4700,6000,150,"TU 500-10"]
[null,null,null,"TU",500,12.7,4700,6100,150,"TU 500-12,7"]
[null,null,null,"TU",500,25,4700,6400,150,"TU 500-25"]
[null,null,null,"TU",500,38.1,4700,6500,150,"TU 500-38,1"]
[null,null,null,"TU",500,50,4700,6600,150,"TU 500-50"]
[null,null,null,"TU",500,63.5,4700,6600,150,"TU 500-63,5"]
[null,null,null,"TU",500,80,4700,6700,150,"TU 500-80"]
[null,null,null,"TU",500,100,4700,6700,150,"TU 500-100"]
[null,null,null,"TU",500,125,4700,6700,150,"TU 500-125"]
[null,null,null,"TU",500,160,4700,6700,150,"TU 500-160"]
[null,null,null,"TU",750,12.7,7400,12000,150,"TU 750-12,7"]
[null,null,null,"TU",750,25,7400,12000,150,"TU 750-25"]
[null,null,null,"TU",750,38.1,7400,12000,150,"TU 750-38,1"]
[null,null,null,"TU",750,50,7400,12000,150,"TU 750-50"]
[null,null,null,"TU",750,63.5,7400,12000,150,"TU 750-63,5"]
[null,null,null,"TU",750,80,7400,12000,150,"TU 750-80"]
[null,null,null,"TU",750,100,7400,12000,150,"TU 750-100"]
[null,null,null,"TU",750,125,7400,12100,150,"TU 750-125"]
[null,null,null,"TU",750,160,7400,12100,150,"TU 750-160"]
[null,null,null,"TU",750,200,7400,12100,150,"TU 750-200"]
[null,null,null,"TU",750,250,7400,12100,150,"TU 750-250"]
[null,null,null,"TU",750,300,7400,12100,150,"TU 750-300"]
[null,null,null,"TU",1500,25,15000,23000,150,"TU 1500-25"]
[null,null,null,"TU",1500,38.1,15000,23000,150,"TU 1500-38,1"]
[null,null,null,"TU",1500,50,15000,23000,150,"TU 1500-50"]
[null,null,null,"TU",1500,63.5,15000,23000,150,"TU 1500-63,5"]
[null,null,null,"TU",1500,80,15000,23000,150,"TU 1500-80"]
[null,null,null,"TU",1500,100,15000,23000,150,"TU 1500-100"]
[null,null,null,"TU",1500,125,15000,23000,150,"TU 1500-125"]
[null,null,null,"TU",1500,160,15000,23000,150,"TU 1500-160"]
[null,null,null,"TU",1500,200,15000,23000,150,"TU 1500-200"]
[null,null,null,"TU",1500,250,15000,23000,150,"TU 1500-250"]
[null,null,null,"TU",1500,300,15000,23000,150,"TU 1500-300"]
[null,null,null,"TU",3000,25,30000,42000,150,"TU 3000-25"]
[null,null,null,"TU",3000,38.1,30000,43000,150,"TU 3000-38,1"]
[null,null,null,"TU",3000,50,30000,44000,150,"TU 3000-50"]
[null,null,null,"TU",3000,63.5,30000,45000,150,"TU 3000-63,5"]
[null,null,null,"TU",3000,80,30000,46000,150,"TU 3000-80"]
[null,null,null,"TU",3000,100,30000,47000,150,"TU 3000-100"]
[null,null,null,"TU",3000,125,30000,47000,150,"TU 3000-125"]
[null,null,null,"TU",3000,160,30000,47000,150,"TU 3000-160"]
[null,null,null,"TU",3000,200,30000,48000,150,"TU 3000-200"]
[null,null,null,"TU",3000,250,30000,48000,150,"TU 3000-250"]
[null,null,null,"TU",3000,300,30000,48000,150,"TU 3000-300"]
[null,null,null,"TU",5000,25,50000,71000,150,"TU 5000-25"]
[null,null,null,"TU",5000,38.1,50000,75000,150,"TU 5000-38,1"]
[null,null,null,"TU",5000,50,50000,77000,150,"TU 5000-50"]
[null,null,null,"TU",5000,63.5,50000,80000,150,"TU 5000-63,5"]
[null,null,null,"TU",5000,80,50000,81000,150,"TU 5000-80"]
[null,null,null,"TU",5000,100,50000,82000,150,"TU 5000-100"]
[null,null,null,"TU",5000,125,50000,82000,150,"TU 5000-125"]
[null,null,null,"TU",5000,160,50000,83000,150,"TU 5000-160"]
[null,null,null,"TU",5000,200,50000,84000,150,"TU 5000-200"]
[null,null,null,"TU",5000,250,50000,84000,150,"TU 5000-250"]
[null,null,null,"TU",5000,300,50000,84000,150,"TU 5000-300"]
[null,null,null,"TU",7500,25,75000,105000,150,"TU 7500-25"]
[null,null,null,"TU",7500,38.1,75000,110000,150,"TU 7500-38,1"]
[null,null,null,"TU",7500,50,75000,113000,150,"TU 7500-50"]
[null,null,null,"TU",7500,63.5,75000,115000,150,"TU 7500-63,5"]
[null,null,null,"TU",7500,80,75000,117000,150,"TU 7500-80"]
[null,null,null,"TU",7500,100,75000,119000,150,"TU 7500-100"]
[null,null,null,"TU",7500,125,75000,121000,150,"TU 7500-125"]
[null,null,null,"TU",7500,160,75000,122000,150,"TU 7500-160"]
[null,null,null,"TU",7500,200,75000,123000,150,"TU 7500-200"]
[null,null,null,"TU",7500,250,75000,124000,150,"TU 7500-250"]
[null,null,null,"TU",7500,300,75000,124000,150,"TU 7500-300"]
[null,null,null,"TU",10000,25,106000,138000,150,"TU 10000-25"]
[null,null,null,"TU",10000,38.1,106000,143000,150,"TU 10000-38,1"]
[null,null,null,"TU",10000,50,106000,147000,150,"TU 10000-50"]
[null,null,null,"TU",10000,63.5,106000,150000,150,"TU 10000-63,5"]
[null,null,null,"TU",10000,80,106000,152000,150,"TU 10000-80"]
[null,null,null,"TU",10000,100,106000,156000,150,"TU 10000-100"]
[null,null,null,"TU",10000,125,106000,157000,150,"TU 10000-125"]
[null,null,null,"TU",10000,160,106000,158000,150,"TU 10000-160"]
[null,null,null,"TU",10000,200,106000,160000,150,"TU 10000-200"]
[null,null,null,"TU",10000,250,106000,160000,150,"TU 10000-250"]
[null,null,null,"TU",10000,300,106000,160000,150,"TU 10000-300"]
[null,null,null,"X",170,7,1700,2800,180,"X 170-7"]
[null,null,null,"X",170,10,1700,2800,180,"X 170-10"]
[null,null,null,"X",170,15,1700,2800,180,"X 170-15"]
[null,null,null,"X",170,19,1700,2800,180,"X 170-19"]
[null,null,null,"X",170,25,1700,2800,180,"X 170-25"]
[null,null,null,"X",170,38,1700,2800,180,"X 170-38"]
[null,null,null,"X",170,50,1700,2800,180,"X 170-50"]
[null,null,null,"X",170,63,1700,2800,180,"X 170-63"]
[null,null,null,"X",170,75,1700,2800,180,"X 170-75"]
[null,null,null,"X",170,80,1700,2800,180,"X 170-80"]
[null,null,null,"X",170,100,1700,2800,180,"X 170-100"]
[null,null,null,"X",170,125,1700,2800,180,"X 170-125"]
[null,null,null,"X",320,7,3200,4800,180,"X 320-7"]
[null,null,null,"X",320,10,3200,4900,180,"X 320-10"]
[null,null,null,"X",320,15,3200,5100,180,"X 320-15"]
[null,null,null,"X",320,19,3200,5100,180,"X 320-19"]
[null,null,null,"X",320,25,3200,5200,180,"X 320-25"]
[null,null,null,"X",320,38,3200,5300,180,"X 320-38"]
[null,null,null,"X",320,50,3200,5300,180,"X 320-50"]
[null,null,null,"X",320,63,3200,5300,180,"X 320-63"]
[null,null,null,"X",320,75,3200,5300,180,"X 320-75"]
[null,null,null,"X",320,80,3200,5300,180,"X 320-80"]
[null,null,null,"X",320,100,3200,5300,180,"X 320-100"]
[null,null,null,"X",320,125,3200,5300,180,"X 320-125"]
[null,null,null,"X",350,10,3600,5900,180,"X 350-10"]
[null,null,null,"X",350,13,3600,5200,180,"X 350-13"]
[null,null,null,"X",350,16,3600,5300,180,"X 350-16"]
[null,null,null,"X",350,19,3600,5600,180,"X 350-19"]
[null,null,null,"X",350,25,3600,5500,180,"X 350-25"]
[null,null,null,"X",350,32,3600,5500,180,"X 350-32"]
[null,null,null,"X",350,38,3600,5500,180,"X 350-38"]
[null,null,null,"X",350,50,3600,5600,180,"X 350-50"]
[null,null,null,"X",350,63,3600,5500,180,"X 350-63"]
[null,null,null,"X",350,75,3600,5500,180,"X 350-75"]
[null,null,null,"X",350,80,3600,5500,180,"X 350-80"]
[null,null,null,"X",350,100,3600,5500,180,"X 350-100"]
[null,null,null,"X",350,125,3600,5500,180,"X 350-125"]
[null,null,null,"X",500,10,4700,7200,150,"X 500-10"]
[null,null,null,"X",500,13,4700,7100,150,"X 500-13"]
[null,null,null,"X",500,16,4700,7200,150,"X 500-16"]
[null,null,null,"X",500,19,4700,7400,150,"X 500-19"]
[null,null,null,"X",500,25,4700,7300,150,"X 500-25"]
[null,null,null,"X",500,32,4700,7200,150,"X 500-32"]
[null,null,null,"X",500,38,4700,7200,150,"X 500-38"]
[null,null,null,"X",500,50,4700,7200,150,"X 500-50"]
[null,null,null,"X",500,63,4700,7200,150,"X 500-63"]
[null,null,null,"X",500,75,4700,7100,150,"X 500-75"]
[null,null,null,"X",500,80,4700,7100,150,"X 500-80"]
[null,null,null,"X",500,100,4700,7100,150,"X 500-100"]
[null,null,null,"X",500,125,4700,7100,150,"X 500-125"]
[null,null,null,"X",750,10,7400,12100,150,"X 750-10"]
[null,null,null,"X",750,13,7400,12100,150,"X 750-13"]
[null,null,null,"X",750,16,7400,12100,150,"X 750-16"]
[null,null,null,"X",750,19,7400,11700,150,"X 750-19"]
[null,null,null,"X",750,25,7400,11800,150,"X 750-25"]
[null,null,null,"X",750,32,7400,11800,150,"X 750-32"]
[null,null,null,"X",750,38,7400,11800,150,"X 750-38"]
[null,null,null,"X",750,50,7400,11800,150,"X 750-50"]
[null,null,null,"X",750,63,7400,11800,150,"X 750-63"]
[null,null,null,"X",750,75,7400,11900,150,"X 750-75"]
[null,null,null,"X",750,80,7400,11900,150,"X 750-80"]
[null,null,null,"X",750,100,7400,11900,150,"X 750-100"]
[null,null,null,"X",750,125,7400,11900,150,"X 750-125"]
[null,null,null,"X",1000,13,9200,13800,150,"X 1000-13"]
[null,null,null,"X",1000,16,9200,13800,150,"X 1000-16"]
[null,null,null,"X",1000,19,9200,14000,150,"X 1000-19"]
[null,null,null,"X",1000,25,9200,14200,150,"X 1000-25"]
[null,null,null,"X",1000,32,9200,14300,150,"X 1000-32"]
[null,null,null,"X",1000,38,9200,14500,150,"X 1000-38"]
[null,null,null,"X",1000,50,9200,14600,150,"X 1000-50"]
[null,null,null,"X",1000,63,9200,14700,150,"X 1000-63"]
[null,null,null,"X",1000,75,9200,14700,150,"X 1000-75"]
[null,null,null,"X",1000,80,9200,14800,150,"X 1000-80"]
[null,null,null,"X",1000,100,9200,14800,150,"X 1000-100"]
[null,null,null,"X",1000,125,9200,14800,150,"X 1000-125"]
[null,null,null,"X",1500,13,15000,24000,150,"X 1500-13"]
[null,null,null,"X",1500,16,15000,24100,150,"X 1500-16"]
[null,null,null,"X",1500,19,15000,24200,150,"X 1500-19"]
[null,null,null,"X",1500,25,15000,24300,150,"X 1500-25"]
[null,null,null,"X",1500,32,15000,23800,150,"X 1500-32"]
[null,null,null,"X",1500,38,15000,23900,150,"X 1500-38"]
[null,null,null,"X",1500,50,15000,24000,150,"X 1500-50"]
[null,null,null,"X",1500,63,15000,24100,150,"X 1500-63"]
[null,null,null,"X",1500,75,15000,24200,150,"X 1500-75"]
[null,null,null,"X",1500,80,15000,24200,150,"X 1500-80"]
[null,null,null,"X",1500,100,15000,24300,150,"X 1500-100"]
[null,null,null,"X",1500,125,15000,24300,150,"X 1500-125"]
[null,null,null,"X",2400,16,24000,38300,150,"X 2400-16"]
[null,null,null,"X",2400,19,24000,38500,150,"X 2400-19"]
[null,null,null,"X",2400,25,24000,38700,150,"X 2400-25"]
[null,null,null,"X",2400,32,24000,38600,150,"X 2400-32"]
[null,null,null,"X",2400,38,24000,38400,150,"X 2400-38"]
[null,null,null,"X",2400,50,24000,39200,150,"X 2400-50"]
[null,null,null,"X",2400,63,24000,39200,150,"X 2400-63"]
[null,null,null,"X",2400,75,24000,39200,150,"X 2400-75"]
[null,null,null,"X",2400,80,24000,39200,150,"X 2400-80"]
[null,null,null,"X",2400,100,24000,39300,150,"X 2400-100"]
[null,null,null,"X",2400,125,24000,39300,150,"X 2400-125"]
[null,null,null,"X",4200,16,42000,61700,150,"X 4200-16"]
[null,null,null,"X",4200,19,42000,63700,150,"X 4200-19"]
[null,null,null,"X",4200,25,42000,60800,150,"X 4200-25"]
[null,null,null,"X",4200,32,42000,64300,150,"X 4200-32"]
[null,null,null,"X",4200,38,42000,65800,150,"X 4200-38"]
[null,null,null,"X",4200,50,42000,67000,150,"X 4200-50"]
[null,null,null,"X",4200,63,42000,67800,150,"X 4200-63"]
[null,null,null,"X",4200,75,42000,68000,150,"X 4200-75"]
[null,null,null,"X",4200,80,42000,68600,150,"X 4200-80"]
[null,null,null,"X",4200,100,42000,69100,150,"X 4200-100"]
[null,null,null,"X",4200,125,42000,69600,150,"X 4200-125"]
[null,null,null,"X",6600,16,66300,89000,150,"X 6600-16"]
[null,null,null,"X",6600,19,66300,91000,150,"X 6600-19"]
[null,null,null,"X",6600,25,66300,93900,150,"X 6600-25"]
[null,null,null,"X",6600,32,66300,96100,150,"X 6600-32"]
[null,null,null,"X",6600,38,66300,98200,150,"X 6600-38"]
[null,null,null,"X",6600,50,66300,100600,150,"X 6600-50"]
[null,null,null,"X",6600,63,66300,102400,150,"X 6600-63"]
[null,null,null,"X",6600,75,66300,103400,150,"X 6600-75"]
[null,null,null,"X",6600,80,66300,104100,150,"X 6600-80"]
[null,null,null,"X",6600,100,66300,105400,150,"X 6600-100"]
[null,null,null,"X",6600,125,66300,106500,150,"X 6600-125"]
[null,null,null,"X",9500,19,95000,135000,150,"X 9500-19"]
[null,null,null,"X",9500,25,95000,139000,150,"X 9500-25"]
[null,null,null,"X",9500,32,95000,142000,150,"X 9500-32"]
[null,null,null,"X",9500,38,95000,143000,150,"X 9500-38"]
[null,null,null,"X",9500,50,95000,146000,150,"X 9500-50"]
[null,null,null,"X",9500,63,95000,148000,150,"X 9500-63"]
[null,null,null,"X",9500,75,95000,149000,150,"X 9500-75"]
[null,null,null,"X",9500,80,95000,150000,150,"X 9500-80"]
[null,null,null,"X",9500,100,95000,151000,150,"X 9500-100"]
[null,null,null,"X",9500,125,95000,152000,150,"X 9500-125"]
[null,null,null,"X",20000,19,200000,259000,150,"X 20000-19"]
[null,null,null,"X",20000,25,200000,270000,150,"X 20000-25"]
[null,null,null,"X",20000,32,200000,280000,150,"X 20000-32"]
[null,null,null,"X",20000,38,200000,287000,150,"X 20000-38"]
[null,null,null,"X",20000,50,200000,298000,150,"X 20000-50"]
[null,null,null,"X",20000,63,200000,307000,150,"X 20000-63"]
[null,null,null,"X",20000,75,200000,313000,150,"X 20000-75"]
[null,null,null,"X",20000,80,200000,315000,150,"X 20000-80"]
[null,null,null,"X",20000,100,200000,323000,150,"X 20000-100"]
[null,null,null,"X",20000,125,200000,330000,150,"X 20000-125"]
[null,null,null,"TX",750,13,7400,12000,150,"TX 750-13"]
[null,null,null,"TX",750,25,7400,12000,150,"TX 750-25"]
[null,null,null,"TX",750,38,7400,12000,150,"TX 750-38"]
[null,null,null,"TX",750,50,7400,12000,150,"TX 750-50"]
[null,null,null,"TX",750,63,7400,12000,150,"TX 750-63"]
[null,null,null,"TX",750,75,7400,12000,150,"TX 750-75"]
[null,null,null,"TX",750,80,7400,12000,150,"TX 750-80"]
[null,null,null,"TX",750,100,7400,12000,150,"TX 750-100"]
[null,null,null,"TX",750,125,7400,12100,150,"TX 750-125"]
[null,null,null,"TX",750,150,7400,12100,150,"TX 750-150"]
[null,null,null,"TX",750,160,7400,12100,150,"TX 750-160"]
[null,null,null,"TX",750,175,7400,12000,150,"TX 750-175"]
[null,null,null,"TX",750,200,7400,12100,150,"TX 750-200"]
[null,null,null,"TX",1000,13,9200,11200,150,"TX 1000-13"]
[null,null,null,"TX",1000,25,9200,12100,150,"TX 1000-25"]
[null,null,null,"TX",1000,38,9200,12800,150,"TX 1000-38"]
[null,null,null,"TX",1000,50,9200,13200,150,"TX 1000-50"]
[null,null,null,"TX",1000,63,9200,13500,150,"TX 1000-63"]
[null,null,null,"TX",1000,75,9200,13700,150,"TX 1000-75"]
[null,null,null,"TX",1000,80,9200,13800,150,"TX 1000-80"]
[null,null,null,"TX",1000,100,9200,14100,150,"TX 1000-100"]
[null,null,null,"TX",1000,125,9200,14300,150,"TX 1000-125"]
[null,null,null,"TX",1000,150,9200,14500,150,"TX 1000-150"]
[null,null,null,"TX",1000,160,9200,14500,150,"TX 1000-160"]
[null,null,null,"TX",1000,175,9200,14600,150,"TX 1000-175"]
[null,null,null,"TX",1000,200,9200,14700,150,"TX 1000-200"]
[null,null,null,"TX",1000,250,9200,14800,150,"TX 1000-250"]
[null,null,null,"TX",1000,300,9200,14900,150,"TX 1000-300"]
[null,null,null,"TX",1500,13,15000,17700,150,"TX 1500-13"]
[null,null,null,"TX",1500,25,15000,19100,150,"TX 1500-25"]
[null,null,null,"TX",1500,38,15000,20000,150,"TX 1500-38"]
[null,null,null,"TX",1500,50,15000,20600,150,"TX 1500-50"]
[null,null,null,"TX",1500,63,15000,21100,150,"TX 1500-63"]
[null,null,null,"TX",1500,75,15000,21500,150,"TX 1500-75"]
[null,null,null,"TX",1500,80,15000,21600,150,"TX 1500-80"]
[null,null,null,"TX",1500,100,15000,21700,150,"TX 1500-100"]
[null,null,null,"TX",1500,125,15000,22400,150,"TX 1500-125"]
[null,null,null,"TX",1500,150,15000,22500,150,"TX 1500-150"]
[null,null,null,"TX",1500,160,15000,22600,150,"TX 1500-160"]
[null,null,null,"TX",1500,175,15000,22600,150,"TX 1500-175"]
[null,null,null,"TX",1500,200,15000,22800,150,"TX 1500-200"]
[null,null,null,"TX",1500,250,15000,23000,150,"TX 1500-250"]
[null,null,null,"TX",1500,300,15000,23200,150,"TX 1500-300"]
[null,null,null,"TX",2400,25,24000,37100,150,"TX 2400-25"]
[null,null,null,"TX",2400,38,24000,37600,150,"TX 2400-38"]
[null,null,null,"TX",2400,50,24000,37900,150,"TX 2400-50"]
[null,null,null,"TX",2400,63,24000,38100,150,"TX 2400-63"]
[null,null,null,"TX",2400,75,24000,38300,150,"TX 2400-75"]
[null,null,null,"TX",2400,80,24000,38300,150,"TX 2400-80"]
[null,null,null,"TX",2400,100,24000,38500,150,"TX 2400-100"]
[null,null,null,"TX",2400,125,24000,38700,150,"TX 2400-125"]
[null,null,null,"TX",2400,150,24000,38800,150,"TX 2400-150"]
[null,null,null,"TX",2400,160,24000,38800,150,"TX 2400-160"]
[null,null,null,"TX",2400,175,24000,38900,150,"TX 2400-175"]
[null,null,null,"TX",2400,200,24000,38900,150,"TX 2400-200"]
[null,null,null,"TX",2400,250,24000,39000,150,"TX 2400-250"]
[null,null,null,"TX",2400,300,24000,39100,150,"TX 2400-300"]
[null,null,null,"TX",4200,25,42000,52100,150,"TX 4200-25"]
[null,null,null,"TX",4200,38,42000,55100,150,"TX 4200-38"]
[null,null,null,"TX",4200,50,42000,57200,150,"TX 4200-50"]
[null,null,null,"TX",4200,63,42000,59000,150,"TX 4200-63"]
[null,null,null,"TX",4200,75,42000,60300,150,"TX 4200-75"]
[null,null,null,"TX",4200,80,42000,60800,150,"TX 4200-80"]
[null,null,null,"TX",4200,100,42000,62500,150,"TX 4200-100"]
[null,null,null,"TX",4200,125,42000,64000,150,"TX 4200-125"]
[null,null,null,"TX",4200,150,42000,65100,150,"TX 4200-150"]
[null,null,null,"TX",4200,160,42000,65500,150,"TX 4200-160"]
[null,null,null,"TX",4200,175,42000,66000,150,"TX 4200-175"]
[null,null,null,"TX",4200,200,42000,66800,150,"TX 4200-200"]
[null,null,null,"TX",4200,250,42000,67900,150,"TX 4200-250"]
[null,null,null,"TX",4200,300,42000,68700,150,"TX 4200-300"]
[null,null,null,"TX",6600,25,66300,79500,150,"TX 6600-25"]
[null,null,null,"TX",6600,38,66300,83900,150,"TX 6600-38"]
[null,null,null,"TX",6600,50,66300,87000,150,"TX 6600-50"]
[null,null,null,"TX",6600,63,66300,89700,150,"TX 6600-63"]
[null,null,null,"TX",6600,75,66300,91800,150,"TX 6600-75"]
[null,null,null,"TX",6600,80,66300,92600,150,"TX 6600-80"]
[null,null,null,"TX",6600,100,66300,95100,150,"TX 6600-100"]
[null,null,null,"TX",6600,125,66300,97600,150,"TX 6600-125"]
[null,null,null,"TX",6600,150,66300,99500,150,"TX 6600-150"]
[null,null,null,"TX",6600,160,66300,100100,150,"TX 6600-160"]
[null,null,null,"TX",6600,175,66300,101000,150,"TX 6600-175"]
[null,null,null,"TX",6600,200,66300,102200,150,"TX 6600-200"]
[null,null,null,"TX",6600,250,66300,104000,150,"TX 6600-250"]
[null,null,null,"TX",6600,300,66300,105300,150,"TX 6600-300"]
[null,null,null,"TX",9500,25,95000,113200,150,"TX 9500-25"]
[null,null,null,"TX",9500,38,95000,119000,150,"TX 9500-38"]
[null,null,null,"TX",9500,50,95000,123300,150,"TX 9500-50"]
[null,null,null,"TX",9500,63,95000,127000,150,"TX 9500-63"]
[null,null,null,"TX",9500,75,95000,129700,150,"TX 9500-75"]
[null,null,null,"TX",9500,80,95000,130800,150,"TX 9500-80"]
[null,null,null,"TX",9500,100,95000,134300,150,"TX 9500-100"]
[null,null,null,"TX",9500,125,95000,137600,150,"TX 9500-125"]
[null,null,null,"TX",9500,150,95000,140200,150,"TX 9500-150"]
[null,null,null,"TX",9500,160,95000,141000,150,"TX 9500-160"]
[null,null,null,"TX",9500,175,95000,142200,150,"TX 9500-175"]
[null,null,null,"TX",9500,200,95000,143800,150,"TX 9500-200"]
[null,null,null,"TX",9500,250,95000,146300,150,"TX 9500-250"]
[null,null,null,"TX",9500,300,95000,148200,150,"TX 9500-300"]
[null,null,null,"TX",20000,25,200000,242000,150,"TX 20000-25"]
[null,null,null,"TX",20000,38,200000,256400,150,"TX 20000-38"]
[null,null,null,"TX",20000,50,200000,266800,150,"TX 20000-50"]
[null,null,null,"TX",20000,63,200000,276000,150,"TX 20000-63"]
[null,null,null,"TX",20000,75,200000,283100,150,"TX 20000-75"]
[null,null,null,"TX",20000,80,200000,285700,150,"TX 20000-80"]
[null,null,null,"TX",20000,100,200000,294600,150,"TX 20000-100"]
[null,null,null,"TX",20000,125,200000,303100,150,"TX 20000-125"]
[null,null,null,"TX",20000,150,200000,309700,150,"TX 20000-150"]
[null,null,null,"TX",20000,160,200000,312000,150,"TX 20000-160"]
[null,null,null,"TX",20000,175,200000,315000,150,"TX 20000-175"]
[null,null,null,"TX",20000,200,200000,319000,150,"TX 20000-200"]
[null,null,null,"TX",20000,250,200000,325600,150,"TX 20000-250"]
[null,null,null,"TX",20000,300,200000,330600,150,"TX 20000-300"]
[null,null,null,"R19","R19",7,900,1600,180,"R19-7"]
[null,null,null,"R19","R19",10,900,1400,180,"R19-10"]
[null,null,null,"R19","R19",15,900,1300,180,"R19-15"]
[null,null,null,"R19","R19",25,900,1300,180,"R19-25"]
[null,null,null,"R19","R19",38.1,900,1200,180,"R19-38,1"]
[null,null,null,"R19","R19",50,900,1200,180,"R19-50"]
[null,null,null,"R19","R19",63.5,900,1200,180,"R19-63,5"]
[null,null,null,"R19","R19",80,900,1200,180,"R19-80"]
[null,null,null,"R19","R19",100,900,1200,180,"R19-100"]
[null,null,null,"R19","R19",125,900,1200,180,"R19-125"]
[null,null,null,"M2","M2",10,2000,3060,180,"M2-10"]
[null,null,null,"M2","M2",12.7,2000,3070,180,"M2-12,7"]
[null,null,null,"M2","M2",15,2000,3070,180,"M2-15"]
[null,null,null,"M2","M2",16,2000,3070,180,"M2-16"]
[null,null,null,"M2","M2",25,2000,3080,180,"M2-25"]
[null,null,null,"M2","M2",38.1,2000,3090,180,"M2-38,1"]
[null,null,null,"M2","M2",50,2000,3090,180,"M2-50"]
[null,null,null,"M2","M2",63.5,2000,3020,180,"M2-63,5"]
[null,null,null,"M2","M2",80,2000,3040,180,"M2-80"]
[null,null,null,"M2","M2",100,2000,3050,180,"M2-100"]
[null,null,null,"M2","M2",125,2000,3060,180,"M2-125"]
[null,null,null,"MC3","MC3",10,2000,3060,180,"MC3-10"]
[null,null,null,"MC3","MC3",12.7,2000,3070,180,"MC3-12,7"]
[null,null,null,"MC3","MC3",16,2000,3070,180,"MC3-16"]
[null,null,null,"MC3","MC3",25,2000,3080,180,"MC3-25"]
[null,null,null,"MC3","MC3",38.1,2000,3090,180,"MC3-38,1"]
[null,null,null,"MC3","MC3",50,2000,3090,180,"MC3-50"]
[null,null,null,"MC3","MC3",63.5,2000,3020,180,"MC3-63,5"]
[null,null,null,"MC3","MC3",80,2000,3040,180,"MC3-80"]
[null,null,null,"MC3","MC3",100,2000,3050,180,"MC3-100"]
[null,null,null,"MC3","MC3",125,2000,3060,180,"MC3-125"]
[null,null,null,"CU4",420,6,4250,7300,150,"CU4 420-6"]
[null,null,null,"CU4",420,10,4250,7300,150,"CU4 420-10"]
[null,null,null,"CU4",420,16,4250,7300,150,"CU4 420-16"]
[null,null,null,"CU4",420,25,4250,7400,150,"CU4 420-25"]
[null,null,null,"CU4",420,32,4250,7900,150,"CU4 420-32"]
[null,null,null,"CU4",420,40,4250,8000,150,"CU4 420-40"]
[null,null,null,"CU4",420,50,4250,8000,150,"CU4 420-50"]
[null,null,null,"CU4",740,6,7400,10000,150,"CU4 740-6"]
[null,null,null,"CU4",740,10,7400,10000,150,"CU4 740-10"]
[null,null,null,"CU4",740,16,7400,11000,150,"CU4 740-16"]
[null,null,null,"CU4",740,25,7400,12000,150,"CU4 740-25"]
[null,null,null,"CU4",740,32,7400,12000,150,"CU4 740-32"]
[null,null,null,"CU4",740,40,7400,12000,150,"CU4 740-40"]
[null,null,null,"CU4",740,50,7400,12000,150,"CU4 740-50"]
[null,null,null,"CU4",1000,6,10600,16000,150,"CU4 1000-6"]
[null,null,null,"CU4",1000,10,10600,16000,150,"CU4 1000-10"]
[null,null,null,"CU4",1000,16,10600,16000,150,"CU4 1000-16"]
[null,null,null,"CU4",1000,25,10600,16000,150,"CU4 1000-25"]
[null,null,null,"CU4",1000,32,10600,16000,150,"CU4 1000-32"]
[null,null,null,"CU4",1000,40,10600,16000,150,"CU4 1000-40"]
[null,null,null,"CU4",1000,50,10600,16000,150,"CU4 1000-50"]
[null,null,null,"CU4",1800,6,18000,24000,150,"CU4 1800-6"]
[null,null,null,"CU4",1800,10,18000,25000,150,"CU4 1800-10"]
[null,null,null,"CU4",1800,16,18000,25000,150,"CU4 1800-16"]
[null,null,null,"CU4",1800,25,18000,26000,150,"CU4 1800-25"]
[null,null,null,"CU4",1800,32,18000,26000,150,"CU4 1800-32"]
[null,null,null,"CU4",1800,40,18000,26000,150,"CU4 1800-40"]
[null,null,null,"CU4",1800,50,18000,27000,150,"CU4 1800-50"]
[null,null,null,"CU4",1800,65,18000,28000,150,"CU4 1800-65"]
[null,null,null,"CU4",2900,10,29500,40000,150,"CU4 2900-10"]
[null,null,null,"CU4",2900,16,29500,42000,150,"CU4 2900-16"]
[null,null,null,"CU4",2900,25,29500,45000,150,"CU4 2900-25"]
[null,null,null,"CU4",2900,32,29500,46200,150,"CU4 2900-32"]
[null,null,null,"CU4",2900,40,29500,47200,150,"CU4 2900-40"]
[null,null,null,"CU4",2900,50,29500,45000,150,"CU4 2900-50"]
[null,null,null,"CU4",2900,65,29500,47000,150,"CU4 2900-65"]
[null,null,null,"CU4",4700,10,47000,67000,150,"CU4 4700-10"]
[null,null,null,"CU4",4700,16,47000,66000,150,"CU4 4700-16"]
[null,null,null,"CU4",4700,25,47000,68000,150,"CU4 4700-25"]
[null,null,null,"CU4",4700,32,47000,67000,150,"CU4 4700-32"]
[null,null,null,"CU4",4700,40,47000,67000,150,"CU4 4700-40"]
[null,null,null,"CU4",4700,50,47000,67000,150,"CU4 4700-50"]
[null,null,null,"CU4",4700,65,47000,71000,150,"CU4 4700-65"]
[null,null,null,"CU4",7500,10,75000,98500,150,"CU4 7500-10"]
[null,null,null,"CU4",7500,16,75000,100000,150,"CU4 7500-16"]
[null,null,null,"CU4",7500,25,75000,104000,150,"CU4 7500-25"]
[null,null,null,"CU4",7500,32,75000,102000,150,"CU4 7500-32"]
[null,null,null,"CU4",7500,40,75000,104000,150,"CU4 7500-40"]
[null,null,null,"CU4",7500,50,75000,103000,150,"CU4 7500-50"]
[null,null,null,"CU4",7500,65,75000,111000,150,"CU4 7500-65"]
[null,null,null,"CU4",11800,10,118000,150000,150,"CU4 11800-10"]
[null,null,null,"CU4",11800,16,118000,153000,150,"CU4 11800-16"]
[null,null,null,"CU4",11800,25,118000,160000,150,"CU4 11800-25"]
[null,null,null,"CU4",11800,32,118000,165000,150,"CU4 11800-32"]
[null,null,null,"CU4",11800,40,118000,160000,150,"CU4 11800-40"]
[null,null,null,"CU4",11800,50,118000,161000,150,"CU4 11800-50"]
[null,null,null,"CU4",11800,65,118000,163000,150,"CU4 11800-65"]
[null,null,null,"CU4",18300,10,183000,227000,150,"CU4 18300-10"]
[null,null,null,"CU4",18300,16,183000,233000,150,"CU4 18300-16"]
[null,null,null,"CU4",18300,25,183000,244000,150,"CU4 18300-25"]
[null,null,null,"CU4",18300,32,183000,244000,150,"CU4 18300-32"]
[null,null,null,"CU4",18300,40,183000,244000,150,"CU4 18300-40"]
[null,null,null,"CU4",18300,50,183000,248000,150,"CU4 18300-50"]
[null,null,null,"CU4",18300,65,183000,253000,150,"CU4 18300-65"]
[null,null,null,"CX",500,10,5100,6600,200,"CX 500-10"]
[null,null,null,"CX",500,15,5100,7100,200,"CX 500-15"]
[null,null,null,"CX",500,25,5100,7900,200,"CX 500-25"]
[null,null,null,"CX",500,38,5100,8700,200,"CX 500-38"]
[null,null,null,"CX",500,50,5100,9100,200,"CX 500-50"]
[null,null,null,"CX",500,63,5100,8800,200,"CX 500-63"]
[null,null,null,"CX",500,80,5100,9200,200,"CX 500-80"]
[null,null,null,"CX",1000,10,9800,13300,200,"CX 1000-10"]
[null,null,null,"CX",1000,15,9800,14400,200,"CX 1000-15"]
[null,null,null,"CX",1000,25,9800,16100,200,"CX 1000-25"]
[null,null,null,"CX",1000,38,9800,16900,200,"CX 1000-38"]
[null,null,null,"CX",1000,50,9800,17700,200,"CX 1000-50"]
[null,null,null,"CX",1000,63,9800,16500,200,"CX 1000-63"]
[null,null,null,"CX",1000,80,9800,17300,200,"CX 1000-80"]
[null,null,null,"CX",1900,10,19200,26300,200,"CX 1900-10"]
[null,null,null,"CX",1900,15,19200,31800,200,"CX 1900-15"]
[null,null,null,"CX",1900,25,19200,30900,200,"CX 1900-25"]
[null,null,null,"CX",1900,38,19200,31900,200,"CX 1900-38"]
[null,null,null,"CX",1900,50,19200,33800,200,"CX 1900-50"]
[null,null,null,"CX",1900,63,19200,34800,200,"CX 1900-63"]
[null,null,null,"CX",1900,80,19200,35600,200,"CX 1900-80"]
[null,null,null,"K",500,6,4700,5600,150,"K 500-6"]
[null,null,null,"K",500,12.5,4700,5900,150,"K 500-12,5"]
[null,null,null,"K",500,19,4700,6100,150,"K 500-19"]
[null,null,null,"K",500,25,4700,6100,150,"K 500-25"]
[null,null,null,"K",500,38.1,4700,6200,150,"K 500-38,1"]
[null,null,null,"K",500,50,4700,6300,150,"K 500-50"]
[null,null,null,"K",500,63.5,4700,6300,150,"K 500-63,5"]
[null,null,null,"K",500,80,4700,6600,150,"K 500-80"]
[null,null,null,"K",500,100,4700,6600,150,"K 500-100"]
[null,null,null,"K",500,125,4700,6600,150,"K 500-125"]
[null,null,null,"K",750,6,7400,15000,150,"K 750-6"]
[null,null,null,"K",750,12.5,7400,13000,150,"K 750-12,5"]
[null,null,null,"K",750,19,7400,12000,150,"K 750-19"]
[null,null,null,"K",750,25,7400,11000,150,"K 750-25"]
[null,null,null,"K",750,38.1,7400,11000,150,"K 750-38,1"]
[null,null,null,"K",750,50,7400,11000,150,"K 750-50"]
[null,null,null,"K",750,63.5,7400,11000,150,"K 750-63,5"]
[null,null,null,"K",750,80,7400,11000,150,"K 750-80"]
[null,null,null,"K",750,100,7400,11000,150,"K 750-100"]
[null,null,null,"K",750,125,7400,11000,150,"K 750-125"]
[null,null,null,"K",1500,25,15000,24000,150,"K 1500-25"]
[null,null,null,"K",1500,38.1,15000,23000,150,"K 1500-38,1"]
[null,null,null,"K",1500,50,15000,23000,150,"K 1500-50"]
[null,null,null,"K",1500,63.5,15000,23000,150,"K 1500-63,5"]
[null,null,null,"K",1500,80,15000,23000,150,"K 1500-80"]
[null,null,null,"K",1500,100,15000,23000,150,"K 1500-100"]
[null,null,null,"LCF",750,12.7,7400,12000,150,"LCF 750-12,7"]
[null,null,null,"LCF",750,25,7400,12000,150,"LCF 750-25"]
[null,null,null,"LCF",750,38.1,7400,12000,150,"LCF 750-38,1"]
[null,null,null,"LCF",750,50,7400,12000,150,"LCF 750-50"]
[null,null,null,"LCF",750,63.5,7400,12000,150,"LCF 750-63,5"]
[null,null,null,"LCF",750,80,7400,12000,150,"LCF 750-80"]
[null,null,null,"LCF",750,100,7400,12000,150,"LCF 750-100"]
[null,null,null,"LCF",750,125,7400,12100,150,"LCF 750-125"]
[null,null,null,"LCF",750,160,7400,12100,150,"LCF 750-160"]
[null,null,null,"LCF",750,200,7400,12100,150,"LCF 750-200"]
[null,null,null,"LCF",750,250,7400,12100,150,"LCF 750-250"]
[null,null,null,"LCF",750,300,7400,12100,150,"LCF 750-300"]
[null,null,null,"LCF",1500,25,15000,23000,150,"LCF 1500-25"]
[null,null,null,"LCF",1500,38.1,15000,23000,150,"LCF 1500-38,1"]
[null,null,null,"LCF",1500,50,15000,23000,150,"LCF 1500-50"]
[null,null,null,"LCF",1500,63.5,15000,23000,150,"LCF 1500-63,5"]
[null,null,null,"LCF",1500,80,15000,23000,150,"LCF 1500-80"]
[null,null,null,"LCF",1500,100,15000,23000,150,"LCF 1500-100"]
[null,null,null,"LCF",1500,125,15000,23000,150,"LCF 1500-125"]
[null,null,null,"LCF",1500,160,15000,23000,150,"LCF 1500-160"]
[null,null,null,"LCF",1500,200,15000,23000,150,"LCF 1500-200"]
[null,null,null,"LCF",1500,250,15000,23000,150,"LCF 1500-250"]
[null,null,null,"LCF",1500,300,15000,23000,150,"LCF 1500-300"]
[null,null,null,"LCF",3000,25,30000,42000,150,"LCF 3000-25"]
[null,null,null,"LCF",3000,38.1,30000,43000,150,"LCF 3000-38,1"]
[null,null,null,"LCF",3000,50,30000,44000,150,"LCF 3000-50"]
[null,null,null,"LCF",3000,63.5,30000,45000,150,"LCF 3000-63,5"]
[null,null,null,"LCF",3000,80,30000,46000,150,"LCF 3000-80"]
[null,null,null,"LCF",3000,100,30000,47000,150,"LCF 3000-100"]
[null,null,null,"LCF",3000,125,30000,47000,150,"LCF 3000-125"]
[null,null,null,"LCF",3000,160,30000,47000,150,"LCF 3000-160"]
[null,null,null,"LCF",3000,200,30000,48000,150,"LCF 3000-200"]
[null,null,null,"LCF",3000,250,30000,48000,150,"LCF 3000-250"]
[null,null,null,"LCF",3000,300,30000,48000,150,"LCF 3000-300"]
[null,null,null,"LCF",5000,25,50000,71000,150,"LCF 5000-25"]
[null,null,null,"LCF",5000,38.1,50000,75000,150,"LCF 5000-38,1"]
[null,null,null,"LCF",5000,50,50000,77000,150,"LCF 5000-50"]
[null,null,null,"LCF",5000,63.5,50000,80000,150,"LCF 5000-63,5"]
[null,null,null,"LCF",5000,80,50000,81000,150,"LCF 5000-80"]
[null,null,null,"LCF",5000,100,50000,82000,150,"LCF 5000-100"]
[null,null,null,"LCF",5000,125,50000,82000,150,"LCF 5000-125"]
[null,null,null,"LCF",5000,160,50000,83000,150,"LCF 5000-160"]
[null,null,null,"LCF",5000,200,50000,84000,150,"LCF 5000-200"]
[null,null,null,"LCF",5000,250,50000,84000,150,"LCF 5000-250"]
[null,null,null,"LCF",5000,300,50000,84000,150,"LCF 5000-300"]
[null,null,null,"LCF",7500,25,75000,105000,150,"LCF 7500-25"]
[null,null,null,"LCF",7500,38.1,75000,110000,150,"LCF 7500-38,1"]
[null,null,null,"LCF",7500,50,75000,113000,150,"LCF 7500-50"]
[null,null,null,"LCF",7500,63.5,75000,115000,150,"LCF 7500-63,5"]
[null,null,null,"LCF",7500,80,75000,117000,150,"LCF 7500-80"]
[null,null,null,"LCF",7500,100,75000,119000,150,"LCF 7500-100"]
[null,null,null,"LCF",7500,125,75000,121000,150,"LCF 7500-125"]
[null,null,null,"LCF",7500,160,75000,122000,150,"LCF 7500-160"]
[null,null,null,"LCF",7500,200,75000,123000,150,"LCF 7500-200"]
[null,null,null,"LCF",7500,250,75000,124000,150,"LCF 7500-250"]
[null,null,null,"LCF",7500,300,75000,124000,150,"LCF 7500-300"]
[null,null,null,"XG",350,10,3600,5900,180,"XG 350-10"]
[null,null,null,"XG",350,13,3600,5200,180,"XG 350-13"]
[null,null,null,"XG",350,16,3600,5300,180,"XG 350-16"]
[null,null,null,"XG",350,19,3600,5600,180,"XG 350-19"]
[null,null,null,"XG",350,25,3600,5500,180,"XG 350-25"]
[null,null,null,"XG",350,32,3600,5500,180,"XG 350-32"]
[null,null,null,"XG",350,38,3600,5500,180,"XG 350-38"]
[null,null,null,"XG",350,50,3600,5600,180,"XG 350-50"]
[null,null,null,"XG",350,63,3600,5500,180,"XG 350-63"]
[null,null,null,"XG",350,75,3600,5500,180,"XG 350-75"]
[null,null,null,"XG",350,80,3600,5500,180,"XG 350-80"]
[null,null,null,"XG",350,100,3600,5500,180,"XG 350-100"]
[null,null,null,"XG",350,125,3600,5500,180,"XG 350-125"]
[null,null,null,"XG",500,10,4700,7200,150,"XG 500-10"]
[null,null,null,"XG",500,13,4700,7100,150,"XG 500-13"]
[null,null,null,"XG",500,16,4700,7200,150,"XG 500-16"]
[null,null,null,"XG",500,19,4700,7400,150,"XG 500-19"]
[null,null,null,"XG",500,25,4700,7300,150,"XG 500-25"]
[null,null,null,"XG",500,32,4700,7200,150,"XG 500-32"]
[null,null,null,"XG",500,38,4700,7200,150,"XG 500-38"]
[null,null,null,"XG",500,50,4700,7200,150,"XG 500-50"]
[null,null,null,"XG",500,63,4700,7200,150,"XG 500-63"]
[null,null,null,"XG",500,75,4700,7100,150,"XG 500-75"]
[null,null,null,"XG",500,80,4700,7100,150,"XG 500-80"]
[null,null,null,"XG",500,100,4700,7100,150,"XG 500-100"]
[null,null,null,"XG",500,125,4700,7100,150,"XG 500-125"]
[null,null,null,"XG",750,10,7400,12100,150,"XG 750-10"]
[null,null,null,"XG",750,13,7400,12100,150,"XG 750-13"]
[null,null,null,"XG",750,16,7400,12100,150,"XG 750-16"]
[null,null,null,"XG",750,19,7400,11700,150,"XG 750-19"]
[null,null,null,"XG",750,25,7400,11800,150,"XG 750-25"]
[null,null,null,"XG",750,32,7400,11800,150,"XG 750-32"]
[null,null,null,"XG",750,38,7400,11800,150,"XG 750-38"]
[null,null,null,"XG",750,50,7400,11800,150,"XG 750-50"]
[null,null,null,"XG",750,63,7400,11800,150,"XG 750-63"]
[null,null,null,"XG",750,75,7400,11900,150,"XG 750-75"]
[null,null,null,"XG",750,80,7400,11900,150,"XG 750-80"]
[null,null,null,"XG",750,100,7400,11900,150,"XG 750-100"]
[null,null,null,"XG",750,125,7400,11900,150,"XG 750-125"]
[null,null,null,"XG",1000,13,9200,13800,150,"XG 1000-13"]
[null,null,null,"XG",1000,16,9200,13800,150,"XG 1000-16"]
[null,null,null,"XG",1000,19,9200,14000,150,"XG 1000-19"]
[null,null,null,"XG",1000,25,9200,14200,150,"XG 1000-25"]
[null,null,null,"XG",1000,32,9200,14300,150,"XG 1000-32"]
[null,null,null,"XG",1000,38,9200,14500,150,"XG 1000-38"]
[null,null,null,"XG",1000,50,9200,14600,150,"XG 1000-50"]
[null,null,null,"XG",1000,63,9200,14700,150,"XG 1000-63"]
[null,null,null,"XG",1000,75,9200,14700,150,"XG 1000-75"]
[null,null,null,"XG",1000,80,9200,14800,150,"XG 1000-80"]
[null,null,null,"XG",1000,100,9200,14800,150,"XG 1000-100"]
[null,null,null,"XG",1000,125,9200,14800,150,"XG 1000-125"]
[null,null,null,"XG",1500,13,15000,24000,150,"XG 1500-13"]
[null,null,null,"XG",1500,16,15000,24100,150,"XG 1500-16"]
[null,null,null,"XG",1500,19,15000,24200,150,"XG 1500-19"]
[null,null,null,"XG",1500,25,15000,24300,150,"XG 1500-25"]
[null,null,null,"XG",1500,32,15000,23800,150,"XG 1500-32"]
[null,null,null,"XG",1500,38,15000,23900,150,"XG 1500-38"]
[null,null,null,"XG",1500,50,15000,24000,150,"XG 1500-50"]
[null,null,null,"XG",1500,63,15000,24100,150,"XG 1500-63"]
[null,null,null,"XG",1500,75,15000,24200,150,"XG 1500-75"]
[null,null,null,"XG",1500,80,15000,24200,150,"XG 1500-80"]
[null,null,null,"XG",1500,100,15000,24300,150,"XG 1500-100"]
[null,null,null,"XG",1500,125,15000,24300,150,"XG 1500-125"]
[null,null,null,"XG",2400,16,24000,38300,150,"XG 2400-16"]
[null,null,null,"XG",2400,19,24000,38500,150,"XG 2400-19"]
[null,null,null,"XG",2400,25,24000,38700,150,"XG 2400-25"]
[null,null,null,"XG",2400,32,24000,38600,150,"XG 2400-32"]
[null,null,null,"XG",2400,38,24000,38400,150,"XG 2400-38"]
[null,null,null,"XG",2400,50,24000,39200,150,"XG 2400-50"]
[null,null,null,"XG",2400,63,24000,39200,150,"XG 2400-63"]
[null,null,null,"XG",2400,75,24000,39200,150,"XG 2400-75"]
[null,null,null,"XG",2400,80,24000,39200,150,"XG 2400-80"]
[null,null,null,"XG",2400,100,24000,39300,150,"XG 2400-100"]
[null,null,null,"XG",2400,125,24000,39300,150,"XG 2400-125"]
[null,null,null,"XG",4200,16,42000,61700,150,"XG 4200-16"]
[null,null,null,"XG",4200,19,42000,63700,150,"XG 4200-19"]
[null,null,null,"XG",4200,25,42000,60800,150,"XG 4200-25"]
[null,null,null,"XG",4200,32,42000,64300,150,"XG 4200-32"]
[null,null,null,"XG",4200,38,42000,65800,150,"XG 4200-38"]
[null,null,null,"XG",4200,50,42000,67000,150,"XG 4200-50"]
[null,null,null,"XG",4200,63,42000,67800,150,"XG 4200-63"]
[null,null,null,"XG",4200,75,42000,68000,150,"XG 4200-75"]
[null,null,null,"XG",4200,80,42000,68600,150,"XG 4200-80"]
[null,null,null,"XG",4200,100,42000,69100,150,"XG 4200-100"]
[null,null,null,"XG",4200,125,42000,69600,150,"XG 4200-125"]
[null,null,null,"XG",6600,16,66300,89000,150,"XG 6600-16"]
[null,null,null,"XG",6600,19,66300,91000,150,"XG 6600-19"]
[null,null,null,"XG",6600,25,66300,93900,150,"XG 6600-25"]
[null,null,null,"XG",6600,32,66300,96100,150,"XG 6600-32"]
[null,null,null,"XG",6600,38,66300,98200,150,"XG 6600-38"]
[null,null,null,"XG",6600,50,66300,100600,150,"XG 6600-50"]
[null,null,null,"XG",6600,63,66300,102400,150,"XG 6600-63"]
[null,null,null,"XG",6600,75,66300,103400,150,"XG 6600-75"]
[null,null,null,"XG",6600,80,66300,104100,150,"XG 6600-80"]
[null,null,null,"XG",6600,100,66300,105400,150,"XG 6600-100"]
[null,null,null,"XG",6600,125,66300,106500,150,"XG 6600-125"]
[null,null,null,"R12","R12",7,500,597,180,"R12-7"]
[null,null,null,"R12","R12",10,500,634,180,"R12-10"]
[null,null,null,"R12","R12",12.7,500,657,180,"R12-12,7"]
[null,null,null,"R12","R12",15,500,670,180,"R12-15"]
[null,null,null,"R12","R12",19,500,689,180,"R12-19"]
[null,null,null,"R12","R12",25,500,707,180,"R12-25"]
[null,null,null,"R12","R12",38.1,500,730,180,"R12-38,1"]
[null,null,null,"R12","R12",50,500,742,180,"R12-50"]
[null,null,null,"R12","R12",63.5,500,789,180,"R12-63,5"]
[null,null,null,"R12","R12",75,500,788,180,"R12-75"]
[null,null,null,"R12","R12",80,500,827,180,"R12-80"]
[null,null,null,"R12","R12",100,500,817,180,"R12-100"]
[null,null,null,"R12","R12",125,500,810,180,"R12-125"]
[null,null,null,"R15","R15",7,700,865,180,"R15-7"]
[null,null,null,"R15","R15",10,700,895,180,"R15-10"]
[null,null,null,"R15","R15",12.7,700,914,180,"R15-12,7"]
[null,null,null,"R15","R15",15,700,927,180,"R15-15"]
[null,null,null,"R15","R15",19,700,943,180,"R15-19"]
[null,null,null,"R15","R15",25,700,961,180,"R15-25"]
[null,null,null,"R15","R15",38.1,700,1032,180,"R15-38,1"]
[null,null,null,"R15","R15",50,700,1033,180,"R15-50"]
[null,null,null,"R15","R15",63.5,700,1092,180,"R15-63,5"]
[null,null,null,"R15","R15",75,700,1082,180,"R15-75"]
[null,null,null,"R15","R15",80,700,1079,180,"R15-80"]
[null,null,null,"R15","R15",100,700,1069,180,"R15-100"]
[null,null,null,"R15","R15",125,700,1062,180,"R15-125"]
[null,null,null,"TL",750,12.5,7400,11400,150,"TL 750-12,5"]
[null,null,null,"TL",750,25,7400,11700,150,"TL 750-25"]
[null,null,null,"TL",750,37.5,7400,11800,150,"TL 750-37,5"]
[null,null,null,"TL",750,50,7400,11900,150,"TL 750-50"]
[null,null,null,"TL",750,62.5,7400,11900,150,"TL 750-62,5"]
[null,null,null,"TL",750,75,7400,11900,150,"TL 750-75"]
[null,null,null,"TL",750,80,7400,11900,150,"TL 750-80"]
[null,null,null,"TL",750,87.5,7400,11900,150,"TL 750-87,5"]
[null,null,null,"TL",750,100,7400,11900,150,"TL 750-100"]
[null,null,null,"TL",750,112.5,7400,12000,150,"TL 750-112,5"]
[null,null,null,"TL",750,125,7400,12000,150,"TL 750-125"]
[null,null,null,"TL",750,137.5,7400,12000,150,"TL 750-137,5"]
[null,null,null,"TL",750,150,7400,12000,150,"TL 750-150"]
[null,null,null,"TL",750,160,7400,12000,150,"TL 750-160"]
[null,null,null,"TL",750,175,7400,12000,150,"TL 750-175"]
[null,null,null,"TL",750,200,7400,12000,150,"TL 750-200"]
[null,null,null,"TL",750,225,7400,12000,150,"TL 750-225"]
[null,null,null,"TL",750,250,7400,12000,150,"TL 750-250"]
[null,null,null,"TL",1500,12.5,15000,18000,150,"TL 1500-12,5"]
[null,null,null,"TL",1500,25,15000,19200,150,"TL 1500-25"]
[null,null,null,"TL",1500,37.5,15000,20000,150,"TL 1500-37,5"]
[null,null,null,"TL",1500,50,15000,20400,150,"TL 1500-50"]
[null,null,null,"TL",1500,62.5,15000,20700,150,"TL 1500-62,5"]
[null,null,null,"TL",1500,75,15000,20900,150,"TL 1500-75"]
[null,null,null,"TL",1500,80,15000,21000,150,"TL 1500-80"]
[null,null,null,"TL",1500,87.5,15000,21100,150,"TL 1500-87,5"]
[null,null,null,"TL",1500,100,15000,21200,150,"TL 1500-100"]
[null,null,null,"TL",1500,112.5,15000,21400,150,"TL 1500-112,5"]
[null,null,null,"TL",1500,125,15000,21500,150,"TL 1500-125"]
[null,null,null,"TL",1500,137.5,15000,22000,150,"TL 1500-137,5"]
[null,null,null,"TL",1500,150,15000,22000,150,"TL 1500-150"]
[null,null,null,"TL",1500,160,15000,22100,150,"TL 1500-160"]
[null,null,null,"TL",1500,175,15000,22100,150,"TL 1500-175"]
[null,null,null,"TL",1500,200,15000,22100,150,"TL 1500-200"]
[null,null,null,"TL",1500,225,15000,22200,150,"TL 1500-225"]
[null,null,null,"TL",1500,250,15000,22200,150,"TL 1500-250"]
[null,null,null,"TL",3000,12.5,30000,38700,150,"TL 3000-12,5"]
[null,null,null,"TL",3000,25,30000,41800,150,"TL 3000-25"]
[null,null,null,"TL",3000,37.5,30000,43500,150,"TL 3000-37,5"]
[null,null,null,"TL",3000,50,30000,44400,150,"TL 3000-50"]
[null,null,null,"TL",3000,62.5,30000,45100,150,"TL 3000-62,5"]
[null,null,null,"TL",3000,75,30000,45500,150,"TL 3000-75"]
[null,null,null,"TL",3000,80,30000,45600,150,"TL 3000-80"]
[null,null,null,"TL",3000,87.5,30000,45800,150,"TL 3000-87,5"]
[null,null,null,"TL",3000,100,30000,46100,150,"TL 3000-100"]
[null,null,null,"TL",3000,112.5,30000,46300,150,"TL 3000-112,5"]
[null,null,null,"TL",3000,125,30000,46500,150,"TL 3000-125"]
[null,null,null,"TL",3000,137.5,30000,46600,150,"TL 3000-137,5"]
[null,null,null,"TL",3000,150,30000,46800,150,"TL 3000-150"]
[null,null,null,"TL",3000,160,30000,46900,150,"TL 3000-160"]
[null,null,null,"TL",3000,175,30000,47000,150,"TL 3000-175"]
[null,null,null,"TL",3000,200,30000,47100,150,"TL 3000-200"]
[null,null,null,"TL",3000,225,30000,47200,150,"TL 3000-225"]
[null,null,null,"TL",3000,250,30000,47300,150,"TL 3000-250"]
[null,null,null,"TL",5000,25,50000,80100,150,"TL 5000-25"]
[null,null,null,"TL",5000,37.5,50000,81900,150,"TL 5000-37,5"]
[null,null,null,"TL",5000,50,50000,82800,150,"TL 5000-50"]
[null,null,null,"TL",5000,62.5,50000,83500,150,"TL 5000-62,5"]
[null,null,null,"TL",5000,75,50000,83800,150,"TL 5000-75"]
[null,null,null,"TL",5000,80,50000,84000,150,"TL 5000-80"]
[null,null,null,"TL",5000,87.5,50000,84100,150,"TL 5000-87,5"]
[null,null,null,"TL",5000,100,50000,84400,150,"TL 5000-100"]
[null,null,null,"TL",5000,112.5,50000,84500,150,"TL 5000-112,5"]
[null,null,null,"TL",5000,125,50000,84700,150,"TL 5000-125"]
[null,null,null,"TL",5000,137.5,50000,84800,150,"TL 5000-137,5"]
[null,null,null,"TL",5000,150,50000,84900,150,"TL 5000-150"]
[null,null,null,"TL",5000,160,50000,85000,150,"TL 5000-160"]
[null,null,null,"TL",5000,175,50000,85100,150,"TL 5000-175"]
[null,null,null,"TL",5000,200,50000,85200,150,"TL 5000-200"]
[null,null,null,"TL",5000,225,50000,85300,150,"TL 5000-225"]
[null,null,null,"TL",5000,250,50000,85400,150,"TL 5000-250"]
[null,null,null,"TL",7500,25,75000,99900,150,"TL 7500-25"]
[null,null,null,"TL",7500,37.5,75000,104100,150,"TL 7500-37,5"]
[null,null,null,"TL",7500,50,75000,106800,150,"TL 7500-50"]
[null,null,null,"TL",7500,62.5,75000,108700,150,"TL 7500-62,5"]
[null,null,null,"TL",7500,75,75000,110100,150,"TL 7500-75"]
[null,null,null,"TL",7500,80,75000,115600,150,"TL 7500-80"]
[null,null,null,"TL",7500,87.5,75000,111200,150,"TL 7500-87,5"]
[null,null,null,"TL",7500,100,75000,112000,150,"TL 7500-100"]
[null,null,null,"TL",7500,112.5,75000,112700,150,"TL 7500-112,5"]
[null,null,null,"TL",7500,125,75000,113300,150,"TL 7500-125"]
[null,null,null,"TL",7500,137.5,75000,113700,150,"TL 7500-137,5"]
[null,null,null,"TL",7500,150,75000,114100,150,"TL 7500-150"]
[null,null,null,"TL",7500,160,75000,114400,150,"TL 7500-160"]
[null,null,null,"TL",7500,175,75000,114800,150,"TL 7500-175"]
[null,null,null,"TL",7500,200,75000,115300,150,"TL 7500-200"]
[null,null,null,"TL",7500,225,75000,115700,150,"TL 7500-225"]
[null,null,null,"TL",7500,250,75000,116000,150,"TL 7500-250"]
[null,null,null,"TUS",750,25,7400,12000,150,"TUS 750-25"]
[null,null,null,"TUS",750,38.1,7400,12000,150,"TUS 750-38,1"]
[null,null,null,"TUS",750,50,7400,12000,150,"TUS 750-50"]
[null,null,null,"TUS",750,63.5,7400,12000,150,"TUS 750-63,5"]
[null,null,null,"TUS",750,80,7400,12000,150,"TUS 750-80"]
[null,null,null,"TUS",750,100,7400,12000,150,"TUS 750-100"]
[null,null,null,"TUS",750,125,7400,12100,150,"TUS 750-125"]
[null,null,null,"TUS",750,160,7400,12100,150,"TUS 750-160"]
[null,null,null,"TUS",750,200,7400,12100,150,"TUS 750-200"]
[null,null,null,"TUS",750,250,7400,12100,150,"TUS 750-250"]
[null,null,null,"TUS",750,300,7400,12100,150,"TUS 750-300"]
[null,null,null,"TUS",1500,25,15000,23000,150,"TUS 1500-25"]
[null,null,null,"TUS",1500,38.1,15000,23000,150,"TUS 1500-38,1"]
[null,null,null,"TUS",1500,50,15000,23000,150,"TUS 1500-50"]
[null,null,null,"TUS",1500,63.5,15000,23000,150,"TUS 1500-63,5"]
[null,null,null,"TUS",1500,80,15000,23000,150,"TUS 1500-80"]
[null,null,null,"TUS",1500,100,15000,23000,150,"TUS 1500-100"]
[null,null,null,"TUS",1500,125,15000,23000,150,"TUS 1500-125"]
[null,null,null,"TUS",1500,160,15000,23000,150,"TUS 1500-160"]
[null,null,null,"TUS",1500,200,15000,23000,150,"TUS 1500-200"]
[null,null,null,"TUS",1500,250,15000,23000,150,"TUS 1500-250"]
[null,null,null,"TUS",1500,300,15000,23000,150,"TUS 1500-300"]
[null,null,null,"TUS",3000,25,30000,42000,150,"TUS 3000-25"]
[null,null,null,"TUS",3000,38.1,30000,43000,150,"TUS 3000-38,1"]
[null,null,null,"TUS",3000,50,30000,44000,150,"TUS 3000-50"]
[null,null,null,"TUS",3000,63.5,30000,45000,150,"TUS 3000-63,5"]
[null,null,null,"TUS",3000,80,30000,46000,150,"TUS 3000-80"]
[null,null,null,"TUS",3000,100,30000,47000,150,"TUS 3000-100"]
[null,null,null,"TUS",3000,125,30000,47000,150,"TUS 3000-125"]
[null,null,null,"TUS",3000,160,30000,47000,150,"TUS 3000-160"]
[null,null,null,"TUS",3000,200,30000,48000,150,"TUS 3000-200"]
[null,null,null,"TUS",3000,250,30000,48000,150,"TUS 3000-250"]
[null,null,null,"TUS",3000,300,30000,48000,150,"TUS 3000-300"]
[null,null,null,"TUS",5000,25,50000,71000,150,"TUS 5000-25"]
[null,null,null,"TUS",5000,38.1,50000,75000,150,"TUS 5000-38,1"]
[null,null,null,"TUS",5000,50,50000,77000,150,"TUS 5000-50"]
[null,null,null,"TUS",5000,63.5,50000,80000,150,"TUS 5000-63,5"]
[null,null,null,"TUS",5000,80,50000,81000,150,"TUS 5000-80"]
[null,null,null,"TUS",5000,100,50000,82000,150,"TUS 5000-100"]
[null,null,null,"TUS",5000,125,50000,82000,150,"TUS 5000-125"]
[null,null,null,"TUS",5000,160,50000,83000,150,"TUS 5000-160"]
[null,null,null,"TUS",5000,200,50000,84000,150,"TUS 5000-200"]
[null,null,null,"TUS",5000,250,50000,84000,150,"TUS 5000-250"]
[null,null,null,"TUS",5000,300,50000,84000,150,"TUS 5000-300"]
[null,null,null,"TUS",7500,25,75000,105000,150,"TUS 7500-25"]
[null,null,null,"TUS",7500,38.1,75000,110000,150,"TUS 7500-38,1"]
[null,null,null,"TUS",7500,50,75000,113000,150,"TUS 7500-50"]
[null,null,null,"TUS",7500,63.5,75000,115000,150,"TUS 7500-63,5"]
[null,null,null,"TUS",7500,80,75000,117000,150,"TUS 7500-80"]
[null,null,null,"TUS",7500,100,75000,119000,150,"TUS 7500-100"]
[null,null,null,"TUS",7500,125,75000,121000,150,"TUS 7500-125"]
[null,null,null,"TUS",7500,160,75000,122000,150,"TUS 7500-160"]
[null,null,null,"TUS",7500,200,75000,123000,150,"TUS 7500-200"]
[null,null,null,"TUS",7500,250,75000,124000,150,"TUS 7500-250"]
[null,null,null,"TUS",7500,300,75000,124000,150,"TUS 7500-300"]
[null,null,null,"TUR",10000,25,106000,138000,150,"TUR 10000-25"]
[null,null,null,"TUR",10000,38.1,106000,143000,150,"TUR 10000-38,1"]
[null,null,null,"TUR",10000,50,106000,147000,150,"TUR 10000-50"]
[null,null,null,"TUR",10000,63.5,106000,150000,150,"TUR 10000-63,5"]
[null,null,null,"TUR",10000,80,106000,152000,150,"TUR 10000-80"]
[null,null,null,"TUR",10000,100,106000,156000,150,"TUR 10000-100"]
[null,null,null,"TUR",10000,125,106000,157000,150,"TUR 10000-125"]
[null,null,null,"TUR",10000,160,106000,158000,150,"TUR 10000-160"]
[null,null,null,"TUR",10000,200,106000,160000,150,"TUR 10000-200"]
[null,null,null,"TUR",10000,250,106000,160000,150,"TUR 10000-250"]
[null,null,null,"TUR",10000,300,106000,160000,150,"TUR 10000-300"]
[null,null,null,"XF",750,10,7400,12100,150,"XF 750-10"]
[null,null,null,"XF",750,13,7400,12100,150,"XF 750-13"]
[null,null,null,"XF",750,16,7400,12100,150,"XF 750-16"]
[null,null,null,"XF",750,19,7400,11700,150,"XF 750-19"]
[null,null,null,"XF",750,25,7400,11800,150,"XF 750-25"]
[null,null,null,"XF",750,32,7400,11800,150,"XF 750-32"]
[null,null,null,"XF",750,38,7400,11800,150,"XF 750-38"]
[null,null,null,"XF",750,50,7400,11800,150,"XF 750-50"]
[null,null,null,"XF",750,63,7400,11800,150,"XF 750-63"]
[null,null,null,"XF",750,75,7400,11900,150,"XF 750-75"]
[null,null,null,"XF",750,80,7400,11900,150,"XF 750-80"]
[null,null,null,"XF",750,100,7400,11900,150,"XF 750-100"]
[null,null,null,"XF",750,125,7400,11900,150,"XF 750-125"]
[null,null,null,"XF",1000,13,9200,13800,150,"XF 1000-13"]
[null,null,null,"XF",1000,16,9200,13800,150,"XF 1000-16"]
[null,null,null,"XF",1000,19,9200,14000,150,"XF 1000-19"]
[null,null,null,"XF",1000,25,9200,14200,150,"XF 1000-25"]
[null,null,null,"XF",1000,32,9200,14300,150,"XF 1000-32"]
[null,null,null,"XF",1000,38,9200,14500,150,"XF 1000-38"]
[null,null,null,"XF",1000,50,9200,14600,150,"XF 1000-50"]
[null,null,null,"XF",1000,63,9200,14700,150,"XF 1000-63"]
[null,null,null,"XF",1000,75,9200,14700,150,"XF 1000-75"]
[null,null,null,"XF",1000,80,9200,14800,150,"XF 1000-80"]
[null,null,null,"XF",1000,100,9200,14800,150,"XF 1000-100"]
[null,null,null,"XF",1000,125,9200,14800,150,"XF 1000-125"]
[null,null,null,"XF",1500,13,15000,24000,150,"XF 1500-13"]
[null,null,null,"XF",1500,16,15000,24100,150,"XF 1500-16"]
[null,null,null,"XF",1500,19,15000,24200,150,"XF 1500-19"]
[null,null,null,"XF",1500,25,15000,24300,150,"XF 1500-25"]
[null,null,null,"XF",1500,32,15000,23800,150,"XF 1500-32"]
[null,null,null,"XF",1500,38,15000,23900,150,"XF 1500-38"]
[null,null,null,"XF",1500,50,15000,24000,150,"XF 1500-50"]
[null,null,null,"XF",1500,63,15000,24100,150,"XF 1500-63"]
[null,null,null,"XF",1500,75,15000,24200,150,"XF 1500-75"]
[null,null,null,"XF",1500,80,15000,24200,150,"XF 1500-80"]
[null,null,null,"XF",1500,100,15000,24300,150,"XF 1500-100"]
[null,null,null,"XF",1500,125,15000,24300,150,"XF 1500-125"]
[null,null,null,"XF",2400,16,24000,38300,150,"XF 2400-16"]
[null,null,null,"XF",2400,19,24000,38500,150,"XF 2400-19"]
[null,null,null,"XF",2400,25,24000,38700,150,"XF 2400-25"]
[null,null,null,"XF",2400,32,24000,38600,150,"XF 2400-32"]
[null,null,null,"XF",2400,38,24000,38400,150,"XF 2400-38"]
[null,null,null,"XF",2400,50,24000,39200,150,"XF 2400-50"]
[null,null,null,"XF",2400,63,24000,39200,150,"XF 2400-63"]
[null,null,null,"XF",2400,75,24000,39200,150,"XF 2400-75"]
[null,null,null,"XF",2400,80,24000,39200,150,"XF 2400-80"]
[null,null,null,"XF",2400,100,24000,39300,150,"XF 2400-100"]
[null,null,null,"XF",2400,125,24000,39300,150,"XF 2400-125"]

{"sheet":"Ford","index":2,"n_rows":122,"n_cols":12,"rows_kept":122,"cut":false,"hidden":true,"merged":[]}
["Från W-DX35-62M",null,null,"Serie","Modell","Slagl","Fi","Fs","Tryck","StrCode"]
[null,null,null,"WDX356203",2,16,2650,3500,150,"TU 250-16"]
[null,null,null,"WDX356203",2,25,2650,3500,150,"TU 250-25"]
[null,null,null,"WDX356203",2,38.1,2650,3500,150,"TU 250-38,1"]
[null,null,null,"WDX356203",2,50,2650,3500,150,"TU 250-50"]
[null,null,null,"WDX356203",2,63.5,2650,3500,150,"TU 250-63,5"]
[null,null,null,"WDX356203",2,80,2650,3500,150,"TU 250-80"]
[null,null,null,"WDX356203",2,100,2650,3500,150,"TU 250-100"]
[null,null,null,"WDX356203",2,125,2650,3500,150,"TU 250-125"]
[null,null,null,"WDX356203",7,16,7400,12000,150,"TU 750-16",null,"Finns inte i vår katalog"]
[null,null,null,"WDX356203",7,25,7400,12000,150,"TU 750-25"]
[null,null,null,"WDX356203",7,38.1,7400,12000,150,"TU 750-38,1"]
[null,null,null,"WDX356203",7,50,7400,12000,150,"TU 750-50"]
[null,null,null,"WDX356203",7,63.5,7400,12000,150,"TU 750-63,5"]
[null,null,null,"WDX356203",7,80,7400,12000,150,"TU 750-80"]
[null,null,null,"WDX356203",7,100,7400,12000,150,"TU 750-100"]
[null,null,null,"WDX356203",7,125,7400,12100,150,"TU 750-125"]
[null,null,null,"WDX356203",7,160,7400,12100,150,"TU 750-160"]
[null,null,null,"WDX356203",7,200,7400,12100,150,"TU 750-200"]
[null,null,null,"WDX356203",15,16,15000,23000,150,"TU 1500-16",null,"Finns inte i vår katalog"]
[null,null,null,"WDX356203",15,25,15000,23000,150,"TU 1500-25"]
[null,null,null,"WDX356203",15,38.1,15000,23000,150,"TU 1500-38,1"]
[null,null,null,"WDX356203",15,50,15000,23000,150,"TU 1500-50"]
[null,null,null,"WDX356203",15,63.5,15000,23000,150,"TU 1500-63,5"]
[null,null,null,"WDX356203",15,80,15000,23000,150,"TU 1500-80"]
[null,null,null,"WDX356203",15,100,15000,23000,150,"TU 1500-100"]
[null,null,null,"WDX356203",15,125,15000,23000,150,"TU 1500-125"]
[null,null,null,"WDX356203",15,160,15000,23000,150,"TU 1500-160"]
[null,null,null,"WDX356203",15,200,15000,23000,150,"TU 1500-200"]
[null,null,null,"WDX356203",30,16,30000,42000,150,"TU 3000-16",null,"Finns inte i vår katalog"]
[null,null,null,"WDX356203",30,25,30000,42000,150,"TU 3000-25"]
[null,null,null,"WDX356203",30,38.1,30000,43000,150,"TU 3000-38,1"]
[null,null,null,"WDX356203",30,50,30000,44000,150,"TU 3000-50"]
[null,null,null,"WDX356203",30,63.5,30000,45000,150,"TU 3000-63,5"]
[null,null,null,"WDX356203",30,80,30000,46000,150,"TU 3000-80"]
[null,null,null,"WDX356203",30,100,30000,47000,150,"TU 3000-100"]
[null,null,null,"WDX356203",30,125,30000,47000,150,"TU 3000-125"]
[null,null,null,"WDX356203",30,160,30000,47000,150,"TU 3000-160"]
[null,null,null,"WDX356203",30,200,30000,48000,150,"TU 3000-200"]
[null,null,null,"WDX356203",50,16,50000,71000,150,"TU 5000-16",null,"Finns inte i vår katalog"]
[null,null,null,"WDX356203",50,25,50000,71000,150,"TU 5000-25"]
[null,null,null,"WDX356203",50,38.1,50000,75000,150,"TU 5000-38,1"]
[null,null,null,"WDX356203",50,50,50000,77000,150,"TU 5000-50"]
[null,null,null,"WDX356203",50,63.5,50000,80000,150,"TU 5000-63,5"]
[null,null,null,"WDX356203",50,80,50000,81000,150,"TU 5000-80"]
[null,null,null,"WDX356203",50,100,50000,82000,150,"TU 5000-100"]
[null,null,null,"WDX356203",50,125,50000,82000,150,"TU 5000-125"]
[null,null,null,"WDX356203",50,160,50000,83000,150,"TU 5000-160"]
[null,null,null,"WDX356203",50,200,50000,84000,150,"TU 5000-200"]
[null,null,null,"WDX356203",75,16,75000,105000,150,"TU 7500-16",null,"Finns inte i vår katalog"]
[null,null,null,"WDX356203",75,25,75000,105000,150,"TU 7500-25"]
[null,null,null,"WDX356203",75,38.1,75000,110000,150,"TU 7500-38,1"]
[null,null,null,"WDX356203",75,50,75000,113000,150,"TU 7500-50"]
[null,null,null,"WDX356203",75,63.5,75000,115000,150,"TU 7500-63,5"]
[null,null,null,"WDX356203",75,80,75000,117000,150,"TU 7500-80"]
[null,null,null,"WDX356203",75,100,75000,119000,150,"TU 7500-100"]
[null,null,null,"WDX356203",75,125,75000,121000,150,"TU 7500-125"]
[null,null,null,"WDX356203",75,160,75000,122000,150,"TU 7500-160"]
[null,null,null,"WDX356203",75,200,75000,123000,150,"TU 7500-200"]
[null,null,null,"WDX356204",3,25,3600,5500,180,"X 350-25"]
[null,null,null,"WDX356204",3,38,3600,5500,180,"X 350-38"]
[null,null,null,"WDX356204",3,50,3600,5600,180,"X 350-50"]
[null,null,null,"WDX356204",3,63,3600,5500,180,"X 350-63"]
[null,null,null,"WDX356204",3,80,3600,5500,180,"X 350-80"]
[null,null,null,"WDX356204",3,100,3600,5500,180,"X 350-100"]
[null,null,null,"WDX356204",3,125,3600,5500,180,"X 350-125"]
[null,null,null,"WDX356204",5,25,4700,7300,150,"X 500-25"]
[null,null,null,"WDX356204",5,38,4700,7200,150,"X 500-38"]
[null,null,null,"WDX356204",5,50,4700,7200,150,"X 500-50"]
[null,null,null,"WDX356204",5,63,4700,7200,150,"X 500-63"]
[null,null,null,"WDX356204",5,80,4700,7100,150,"X 500-80"]
[null,null,null,"WDX356204",5,100,4700,7100,150,"X 500-100"]
[null,null,null,"WDX356204",5,125,4700,7100,150,"X 500-125"]
[null,null,null,"WDX356204",7,25,7400,11800,150,"X 750-25"]
[null,null,null,"WDX356204",7,38,7400,11800,150,"X 750-38"]
[null,null,null,"WDX356204",7,50,7400,11800,150,"X 750-50"]
[null,null,null,"WDX356204",7,63,7400,11800,150,"X 750-63"]
[null,null,null,"WDX356204",7,80,7400,11900,150,"X 750-80"]
[null,null,null,"WDX356204",7,100,7400,11900,150,"X 750-100"]
[null,null,null,"WDX356204",7,125,7400,11900,150,"X 750-125"]
[null,null,null,"WDX356204",10,25,9200,14200,150,"X 1000-25"]
[null,null,null,"WDX356204",10,38,9200,14500,150,"X 1000-38"]
[null,null,null,"WDX356204",10,50,9200,14600,150,"X 1000-50"]
[null,null,null,"WDX356204",10,63,9200,14700,150,"X 1000-63"]
[null,null,null,"WDX356204",10,80,9200,14800,150,"X 1000-80"]
[null,null,null,"WDX356204",10,100,9200,14800,150,"X 1000-100"]
[null,null,null,"WDX356204",10,125,9200,14800,150,"X 1000-125"]
[null,null,null,"WDX356204",15,25,15000,24300,150,"X 1500-25"]
[null,null,null,"WDX356204",15,38,15000,23900,150,"X 1500-38"]
[null,null,null,"WDX356204",15,50,15000,24000,150,"X 1500-50"]
[null,null,null,"WDX356204",15,63,15000,24100,150,"X 1500-63"]
[null,null,null,"WDX356204",15,80,15000,24200,150,"X 1500-80"]
[null,null,null,"WDX356204",15,100,15000,24300,150,"X 1500-100"]
[null,null,null,"WDX356204",15,125,15000,24300,150,"X 1500-125"]
[null,null,null,"WDX356204",24,25,24000,38700,150,"X 2400-25"]
[null,null,null,"WDX356204",24,38,24000,38400,150,"X 2400-38"]
[null,null,null,"WDX356204",24,50,24000,39200,150,"X 2400-50"]
[null,null,null,"WDX356204",24,63,24000,39200,150,"X 2400-63"]
[null,null,null,"WDX356204",24,80,24000,39200,150,"X 2400-80"]
[null,null,null,"WDX356204",24,100,24000,39300,150,"X 2400-100"]
[null,null,null,"WDX356204",24,125,24000,39300,150,"X 2400-125"]
[null,null,null,"WDX356204",42,25,42000,60800,150,"X 4200-25"]
[null,null,null,"WDX356204",42,38,42000,65800,150,"X 4200-38"]
[null,null,null,"WDX356204",42,50,42000,67000,150,"X 4200-50"]
[null,null,null,"WDX356204",42,63,42000,67800,150,"X 4200-63"]
[null,null,null,"WDX356204",42,80,42000,68600,150,"X 4200-80"]
[null,null,null,"WDX356204",42,100,42000,69100,150,"X 4200-100"]
[null,null,null,"WDX356204",42,125,42000,69600,150,"X 4200-125"]
[null,null,null,"WDX356204",66,25,66300,93900,150,"X 6600-25"]
[null,null,null,"WDX356204",66,38,66300,98200,150,"X 6600-38"]
[null,null,null,"WDX356204",66,50,66300,100600,150,"X 6600-50"]
[null,null,null,"WDX356204",66,63,66300,102400,150,"X 6600-63"]
[null,null,null,"WDX356204",66,80,66300,104100,150,"X 6600-80"]
[null,null,null,"WDX356204",66,100,66300,105400,150,"X 6600-100"]
[null,null,null,"WDX356204",66,125,66300,106500,150,"X 6600-125"]
[null,null,null,"WDX356204",95,25,95000,139000,150,"X 9500-25"]
[null,null,null,"WDX356204",95,38,95000,143000,150,"X 9500-38"]
[null,null,null,"WDX356204",95,50,95000,146000,150,"X 9500-50"]
[null,null,null,"WDX356204",95,63,95000,148000,150,"X 9500-63"]
[null,null,null,"WDX356204",95,80,95000,150000,150,"X 9500-80"]
[null,null,null,"WDX356204",95,100,95000,151000,150,"X 9500-100"]
[null,null,null,"WDX356204",95,125,95000,152000,150,"X 9500-125"]

{"sheet":"GM","index":3,"n_rows":190,"n_cols":10,"rows_kept":190,"cut":false,"hidden":true,"merged":[]}
["GM",null,null,"Serie","Modell","Slagl","Fi","Fs","Tryck","StrCode"]
[null,null,null,"90.25.00",1.5,10,2000,3060,180,"MC3 SP-10"]
[null,null,null,"90.25.00",1.5,16,2000,3070,180,"MC3 SP-16"]
[null,null,null,"90.25.00",1.5,25,2000,3080,180,"MC3 SP-25"]
[null,null,null,"90.25.00",1.5,50,2000,3090,180,"MC3 SP-50"]
[null,null,null,"90.25.00",1.5,80,2000,3040,180,"MC3 SP-80"]
[null,null,null,"90.25.00",1.5,100,2000,3050,180,"MC3 SP-100"]
[null,null,null,"90.25.00",1.5,125,2000,3060,180,"MC3 SP-125"]
[null,null,null,"90.25.00",2.5,10,2650,3500,150,"TU 250-10"]
[null,null,null,"90.25.00",2.5,16,2650,3500,150,"TU 250-16"]
[null,null,null,"90.25.00",2.5,25,2650,3500,150,"TU 250-25"]
[null,null,null,"90.25.00",2.5,50,2650,3500,150,"TU 250-50"]
[null,null,null,"90.25.00",2.5,80,2650,3500,150,"TU 250-80"]
[null,null,null,"90.25.00",2.5,100,2650,3500,150,"TU 250-100"]
[null,null,null,"90.25.00",2.5,125,2650,3500,150,"TU 250-125"]
[null,null,null,"90.25.00",5,25,4700,6400,150,"TU 500-25"]
[null,null,null,"90.25.00",5,50,4700,6600,150,"TU 500-50"]
[null,null,null,"90.25.00",5,80,4700,6700,150,"TU 500-80"]
[null,null,null,"90.25.00",5,100,4700,6700,150,"TU 500-100"]
[null,null,null,"90.25.00",5,125,4700,6700,150,"TU 500-125"]
[null,null,null,"90.25.00",5,160,4700,6700,150,"TU 500-160"]
[null,null,null,"90.25.00",7.5,25,7400,12000,150,"TU 750-25"]
[null,null,null,"90.25.00",7.5,50,7400,12000,150,"TU 750-50"]
[null,null,null,"90.25.00",7.5,80,7400,12000,150,"TU 750-80"]
[null,null,null,"90.25.00",7.5,100,7400,12000,150,"TU 750-100"]
[null,null,null,"90.25.00",7.5,125,7400,12100,150,"TU 750-125"]
[null,null,null,"90.25.00",7.5,160,7400,12100,150,"TU 750-160"]
[null,null,null,"90.25.00",7.5,200,7400,12100,150,"TU 750-200"]
[null,null,null,"90.25.00",7.5,250,7400,12100,150,"TU 750-250"]
[null,null,null,"90.25.00",7.5,300,7400,12100,150,"TU 750-300"]
[null,null,null,"90.25.00",15,25,15000,23000,150,"TU 1500-25"]
[null,null,null,"90.25.00",15,50,15000,23000,150,"TU 1500-50"]
[null,null,null,"90.25.00",15,80,15000,23000,150,"TU 1500-80"]
[null,null,null,"90.25.00",15,100,15000,23000,150,"TU 1500-100"]
[null,null,null,"90.25.00",15,125,15000,23000,150,"TU 1500-125"]
[null,null,null,"90.25.00",15,160,15000,23000,150,"TU 1500-160"]
[null,null,null,"90.25.00",15,200,15000,23000,150,"TU 1500-200"]
[null,null,null,"90.25.00",15,250,15000,23000,150,"TU 1500-250"]
[null,null,null,"90.25.00",15,300,15000,23000,150,"TU 1500-300"]
[null,null,null,"90.25.00",30,25,30000,42000,150,"TU 3000-25"]
[null,null,null,"90.25.00",30,50,30000,44000,150,"TU 3000-50"]
[null,null,null,"90.25.00",30,80,30000,46000,150,"TU 3000-80"]
[null,null,null,"90.25.00",30,100,30000,47000,150,"TU 3000-100"]
[null,null,null,"90.25.00",30,125,30000,47000,150,"TU 3000-125"]
[null,null,null,"90.25.00",30,160,30000,47000,150,"TU 3000-160"]
[null,null,null,"90.25.00",30,200,30000,48000,150,"TU 3000-200"]
[null,null,null,"90.25.00",30,250,30000,48000,150,"TU 3000-250"]
[null,null,null,"90.25.00",30,300,30000,48000,150,"TU 3000-300"]
[null,null,null,"90.25.00",50,25,50000,71000,150,"TU 5000-25"]
[null,null,null,"90.25.00",50,50,50000,77000,150,"TU 5000-50"]
[null,null,null,"90.25.00",50,80,50000,81000,150,"TU 5000-80"]
[null,null,null,"90.25.00",50,100,50000,82000,150,"TU 5000-100"]
[null,null,null,"90.25.00",50,125,50000,82000,150,"TU 5000-125"]
[null,null,null,"90.25.00",50,160,50000,83000,150,"TU 5000-160"]
[null,null,null,"90.25.00",50,200,50000,84000,150,"TU 5000-200"]
[null,null,null,"90.25.00",50,250,50000,84000,150,"TU 5000-250"]
[null,null,null,"90.25.00",50,300,50000,84000,150,"TU 5000-300"]
[null,null,null,"90.25.00",75,25,75000,105000,150,"TU 7500-25"]
[null,null,null,"90.25.00",75,50,75000,113000,150,"TU 7500-50"]
[null,null,null,"90.25.00",75,80,75000,117000,150,"TU 7500-80"]
[null,null,null,"90.25.00",75,100,75000,119000,150,"TU 7500-100"]
[null,null,null,"90.25.00",75,125,75000,121000,150,"TU 7500-125"]
[null,null,null,"90.25.00",75,160,75000,122000,150,"TU 7500-160"]
[null,null,null,"90.25.00",75,200,75000,123000,150,"TU 7500-200"]
[null,null,null,"90.25.00",75,250,75000,124000,150,"TU 7500-250"]
[null,null,null,"90.25.00",75,300,75000,124000,150,"TU 7500-300"]
[null,null,null,"90.25.00",100,25,106000,138000,150,"TU 10000-25"]
[null,null,null,"90.25.00",100,50,106000,147000,150,"TU 10000-50"]
[null,null,null,"90.25.00",100,80,106000,152000,150,"TU 10000-80"]
[null,null,null,"90.25.00",100,100,106000,156000,150,"TU 10000-100"]
[null,null,null,"90.25.00",100,125,106000,157000,150,"TU 10000-125"]
[null,null,null,"90.25.00",100,160,106000,158000,150,"TU 10000-160"]
[null,null,null,"90.25.00",100,200,106000,160000,150,"TU 10000-200"]
[null,null,null,"90.25.00",100,250,106000,160000,150,"TU 10000-250"]
[null,null,null,"90.25.00",100,300,106000,160000,150,"TU 10000-300"]
[null,null,null,"90.25.08",3.5,10,3600,5900,180,"X 350-10"]
[null,null,null,"90.25.08",3.5,16,3600,5300,180,"X 350-16"]
[null,null,null,"90.25.08",3.5,25,3600,5500,180,"X 350-25"]
[null,null,null,"90.25.08",3.5,50,3600,5600,180,"X 350-50"]
[null,null,null,"90.25.08",3.5,63,3600,5500,180,"X 350-63"]
[null,null,null,"90.25.08",3.5,80,3600,5500,180,"X 350-80"]
[null,null,null,"90.25.08",3.5,100,3600,5500,180,"X 350-100"]
[null,null,null,"90.25.08",3.5,125,3600,5500,180,"X 350-125"]
[null,null,null,"90.25.08",5,16,4700,7200,150,"X 500-16"]
[null,null,null,"90.25.08",5,25,4700,7300,150,"X 500-25"]
[null,null,null,"90.25.08",5,50,4700,7200,150,"X 500-50"]
[null,null,null,"90.25.08",5,63,4700,7200,150,"X 500-63"]
[null,null,null,"90.25.08",5,80,4700,7100,150,"X 500-80"]
[null,null,null,"90.25.08",5,100,4700,7100,150,"X 500-100"]
[null,null,null,"90.25.08",5,125,4700,7100,150,"X 500-125"]
[null,null,null,"90.25.08",7.5,16,7400,12100,150,"X 750-16"]
[null,null,null,"90.25.08",7.5,25,7400,11800,150,"X 750-25"]
[null,null,null,"90.25.08",7.5,50,7400,11800,150,"X 750-50"]
[null,null,null,"90.25.08",7.5,63,7400,11800,150,"X 750-63"]
[null,null,null,"90.25.08",7.5,80,7400,11900,150,"X 750-80"]
[null,null,null,"90.25.08",7.5,100,7400,11900,150,"X 750-100"]
[null,null,null,"90.25.08",7.5,125,7400,11900,150,"X 750-125"]
[null,null,null,"90.25.08",10,16,9200,13800,150,"X 1000-16"]
[null,null,null,"90.25.08",10,25,9200,14200,150,"X 1000-25"]
[null,null,null,"90.25.08",10,50,9200,14600,150,"X 1000-50"]
[null,null,null,"90.25.08",10,63,9200,14700,150,"X 1000-63"]
[null,null,null,"90.25.08",10,80,9200,14800,150,"X 1000-80"]
[null,null,null,"90.25.08",10,100,9200,14800,150,"X 1000-100"]
[null,null,null,"90.25.08",10,125,9200,14800,150,"X 1000-125"]
[null,null,null,"90.25.08",24,16,24000,38300,150,"X 2400-16"]
[null,null,null,"90.25.08",24,25,24000,38700,150,"X 2400-25"]
[null,null,null,"90.25.08",24,50,24000,39200,150,"X 2400-50"]
[null,null,null,"90.25.08",24,63,24000,39200,150,"X 2400-63"]
[null,null,null,"90.25.08",24,80,24000,39200,150,"X 2400-80"]
[null,null,null,"90.25.08",24,100,24000,39300,150,"X 2400-100"]
[null,null,null,"90.25.08",24,125,24000,39300,150,"X 2400-125"]
[null,null,null,"90.25.08",42,16,42000,61700,150,"X 4200-16"]
[null,null,null,"90.25.08",42,25,42000,60800,150,"X 4200-25"]
[null,null,null,"90.25.08",42,50,42000,67000,150,"X 4200-50"]
[null,null,null,"90.25.08",42,63,42000,67800,150,"X 4200-63"]
[null,null,null,"90.25.08",42,80,42000,68600,150,"X 4200-80"]
[null,null,null,"90.25.08",42,100,42000,69100,150,"X 4200-100"]
[null,null,null,"90.25.08",42,125,42000,69600,150,"X 4200-125"]
[null,null,null,"90.25.08",66,16,66300,89000,150,"X 6600-16"]
[null,null,null,"90.25.08",66,25,66300,93900,150,"X 6600-25"]
[null,null,null,"90.25.08",66,50,66300,100600,150,"X 6600-50"]
[null,null,null,"90.25.08",66,63,66300,102400,150,"X 6600-63"]
[null,null,null,"90.25.08",66,80,66300,104100,150,"X 6600-80"]
[null,null,null,"90.25.08",66,100,66300,105400,150,"X 6600-100"]
[null,null,null,"90.25.08",66,125,66300,106500,150,"X 6600-125"]
[null,null,null,"90.25.08",95,25,95000,139000,150,"X 9500-25"]
[null,null,null,"90.25.08",95,50,95000,146000,150,"X 9500-50"]
[null,null,null,"90.25.08",95,63,95000,148000,150,"X 9500-63"]
[null,null,null,"90.25.08",95,80,95000,150000,150,"X 9500-80"]
[null,null,null,"90.25.08",95,100,95000,151000,150,"X 9500-100"]
[null,null,null,"90.25.08",95,125,95000,152000,150,"X 9500-125"]
[null,null,null,"90.25.08",199,25,200000,270000,150,"X 20000-25"]
[null,null,null,"90.25.08",199,50,200000,298000,150,"X 20000-50"]
[null,null,null,"90.25.08",199,63,200000,307000,150,"X 20000-63"]
[null,null,null,"90.25.08",199,80,200000,315000,150,"X 20000-80"]
[null,null,null,"90.25.08",199,100,200000,323000,150,"X 20000-100"]
[null,null,null,"90.25.08",199,125,200000,330000,150,"X 20000-125"]
[null,null,null,"90.25.05",7.5,50,9200,13200,150,"TX 1000-50"]
[null,null,null,"90.25.05",7.5,80,9200,13800,150,"TX 1000-80"]
[null,null,null,"90.25.05",7.5,100,9200,14100,150,"TX 1000-100"]
[null,null,null,"90.25.05",7.5,125,9200,14300,150,"TX 1000-125"]
[null,null,null,"90.25.05",7.5,160,9200,14500,150,"TX 1000-160"]
[null,null,null,"90.25.05",7.5,200,9200,14700,150,"TX 1000-200"]
[null,null,null,"90.25.05",7.5,250,9200,14800,150,"TX 1000-250"]
[null,null,null,"90.25.05",7.5,300,9200,14900,150,"TX 1000-300"]
[null,null,null,"90.25.05",15,25,24000,37100,150,"TX 2400-25"]
[null,null,null,"90.25.05",15,50,24000,37900,150,"TX 2400-50"]
[null,null,null,"90.25.05",15,80,24000,38300,150,"TX 2400-80"]
[null,null,null,"90.25.05",15,100,24000,38500,150,"TX 2400-100"]
[null,null,null,"90.25.05",15,125,24000,38700,150,"TX 2400-125"]
[null,null,null,"90.25.05",15,160,24000,38800,150,"TX 2400-160"]
[null,null,null,"90.25.05",15,200,24000,38900,150,"TX 2400-200"]
[null,null,null,"90.25.05",15,250,24000,39000,150,"TX 2400-250"]
[null,null,null,"90.25.05",15,300,24000,39100,150,"TX 2400-300"]
[null,null,null,"90.25.05",30,25,42000,52100,150,"TX 4200-25"]
[null,null,null,"90.25.05",30,50,42000,57200,150,"TX 4200-50"]
[null,null,null,"90.25.05",30,80,42000,60800,150,"TX 4200-80"]
[null,null,null,"90.25.05",30,100,42000,62500,150,"TX 4200-100"]
[null,null,null,"90.25.05",30,125,42000,64000,150,"TX 4200-125"]
[null,null,null,"90.25.05",30,160,42000,65500,150,"TX 4200-160"]
[null,null,null,"90.25.05",30,200,42000,66800,150,"TX 4200-200"]
[null,null,null,"90.25.05",30,250,42000,67900,150,"TX 4200-250"]
[null,null,null,"90.25.05",30,300,42000,68700,150,"TX 4200-300"]
[null,null,null,"90.25.05",50,25,66300,79500,150,"TX 6600-25"]
[null,null,null,"90.25.05",50,50,66300,87000,150,"TX 6600-50"]
[null,null,null,"90.25.05",50,80,66300,92600,150,"TX 6600-80"]
[null,null,null,"90.25.05",50,100,66300,95100,150,"TX 6600-100"]
[null,null,null,"90.25.05",50,125,66300,97600,150,"TX 6600-125"]
[null,null,null,"90.25.05",50,160,66300,100100,150,"TX 6600-160"]
[null,null,null,"90.25.05",50,200,66300,102200,150,"TX 6600-200"]
[null,null,null,"90.25.05",50,250,66300,104000,150,"TX 6600-250"]
[null,null,null,"90.25.05",50,300,66300,105300,150,"TX 6600-300"]
[null,null,null,"90.25.05",75,25,95000,113200,150,"TX 9500-25"]
[null,null,null,"90.25.05",75,50,95000,123300,150,"TX 9500-50"]
[null,null,null,"90.25.05",75,80,95000,130800,150,"TX 9500-80"]
[null,null,null,"90.25.05",75,100,95000,134300,150,"TX 9500-100"]
[null,null,null,"90.25.05",75,125,95000,137600,150,"TX 9500-125"]
[null,null,null,"90.25.05",75,160,95000,141000,150,"TX 9500-160"]
[null,null,null,"90.25.05",75,200,95000,143800,150,"TX 9500-200"]
[null,null,null,"90.25.05",75,250,95000,146300,150,"TX 9500-250"]
[null,null,null,"90.25.05",75,300,95000,148200,150,"TX 9500-300"]
[null,null,null,"90.25.05",100,25,200000,242000,150,"TX 20000-25"]
[null,null,null,"90.25.05",100,50,200000,266800,150,"TX 20000-50"]
[null,null,null,"90.25.05",100,80,200000,285700,150,"TX 20000-80"]
[null,null,null,"90.25.05",100,100,200000,294600,150,"TX 20000-100"]
[null,null,null,"90.25.05",100,125,200000,303100,150,"TX 20000-125"]
[null,null,null,"90.25.05",100,160,200000,312000,150,"TX 20000-160"]
[null,null,null,"90.25.05",100,200,200000,319000,150,"TX 20000-200"]
[null,null,null,"90.25.05",100,250,200000,325600,150,"TX 20000-250"]
[null,null,null,"90.25.05",100,300,200000,330600,150,"TX 20000-300"]

{"sheet":"Unit conv","index":4,"n_rows":35,"n_cols":10,"rows_kept":35,"cut":false,"hidden":true,"merged":[]}
[]
[]
[]
[]
[]
[]
[]
[]
[]
[]
[]
["Unit convertion"]
[]
[]
[null,null,"Pressure"]
[null,1,"bar",1]
["Konverteringsfaktor",{"$f":"INDEX(D16:D17,B16)","v":1},"psi",14.503773799999999,null,null,null,150,"bar",{"$f":"H17*B17","v":150}]
[null,{"$f":"INDEX(C16:C17,B16)","v":"bar"}]
[]
[]
[null,null,"Force"]
[null,1,"kN",1]
["Konverteringsfaktor",{"$f":"INDEX(D22:D23,B22)","v":1},"lbf",224.80889999999999]
[null,{"$f":"INDEX(C22:C23,B22)","v":"kN"}]
[]
[]
[]
[null,2,"° C"]
[null,null,"° F"]
[]
[]
[null,null,"Polytrop kurva",null,"Förskjutning för polytropa värden"]
[null,1,"Isothermal ",0,"Förskjutning 0 rader"]
["Förskjutningsfaktor",{"$f":"INDEX(D33:D34,B33)","v":0},"Polytropic",3,"Förskjutning 3 rader"]
["Väljer y-värden att plotta"]

{"sheet":"Fjäderkurva","index":5,"n_rows":56,"n_cols":34,"rows_kept":56,"cut":false,"hidden":true,"merged":[]}
[null,null,"Ändring"]
[null,null,"2016-06-07"]
[]
[]
[]
[]
[null,null,null,null,"Input från annan flik",null,null,null,null,null,null,"Virtuell slagvolym"]
[]
[null,null,"Fi",{"$f":"Calculator!N2","v":2650},"N","Initialkraft vid 20 °C",null,null,null,null,null,"Kurva",null,null,null,null,"Iso t kraft per fj"]
[null,null,"Fs",{"$f":"Calculator!O2","v":3500},"N","Detta är isoterm kraftökning",null,null,null,null,null,null,"Slag (mm)","Virtuell volym","Vi / Vf","(Vi / Vf)^kappa","kN eller lbf","Isothermal force at 20 °C","Isothermal force at estimated running temperature","Polytrop kraft per fjäder","Polytropic force at 20 °C","Polytropic force at estimated running temperature",null,null,null,null,"Driftstemperatur",null,null,null,null,null,{"$f":"OFFSET(R10,0,'Unit conv'!$B$34,1,1)","v":"Isothermal force at 20 °C"},{"$f":"OFFSET(S10,0,'Unit conv'!$B$34,1,1)","v":"Isothermal force at estimated running temperature"}]
[null,null,"slagl",{"$f":"Calculator!M2","v":10},"mm",null,null,null,null,null,null,0,{"$f":"L11*$D$14","v":0},{"$f":"$D$26-M11","v":41.176470588235304},{"$f":"$D$26/N11","v":1},{"$f":"O11^$D$35","v":1},{"$f":"$D$45*O11","v":2.65},{"$f":"Q11*$D$15","v":2.65},{"$f":"R11*$AA$17","v":2.7191670794911036},{"$f":"$D$45*P11","v":2.65},{"$f":"$D$15*T11","v":2.65},{"$f":"U11*$AA$17","v":2.7191670794911036},null,null,null,null,{"$f":"Calculator!K10","v":22.647529921091891},null,null,null,null,null,{"$f":"OFFSET(R11,0,'Unit conv'!$B$34,1,1)","v":2.65},{"$f":"OFFSET(S11,0,'Unit conv'!$B$34,1,1)","v":2.7191670794911036}]
[null,null,"Utnyttjad slagl",{"$f":"Calculator!X18","v":10},"mm",null,null,null,null,null,null,0.1,1,40.176470588235304,1.0248901903367496,1.0350188774795315,2.7159590043923862,2.7159590043923862,2.7868476656570609,2.7428000253207583,2.7428000253207583,{"$f":"U12*$AA$17","v":2.8143892582941783},null,null,null,null,{"$f":"Calculator!K15","v":32.647529921091888},null,null,null,null,null,{"$f":"OFFSET(R12,0,'Unit conv'!$B$34,1,1)","v":2.7159590043923862},{"$f":"OFFSET(S12,0,'Unit conv'!$B$34,1,1)","v":2.7868476656570609}]
[null,null,"Använd slaglängd ev reducerad till max",{"$f":"IF(D12>D11,D11,D12)","v":10},"mm",null,null,null,null,null,null,0.2,2,39.176470588235304,1.0510510510510511,1.0721939076620992,2.7852852852852852,2.7852852852852852,2.8579834168825413,2.8413138553045627,2.8413138553045627,2.9154743765457045,null,null,null,null,"Medel",null,null,null,null,null,{"$f":"OFFSET(R13,0,'Unit conv'!$B$34,1,1)","v":2.7852852852852852},{"$f":"OFFSET(S13,0,'Unit conv'!$B$34,1,1)","v":2.8579834168825413}]
[null,null,"utnyttjad slagl mm",{"$f":"D13","v":10},"mm",null,null,null,null,null,null,0.3,3,38.176470588235304,1.078582434514638,1.1117181102047662,2.8582434514637907,2.8582434514637907,2.9328458484495727,2.9460529920426302,2.9460529920426302,3.0229472869428631,null,null,null,null,{"$f":"IFERROR((AA11+AA12)*0.5,20)","v":27.647529921091888},null,null,null,null,null,{"$f":"OFFSET(R14,0,'Unit conv'!$B$34,1,1)","v":2.8582434514637907},{"$f":"OFFSET(S14,0,'Unit conv'!$B$34,1,1)","v":2.9328458484495727}]
[null,null,"Antal fjädrar",{"$f":"Calculator!X16","v":1},"st",null,null,null,null,null,null,0.4,4,37.176470588235304,1.1075949367088607,1.1538074702036489,2.9351265822784809,2.9351265822784809,3.0117356893097669,3.0575897960396694,3.0575897960396694,3.1373952890486745,null,null,null,null,null,null,null,null,null,null,{"$f":"OFFSET(R15,0,'Unit conv'!$B$34,1,1)","v":2.9351265822784809},{"$f":"OFFSET(S15,0,'Unit conv'!$B$34,1,1)","v":3.0117356893097669}]
[null,null,"Status tryckenhet",{"$f":"'Unit conv'!B17","v":1},{"$f":"'Unit conv'!B18","v":"bar"},null,null,null,null,null,null,0.5,5,36.176470588235304,1.1382113821138211,1.1987043847336178,3.0162601626016259,3.0162601626016259,3.0949869197459718,3.1765666195440874,3.1765666195440874,3.2594775010092922,null,null,null,null,"ktemp (273+T)/(237+20)",null,null,null,null,null,{"$f":"OFFSET(R16,0,'Unit conv'!$B$34,1,1)","v":3.0162601626016259},{"$f":"OFFSET(S16,0,'Unit conv'!$B$34,1,1)","v":3.0949869197459718}]
[null,null,"Status kraftenhet",{"$f":"'Unit conv'!B23","v":1},{"$f":"'Unit conv'!B24","v":"kN"},null,null,null,null,null,null,0.6,6,35.176470588235304,1.1705685618729096,1.246681739919657,3.1020066889632103,3.1020066889632103,3.1829714977320611,3.3037066107870912,3.3037066107870912,3.3899359457922218,null,null,null,null,{"$f":"(273+AA14)/(273+20)","v":1.0261007847136241},null,null,null,null,null,{"$f":"OFFSET(R17,0,'Unit conv'!$B$34,1,1)","v":3.1020066889632103},{"$f":"OFFSET(S17,0,'Unit conv'!$B$34,1,1)","v":3.1829714977320611}]
[null,null,"tryck från control",{"$f":"Calculator!X17","v":150},null,null,null,null,null,null,null,0.7,7,34.176470588235304,1.2048192771084336,1.2980477558381693,3.1927710843373491,3.1927710843373491,3.2761049150495225,3.4398265529711485,3.4398265529711485,3.5296087252824559,null,null,null,null,null,null,null,null,null,null,{"$f":"OFFSET(R18,0,'Unit conv'!$B$34,1,1)","v":3.1927710843373491},{"$f":"OFFSET(S18,0,'Unit conv'!$B$34,1,1)","v":3.2761049150495225}]
[null,null,"ger i bar",{"$f":"D18/D16","v":150},"bar",null,null,null,null,null,null,0.8,8,33.176470588235304,1.2411347517730495,1.3531517715111263,3.289007092198581,3.289007092198581,3.3748527582336392,3.5858521945044846,3.5858521945044846,3.6794457506481226,null,null,null,null,null,null,null,null,null,null,{"$f":"OFFSET(R19,0,'Unit conv'!$B$34,1,1)","v":3.289007092198581},{"$f":"OFFSET(S19,0,'Unit conv'!$B$34,1,1)","v":3.3748527582336392}]
[null,null,"Fjädertryck ur tabell",{"$f":"Calculator!P2","v":150},"bar",null,null,null,null,null,null,0.9,9,32.176470588235304,1.2797074954296159,1.412391187495964,3.3912248628884822,3.3912248628884822,3.479738492950224,3.7428366468643044,3.7428366468643044,3.8405276204023724,null,null,null,null,null,null,null,null,null,null,{"$f":"OFFSET(R20,0,'Unit conv'!$B$34,1,1)","v":3.3912248628884822},{"$f":"OFFSET(S20,0,'Unit conv'!$B$34,1,1)","v":3.479738492950224}]
[null,null,null,null,null,null,null,null,null,null,null,1,10,31.176470588235304,1.320754716981132,1.4762198425381252,3.4999999999999996,3.4999999999999996,3.5913527464976838,3.9119825827260315,3.9119825827260315,4.0140883979212107,null,null,null,null,null,null,null,null,null,null,{"$f":"OFFSET(R21,0,'Unit conv'!$B$34,1,1)","v":3.4999999999999996},{"$f":"OFFSET(S21,0,'Unit conv'!$B$34,1,1)","v":3.5913527464976838}]
[null,null,"Isotermt är Vi/Vf=(Ff/Fi)",null,null,null,null,"Vi/Vf = (Ff/Fi)^(1/1,4)"]
[]
[null,null,"Ff/Fi = Vi/Vf = k",{"$f":"D10/D9","v":1.320754716981132}]
[]
[null,null,"l = k*s / (k-1)",{"$f":"(D24*D11)/(D24-1)","v":41.176470588235304},"mm","Virtuell volym, Viv"]
[]
[null,null,null,{"$f":"D26-D11","v":31.176470588235304},"mm","Virtuell slutvolym, Vfv"]
[]
[null,null,"Slutvolym, utnyttjad slagl",{"$f":"D26-D14","v":31.176470588235304},"mm","Virtuell slutvolym för utnyttjad slagl, Vfvny"]
[]
[null,null,"nytt Viny / Vfny",{"$f":"D26/D30","v":1.320754716981132}]
[]
[]
[null,null,"kappa",1.4]
[null,null,"kraft och tryckfaktor  (Viny / Vfny)^kappa",{"$f":"D32^D35","v":1.4762198425381252},"Detta ska tas multiplicerat med Fi eller Pi"]
[]
[null,null,null,{"$f":"D9*D36","v":3911.982582726032}]
[]
[]
[]
[null,null,"ger sluttryck",{"$f":"D19*D36","v":221.43297638071877}]
[]
[null,null,"Fyllutnyttande",{"$f":"D19/D20","v":1}]
[null,null,"Ger initialkraft",{"$f":"D44*D9*0.001*D17","v":2.65},{"$f":"E17","v":"kN"}]
[null,null,"Ger initailalkraft totalt",{"$f":"$AH$11","v":2.7191670794911036},{"$f":"E17","v":"kN"}]
[null,null,"ger slutkraft per fjäder",{"$f":"D9*D32*D44*0.001*D17","v":3.5},"Isotermt"]
[null,null,"Ger slutkraft totalt",{"$f":"$AH$21","v":3.5913527464976838}]
[null,null,"Utnyttjad slaglängd"]
[]
[null,null,"Felmeddelande om för lång slaglängd",{"$f":"IF(D12>D11,\"Used stroke length is more than 100%!\",\"\")","v":""}]
[]
[]
[]
[]
[null,null,null,null,"Utput till annan flik"]

{"sheet":"Tempdatabladet","index":6,"n_rows":167,"n_cols":41,"rows_kept":167,"cut":false,"hidden":true,"merged":[]}
["Nya kolumner",null,"Gröna kolumner visas i databladet"]
[]
[null,null,null,null,null,"Kolumn F"]
[null,null,null,null,null,"Tagit bort listboxarna/MC"]
[]
[null,null,null,null,null,null,null,null,null,null,null,null,null,null,null,null,null,null,null,null,null,null,null,null,null,null,null,null,null,null,null,null,"Införs i steg"]
[null,null,"T4SC-","CU4",null,"Strokelength","Utilized","Fill pressure","Frequency","Env./Tool","Env./Tool","Env./Tool",null,null,null,"Estimated running",null,{"$f":"P7","v":"Estimated running"},null,null,null,"F° env./tool",null,null,null,null,null,{"$f":"P7","v":"Estimated running"},null,null,null,null,1]
[null,null,null,null,null,null,"strokelength",null,null,"temperature","temperature","temperature","Rörlängd","Röryta","Fjäderfaktor","temperature between:",null,"temperature between:",null,null,null,"temp.",null,null,null,null,null,{"$f":"P8","v":"temperature between:"},null,null,null,null,1]
[null,null,"Spring Size","Spring Size",null,null,"[mm]","[Bar]","[spm]","[°C]","[°F]","[°C]","L (approx)","A","Kf","[°C]","[°C]","[°C]","[°C]","P som [°F]","Q som [°F]","to C°","N + T","U + 10°C","U to F°","V to F°","[°F]","[°F]","[°C]","[°C]",null,null,1]
[{"$f":"CONCATENATE(\"CU4\",\" \",D10)","v":"CU4 420"},null,420,420,null,{"$f":"Calculator!$M$2","v":10},{"$f":"Fjäderkurva!$D$14","v":10},{"$f":"Fjäderkurva!$D$19","v":150},{"$f":"Calculator!$X$19","v":20},{"$f":"Calculator!$X$20","v":20},77,{"$f":"5/9*(K10-32)","v":25},{"$f":"39.1+2.146*F10","v":60.56},{"$f":"24.9*PI()*M10*0.01","v":47.373457924248072},{"$f":"0.49+0.017*F10-0.00037*F10^2","v":0.623},{"$f":"G10*H10*I10*(G10/F10)^1.1/(150*N10*O10)+J10","v":26.776522157887584},{"$f":"P10+10","v":36.776522157887584},26.776522157887584,36.776522157887584,{"$f":"9/5*R10+32","v":80.197739884197659},{"$f":"9/5*S10+32","v":98.197739884197659},{"$f":"5/9*(K10-32)","v":25},{"$f":"P10+V10","v":51.776522157887584},{"$f":"W10+10","v":61.776522157887584},{"$f":"9/5*W10+32","v":125.19773988419766},{"$f":"9/5*X10+32","v":143.19773988419766},{"$f":"Y10","v":125.19773988419766},143.19773988419766,{"$f":"5/9*(AA10-32)","v":51.776522157887591},{"$f":"5/9*(AB10-32)","v":61.776522157887591},{"$f":"IF(Q10>80,\"High temp. Please contact your distributor for advice\",IF(H10>150,\"Too high charging pressure!\",\"\"))","v":""},{"$f":"AE10","v":""},1,"Samma som CU",null,null,null,null,null,33,43]
[{"$f":"CONCATENATE(\"CU4\",\" \",D11)","v":"CU4 740"},null,740,740,null,{"$f":"Calculator!$M$2","v":10},{"$f":"Fjäderkurva!$D$14","v":10},{"$f":"Fjäderkurva!$D$19","v":150},{"$f":"Calculator!$X$19","v":20},{"$f":"Calculator!$X$20","v":20},77,{"$f":"5/9*(K11-32)","v":25},{"$f":"45+2*F11","v":65},{"$f":"32*PI()*M11*0.01","v":65.345127194667697},{"$f":"2.5-0.039*F11","v":2.11},{"$f":"G11*H11*I11*(G11/F11)^1.1/(150*N11*O11)+J11","v":21.450555441960404},31.450555441960404,21.450555441960404,31.450555441960404,{"$f":"9/5*R11+32","v":70.610999795528727},88.610999795528727,{"$f":"5/9*(K11-32)","v":25},{"$f":"P11+V11","v":46.450555441960404},{"$f":"W11+10","v":56.450555441960404},{"$f":"9/5*W11+32","v":115.61099979552873},133.61099979552873,115.61099979552873,133.61099979552873,{"$f":"5/9*(AA11-32)","v":46.450555441960404},56.450555441960404,"",{"$f":"AE11","v":""},1,"Samma som CU",null,null,null,null,null,30,40]
["CU4 1000",null,1000,1000,null,{"$f":"Calculator!$M$2","v":10},{"$f":"Fjäderkurva!$D$14","v":10},{"$f":"Fjäderkurva!$D$19","v":150},{"$f":"Calculator!$X$19","v":20},{"$f":"Calculator!$X$20","v":20},77,25,{"$f":"38.9+2.88*F12","v":67.699999999999989},{"$f":"37.9*PI()*M12*0.01","v":80.607926783602977},{"$f":"0.8248-0.002*F12","v":0.80479999999999996},23.082934349486564,33.082934349486564,23.082934349486564,33.082934349486564,73.549281829075824,91.549281829075824,25,48.082934349486564,58.082934349486564,118.54928182907582,136.54928182907582,118.54928182907582,136.54928182907582,48.082934349486571,58.082934349486571,"","",1,"Samma som CU",null,null,null,null,null,28,38]
["CU4 1800",null,1800,1800,null,{"$f":"Calculator!$M$2","v":10},{"$f":"Fjäderkurva!$D$14","v":10},{"$f":"Fjäderkurva!$D$19","v":150},{"$f":"Calculator!$X$19","v":20},{"$f":"Calculator!$X$20","v":20},77,25,{"$f":"46.6+2.535*F13","v":71.95},{"$f":"50.2*PI()*M13*0.01","v":113.4708708957444},{"$f":"0.8713-0.0118*F13","v":0.75329999999999997},22.339794092421435,32.339794092421435,22.339794092421435,32.339794092421435,72.211629366358579,90.211629366358579,25,47.339794092421435,57.339794092421435,117.21162936635858,135.21162936635858,117.21162936635858,135.21162936635858,47.339794092421435,57.339794092421435,"","",1,"Samma som CU + slagl. 65",null,null,null,null,null,30,40]
["CU4 2900",null,2900,2900,null,{"$f":"Calculator!$M$2","v":10},{"$f":"Fjäderkurva!$D$14","v":10},{"$f":"Fjäderkurva!$D$19","v":150},{"$f":"Calculator!$X$19","v":20},{"$f":"Calculator!$X$20","v":20},77,25,{"$f":"55+2*F14","v":75},{"$f":"63.2*PI()*M14*0.01","v":148.91149178015621},{"$f":"1.2-0.0181*F14","v":1.0189999999999999},21.318036985808835,31.318036985808835,21.318036985808835,31.318036985808835,70.372466574455899,88.372466574455899,25,46.318036985808831,56.318036985808831,115.3724665744559,133.3724665744559,115.3724665744559,133.3724665744559,46.318036985808838,56.318036985808838,"","",1,"Samma som CU + slagl. 65",null,null,null,null,null,29,39]
["CU4 4700",null,4700,4700,null,{"$f":"Calculator!$M$2","v":10},{"$f":"Fjäderkurva!$D$14","v":10},{"$f":"Fjäderkurva!$D$19","v":150},{"$f":"Calculator!$X$19","v":20},{"$f":"Calculator!$X$20","v":20},77,25,{"$f":"40+3*F15","v":70},{"$f":"75.2*PI()*M15*0.01","v":165.37343728496671},0.43,22.812521083832181,32.812521083832181,22.812521083832181,32.812521083832181,73.062537950897934,91.062537950897934,25,47.812521083832181,57.812521083832181,118.06253795089793,136.06253795089793,118.06253795089793,136.06253795089793,47.812521083832188,57.812521083832188,"","",1,"Samma som CU + slagl. 65",null,null,null,null,null,27,37]
["CU4 7500",null,7500,7500,null,{"$f":"Calculator!$M$2","v":10},{"$f":"Fjäderkurva!$D$14","v":10},{"$f":"Fjäderkurva!$D$19","v":150},{"$f":"Calculator!$X$19","v":20},{"$f":"Calculator!$X$20","v":20},77,25,{"$f":"50+3*F16","v":80},{"$f":"95.2*PI()*M16*0.01","v":239.26369649739863},0.3,22.786326034521977,32.786326034521977,22.786326034521977,32.786326034521977,73.015386862139565,91.015386862139565,25,47.786326034521977,57.786326034521977,118.01538686213956,136.01538686213956,118.01538686213956,136.01538686213956,47.786326034521984,57.786326034521984,"","",1,"Samma som CU + slagl. 65",null,null,null,null,null,27,37]
["CU4 11800",null,11800,11800,null,{"$f":"Calculator!$M$2","v":10},{"$f":"Fjäderkurva!$D$14","v":10},{"$f":"Fjäderkurva!$D$19","v":150},{"$f":"Calculator!$X$19","v":20},{"$f":"Calculator!$X$20","v":20},77,25,{"$f":"60+3*F17","v":90},{"$f":"120.2*PI()*M17*0.01","v":339.85749326534381},{"$f":"0.247-0.0023*F17","v":0.224},22.62715155778556,32.62715155778556,22.62715155778556,32.62715155778556,72.728872804014003,90.728872804014003,25,47.62715155778556,57.62715155778556,117.728872804014,135.728872804014,117.728872804014,135.728872804014,47.62715155778556,57.62715155778556,"","",1,"Samma som CU + slagl. 65",null,null,null,null,null,29,39]
["CU4 18300",null,18300,18300,null,{"$f":"Calculator!$M$2","v":10},{"$f":"Fjäderkurva!$D$14","v":10},{"$f":"Fjäderkurva!$D$19","v":150},{"$f":"Calculator!$X$19","v":20},{"$f":"Calculator!$X$20","v":20},77,25,{"$f":"70+3*F18","v":100},{"$f":"150.2*PI()*M18*0.01","v":471.86721656918689},{"$f":"0.25-0.0011*F18","v":0.23899999999999999},21.773422806878365,31.773422806878365,21.773422806878365,31.773422806878365,71.192161052381067,89.192161052381067,25,46.773422806878365,56.773422806878365,116.19216105238105,134.19216105238104,116.19216105238105,134.19216105238104,46.773422806878365,56.773422806878358,"","",1,"Samma som CU + slagl. 65",null,null,null,null,null,27,37]
[]
[]
[null,null,"T5-","CX",null,"Strokelength","Utilized","Fill pressure","Frequency","Env./Tool","Env./Tool","Env./Tool",null,null,null,"Estimated running",null,{"$f":"P21","v":"Estimated running"},null,null,null,"F° env./tool",null,null,null,null,null,{"$f":"P21","v":"Estimated running"},null,null,null,null,1]
[null,null,null,null,null,null,"strokelength",null,null,"temperature","temperature","temperature",null,null,null,"temperature between:",null,"temperature between:",null,null,null,"temp.",null,null,null,null,null,{"$f":"P22","v":"temperature between:"},null,null,null,null,1]
[null,null,"Spring Size","Spring Size",null,null,"[mm]","[Bar]","[spm]","[°C]","[°F]","[°C]",null,null,null,"[°C]","[°C]","[°C]",{"$f":"Q23","v":"[°C]"},"P som [°F]","Q som [°F]","to C°","N + T","U + 10°C","U to F°","V to F°","[°F]","[°F]","[°C]","[°C]",null,null,1]
[{"$f":"CONCATENATE(\"CX\",\" \",D24)","v":"CX 500"},null,500,500,null,{"$f":"Calculator!$M$2","v":10},{"$f":"Fjäderkurva!$D$14","v":10},{"$f":"Fjäderkurva!$D$19","v":150},{"$f":"Calculator!$X$19","v":20},{"$f":"Calculator!$X$20","v":20},77,25,null,null,null,{"$f":"0.8*(75*(I24/((IF(F24=10,26834,(IF(F24=15,28528,(IF(F24=25,30815,(IF(F24=38,32827,(IF(F24=50,34215,(IF(F24=63,35431,(IF(F24=80,36732,0))))))))))))))*G24^-1.65))*(H24/185)^1.4)+J24","v":21.489303374431866},{"$f":"P24+10","v":31.489303374431866},21.489303374431866,{"$f":"Q24","v":31.489303374431866},70.68074607397736,88.68074607397736,{"$f":"5/9*(K24-32)","v":25},{"$f":"P24+V24","v":46.48930337443187},56.48930337443187,{"$f":"9/5*W24+32","v":115.68074607397737},133.68074607397739,115.68074607397737,133.68074607397739,46.489303374431877,56.489303374431884,{"$f":"IF(Q24>80,\"High temp. Please contact your distributor for advice\",IF(H24>200,\"Too high charging pressure!\",\"\"))","v":""},"",1,"Värden från Avdo. 0,8 för att korrespondera mot graf i broschyren där hundra grader tillåts",null,null,null,null,null,32,42]
[{"$f":"CONCATENATE(\"CX\",\" \",D25)","v":"CX 1000"},null,1000,1000,null,{"$f":"Calculator!$M$2","v":10},{"$f":"Fjäderkurva!$D$14","v":10},{"$f":"Fjäderkurva!$D$19","v":150},{"$f":"Calculator!$X$19","v":20},{"$f":"Calculator!$X$20","v":20},77,25,null,null,null,{"$f":"0.8*(75*(I25/((IF(F25=10,110943,(IF(F25=15,120314,(IF(F25=25,133256,(IF(F25=38,144895,(IF(F25=50,153071,(IF(F25=63,160312,(IF(F25=80,168157,0))))))))))))))*G25^-1.9))*(H25/120)^1.4)+J25","v":21.174235913184937},{"$f":"P25+10","v":31.174235913184937},21.174235913184937,{"$f":"Q25","v":31.174235913184937},70.113624643732891,88.113624643732891,25,46.174235913184937,56.174235913184937,115.11362464373289,133.11362464373289,115.11362464373289,133.11362464373289,46.174235913184944,56.174235913184944,{"$f":"IF(Q25>80,\"High temp. Please contact your distributor for advice\",IF(H25>200,\"Too high charging pressure!\",\"\"))","v":""},"",1,"Värden från Avdo. 0,8 för att korrespondera mot graf i broschyren där hundra grader tillåts",null,null,null,null,null,32,42]
["CX 1900",null,1900,1900,null,{"$f":"Calculator!$M$2","v":10},{"$f":"Fjäderkurva!$D$14","v":10},{"$f":"Fjäderkurva!$D$19","v":150},{"$f":"Calculator!$X$19","v":20},{"$f":"Calculator!$X$20","v":20},77,25,null,null,null,{"$f":"0.8*(75*(I26/((IF(F26=10,201684,(IF(F26=15,223653,(IF(F26=25,254769,(IF(F26=38,283476,(IF(F26=50,304025,(IF(F26=63,322480,(IF(F26=80,342736,0))))))))))))))*G26^-2.25))*(H26/165)^1.4)+J26","v":20.925891379679847},{"$f":"P26+10","v":30.925891379679847},20.925891379679847,{"$f":"Q26","v":30.925891379679847},69.666604483423725,87.666604483423725,25,45.925891379679847,55.925891379679847,114.66660448342373,132.66660448342373,114.66660448342373,132.66660448342373,45.925891379679847,55.925891379679847,{"$f":"IF(Q26>80,\"High temp. Please contact your distributor for advice\",IF(H26>200,\"Too high charging pressure!\",\"\"))","v":""},"",1,"Värden från Avdo. 0,8 för att korrespondera mot graf i broschyren där hundra grader tillåts",null,null,null,null,null,34,44]
[]
[]
[null,null,"T2L-","K",null,"Strokelength","Utilized","Fill pressure","Frequency","Env./Tool","Env./Tool","Env./Tool",null,null,null,"Estimated running",null,{"$f":"P29","v":"Estimated running"},null,null,null,"F° env./tool",null,null,null,null,null,{"$f":"P29","v":"Estimated running"},null,null,null,null,1]
[null,null,null,null,null,null,"strokelength",null,null,"temperature","temperature","temperature","Fjäderfaktor","Tryckfaktor","Slagfaktor","temperature between:",null,"temperature between:",null,null,null,"temp.",null,null,null,null,null,{"$f":"P30","v":"temperature between:"},null,null,null,null,1]
[null,null,"Spring Size","Spring Size",null,null,"[mm]","[Bar]","[spm]","[°C]","[°F]","[°C]","K1","Kp","Ks","[°C]","[°C]","[°C]",{"$f":"Q31","v":"[°C]"},"P som [°F]","Q som [°F]","to C°","N + T","U + 10°C","U to F°","V to F°","[°F]","[°F]","[°C]","[°C]",null,null,1]
["K 500",null,500,"K500",null,{"$f":"Calculator!$M$2","v":10},{"$f":"Fjäderkurva!$D$14","v":10},{"$f":"Fjäderkurva!$D$19","v":150},{"$f":"Calculator!$X$19","v":20},{"$f":"Calculator!$X$20","v":20},77,25,{"$f":"0.00000157*F32^2-0.00026*F32+0.0139","v":1.1456999999999998E-2},{"$f":"0.2*(H32/150)^2+0.3*(H32/150)+0.5","v":1},{"$f":"0.1554*EXP(1.7*(G32/F32))+0.15","v":1.0006514246744069},{"$f":"F32*I32*M32*N32*O32+J32","v":22.292892674498937},{"$f":"P32+10","v":32.292892674498937},22.292892674498937,{"$f":"Q32","v":32.292892674498937},72.127206814098088,90.127206814098088,25,47.292892674498937,57.292892674498937,117.12720681409809,135.12720681409809,117.12720681409809,135.12720681409809,47.292892674498937,57.292892674498937,{"$f":"IF(Q32>80,\"High temp. Please contact your distributor for advice\",IF(H32>150,\"Too high charging pressure!\",\"\"))","v":""},"",1,"Samma värden som KS idag",null,null,null,null,null,28,38]
["K 750",null,750,"K750",null,{"$f":"Calculator!$M$2","v":10},{"$f":"Fjäderkurva!$D$14","v":10},{"$f":"Fjäderkurva!$D$19","v":150},{"$f":"Calculator!$X$19","v":20},{"$f":"Calculator!$X$20","v":20},77,25,{"$f":"0.0000020455*F33^2-0.00037599*F33+0.02","v":1.6444650000000002E-2},{"$f":"0.3*(H33/150)^2+0.3*(H33/150)+0.4","v":1},{"$f":"0.1564*EXP(1.75*(G33/F33))+0.1","v":1.0000198585272964},{"$f":"F33*I33*M33*N33*O33+J33","v":23.288995313306181},{"$f":"P33+10","v":33.288995313306181},23.288995313306181,{"$f":"Q33","v":33.288995313306181},73.920191563951136,91.920191563951136,25,48.288995313306181,58.288995313306181,118.92019156395112,136.92019156395111,118.92019156395112,136.92019156395111,48.288995313306181,58.288995313306174,{"$f":"IF(Q33>80,\"High temp. Please contact your distributor for advice\",IF(H33>150,\"Too high charging pressure!\",\"\"))","v":""},"",1,"Samma värden som KS idag",null,null,null,null,null,27,37]
["K1500",null,1500,"K1500",null,{"$f":"Calculator!$M$2","v":10},{"$f":"Fjäderkurva!$D$14","v":10},{"$f":"Fjäderkurva!$D$19","v":150},{"$f":"Calculator!$X$19","v":20},{"$f":"Calculator!$X$20","v":20},77,25,{"$f":"-0.00000035*F34^2+0.000016*F34+0.0097","v":9.8250000000000004E-3},{"$f":"0.65*(H34/150)^2+0.06*(H34/150)+0.29","v":1},{"$f":"0.0699*EXP(2.6*(G34/F34))+0.059","v":1.0001152886466183},{"$f":"F34*I34*M34*N34*O34+J34","v":21.965226542190607},{"$f":"P34+10","v":31.965226542190607},21.965226542190607,{"$f":"Q34","v":31.965226542190607},71.537407775943095,89.537407775943095,25,46.965226542190607,56.965226542190607,116.53740777594309,134.53740777594311,116.53740777594309,134.53740777594311,46.965226542190614,56.965226542190621,{"$f":"IF(Q34>80,\"High temp. Please contact your distributor for advice\",IF(H34>150,\"Too high charging pressure!\",\"\"))","v":""},"",1,"Samma värden som idag",null,null,null,null,null,31,41]
[]
[]
[null,null,"T2 LCF","LCF",null,"Strokelength","Utilized","Fill pressure","Frequency","Env./Tool","Env./Tool","Env./Tool",null,null,null,"Estimated running",null,{"$f":"P37","v":"Estimated running"},null,null,null,"F° env./tool",null,null,null,null,null,{"$f":"P37","v":"Estimated running"},null,null,null,null,2]
[null,null,null,null,null,null,"strokelength",null,null,"temperature","temperature","temperature","Fjäderfaktor","Tryckfaktor","Slagfaktor","temperature between:",null,"temperature between:",null,null,null,"temp.",null,null,null,null,null,{"$f":"P38","v":"temperature between:"},null,null,null,null,2]
[null,null,"Spring Size","Spring Size",null,null,"[mm]","[Bar]","[spm]","[°C]","[°F]","[°C]","K1","Kp","Ks","[°C]","[°C]","[°C]","[°C]","P som [°F]","Q som [°F]","to C°","N + T","U + 10°C","U to F°","V to F°","[°F]","[°F]","[°C]","[°C]",null,null,2]
[{"$f":"CONCATENATE(\"LCF\",\" \",D40)","v":"LCF 750"},null,750,750,null,{"$f":"Calculator!$M$2","v":10},{"$f":"Fjäderkurva!$D$14","v":10},{"$f":"Fjäderkurva!$D$19","v":150},{"$f":"Calculator!$X$19","v":20},{"$f":"Calculator!$X$20","v":20},77,25,{"$f":"-0.0000002*F40^2+0.00005*F40+0.0132","v":1.3679999999999999E-2},{"$f":"0.88*(H40/150)+0.12","v":1},{"$f":"0.3551*(G40/F40)^2+0.5449*(G40/F40)+0.1","v":1.0000000000000002},{"$f":"F40*I40*M40*N40*O40+J40-2","v":20.736000000000001},{"$f":"P40+10","v":30.736000000000001},20.736000000000001,30.736000000000001,69.32480000000001,87.32480000000001,25,45.736000000000004,55.736000000000004,114.32480000000001,132.32480000000001,114.32480000000001,132.32480000000001,45.736000000000011,55.736000000000011,{"$f":"IF(Q40>80,\"High temp. Please contact your distributor for advice\",IF(H40>150,\"Too high charging pressure!\",\"\"))","v":""},"",2,"Samma värden som TU",null,null,null,null,null,37,47]
[{"$f":"CONCATENATE(\"LCF\",\" \",D41)","v":"LCF 1500"},null,1500,1500,null,{"$f":"Calculator!$M$2","v":10},{"$f":"Fjäderkurva!$D$14","v":10},{"$f":"Fjäderkurva!$D$19","v":150},{"$f":"Calculator!$X$19","v":20},{"$f":"Calculator!$X$20","v":20},77,25,{"$f":"-0.00000015*F41^2+0.000027*F41+0.0145","v":1.4755000000000001E-2},{"$f":"0.88*(H41/150)+0.12","v":1},{"$f":"0.82*(G41/F41)^2+0.075*(G41/F41)+0.1","v":0.99499999999999988},{"$f":"F41*I41*M41*N41*O41+J41","v":22.936245},{"$f":"P41+10","v":32.936245},22.936245,32.936245,73.285240999999999,91.285240999999999,25,47.936245,57.936245,118.285241,136.28524099999998,118.285241,136.28524099999998,47.936245,57.936244999999992,{"$f":"IF(Q41>80,\"High temp. Please contact your distributor for advice\",IF(H41>150,\"Too high charging pressure!\",\"\"))","v":""},"",2,"Samma värden som TU",null,null,null,null,null,38,48]
["LCF 3000",null,3000,3000,null,{"$f":"Calculator!$M$2","v":10},{"$f":"Fjäderkurva!$D$14","v":10},{"$f":"Fjäderkurva!$D$19","v":150},{"$f":"Calculator!$X$19","v":20},{"$f":"Calculator!$X$20","v":20},77,25,{"$f":"0.00000005*F42^2-0.000034*F42+0.0186","v":1.8265E-2},{"$f":"0.75*(H42/150)+0.25","v":1},{"$f":"0.82*(G42/F42)^2+0.075*(G42/F42)+0.1","v":0.99499999999999988},{"$f":"F42*I42*M42*N42*O42+J42","v":23.634734999999999},{"$f":"P42+10","v":33.634734999999999},23.634734999999999,33.634734999999999,74.542523000000003,92.542523000000003,25,48.634734999999999,58.634734999999999,119.542523,137.54252300000002,119.542523,137.54252300000002,48.634735000000006,58.634735000000013,{"$f":"IF(Q42>80,\"High temp. Please contact your distributor for advice\",IF(H42>150,\"Too high charging pressure!\",\"\"))","v":""},"",2,"Samma värden som TU",null,null,null,null,null,38,48]
["LCF 5000",null,5000,5000,null,{"$f":"Calculator!$M$2","v":10},{"$f":"Fjäderkurva!$D$14","v":10},{"$f":"Fjäderkurva!$D$19","v":150},{"$f":"Calculator!$X$19","v":20},{"$f":"Calculator!$X$20","v":20},77,25,{"$f":"-0.000003*F43+0.0155","v":1.5469999999999999E-2},{"$f":"0.89*(H43/150)+0.11","v":1},{"$f":"0.82*(G43/F43)^2+0.075*(G43/F43)+0.1","v":0.99499999999999988},{"$f":"F43*I43*M43*N43*O43+J43","v":23.078530000000001},{"$f":"P43+10","v":33.078530000000001},23.078530000000001,33.078530000000001,73.541354000000013,91.541354000000013,25,48.078530000000001,58.078530000000001,118.541354,136.54135400000001,118.541354,136.54135400000001,48.078530000000001,58.078530000000008,{"$f":"IF(Q43>80,\"High temp. Please contact your distributor for advice\",IF(H43>150,\"Too high charging pressure!\",\"\"))","v":""},"",2,"Samma värden som TU",null,null,null,null,null,38,48]
["LCF 7500",null,7500,7500,null,{"$f":"Calculator!$M$2","v":10},{"$f":"Fjäderkurva!$D$14","v":10},{"$f":"Fjäderkurva!$D$19","v":150},{"$f":"Calculator!$X$19","v":20},{"$f":"Calculator!$X$20","v":20},77,25,{"$f":"-0.000018*F44+0.025","v":2.4820000000000002E-2},{"$f":"0.85*(H44/150)+0.15","v":1},{"$f":"0.82*(G44/F44)^2+0.075*(G44/F44)+0.1","v":0.99499999999999988},{"$f":"F44*I44*M44*N44*O44+J44","v":24.93918},{"$f":"P44+10","v":34.93918},24.93918,34.93918,76.890523999999999,94.890523999999999,25,49.93918,59.93918,121.890524,139.890524,121.890524,139.890524,49.93918,59.93918,{"$f":"IF(Q44>80,\"High temp. Please contact your distributor for advice\",IF(H44>150,\"Too high charging pressure!\",\"\"))","v":""},"",2,"Samma värden som TU",null,null,null,null,null,44,54]
[]
[]
[null,null,"T2-180","M2",null,"Strokelength","Utilized","Fill pressure","Frequency","Env./Tool","Env./Tool","Env./Tool",null,null,null,"Estimated running",null,{"$f":"P47","v":"Estimated running"},null,null,null,"F° env./tool",null,null,null,null,null,{"$f":"P47","v":"Estimated running"},null,null,null,null,2]
[null,null,null,null,null,null,"strokelength",null,null,"temperature","temperature","temperature",null,"Tryck-och",null,"temperature between:",null,{"$f":"P48","v":"temperature between:"},null,null,null,"temp.",null,null,null,null,null,{"$f":"P48","v":"temperature between:"},null,null,null,null,2]
[null,null,"Spring Size","Spring Size",null,null,"[mm]","[Bar]","[spm]","[°C]","[°F]","[°C]","Slaglängdsfaktor","SPM-faktor","%-faktor","[°C]","[°C]",{"$f":"P49","v":"[°C]"},{"$f":"Q49","v":"[°C]"},"P som [°F]","Q som [°F]","to C°","N + T","U + 10°C","U to F°","V to F°","[°F]","[°F]","[°C]","[°C]",null,null,2]
["M2",null,"T2-180","M2",null,{"$f":"Calculator!$M$2","v":10},{"$f":"Fjäderkurva!$D$14","v":10},{"$f":"Fjäderkurva!$D$19","v":150},{"$f":"Calculator!$X$19","v":20},{"$f":"Calculator!$X$20","v":20},77,25,{"$f":"-0.000620370414004661*F50^2+0.268331957994321*F50+0.785664791280596","v":3.4069473298233399},{"$f":"(-0.000399199129692736*H50^2+0.164059801283639*H50+1.91164754348779)*(0.00709866427117971*I50^2-0.480884167541125*I50+16.1629135875712)","v":164.59477852243239},{"$f":"0.00174145400538405*(100*G50/F50)^2-0.0253949962177752*(100*G50/F50)+6.92530631030808","v":21.800346742371062},{"$f":"((M50*N50*O50)*0.000200885124608251+3.84189422736609)+J50","v":26.297692296049583},{"$f":"P50+10","v":36.297692296049583},{"$f":"P50","v":26.297692296049583},{"$f":"Q50","v":36.297692296049583},79.335846132889259,97.335846132889245,25,51.297692296049583,61.297692296049583,124.33584613288924,142.33584613288923,124.33584613288924,142.33584613288923,51.297692296049583,61.297692296049576,{"$f":"IF(Q50>80,\"High temp. Please contact your distributor for advice\",IF(H50>180,\"Too high charging pressure!\",\"\"))","v":""},"",2,"Nya tester",null,null,null,null,null,56,66]
[]
[]
[null,null,"T2-200","MC3",null,"Strokelength","Utilized","Fill pressure","Frequency","Env./Tool","Env./Tool","Env./Tool",null,null,null,"Estimated running",null,{"$f":"P53","v":"Estimated running"},null,null,null,"F° env./tool",null,null,null,null,null,{"$f":"P53","v":"Estimated running"},null,null,null,null,2]
[null,null,null,null,null,null,"strokelength",null,null,"temperature","temperature","temperature",null,"Tryck-och",null,"temperature between:",null,{"$f":"P54","v":"temperature between:"},null,null,null,"temp.",null,null,null,null,null,{"$f":"P54","v":"temperature between:"},null,null,null,null,2]
[null,null,"Spring Size","Spring Size",null,null,"[mm]","[Bar]","[spm]","[°C]","[°F]","[°C]","Slaglängdsfaktor","SPM-faktor","%-faktor","[°C]","[°C]",{"$f":"P55","v":"[°C]"},{"$f":"Q55","v":"[°C]"},"P som [°F]","Q som [°F]","to C°","N + T","U + 10°C","U to F°","V to F°","[°F]","[°F]","[°C]","[°C]",null,null,2]
["MC3",null,"T2-200","MC3",null,{"$f":"Calculator!$M$2","v":10},{"$f":"Fjäderkurva!$D$14","v":10},{"$f":"Fjäderkurva!$D$19","v":150},{"$f":"Calculator!$X$19","v":20},{"$f":"Calculator!$X$20","v":20},77,25,{"$f":"-0.000620370414004661*F56^2+0.268331957994321*F56+0.785664791280596","v":3.4069473298233399},{"$f":"(-0.000399199129692736*H56^2+0.164059801283639*H56+1.91164754348779)*(0.00709866427117971*I56^2-0.480884167541125*I56+16.1629135875712)","v":164.59477852243239},{"$f":"0.00174145400538405*(100*G56/F56)^2-0.0253949962177752*(100*G56/F56)+6.92530631030808","v":21.800346742371062},{"$f":"(((M56*N56*O56)*0.000200885124608251+3.84189422736609)*0.9)+J56","v":25.667923066444622},{"$f":"P56+10","v":35.667923066444622},{"$f":"P56","v":25.667923066444622},{"$f":"Q56","v":35.667923066444622},78.202261519600313,96.202261519600327,25,50.667923066444622,60.667923066444622,123.20226151960033,141.20226151960031,123.20226151960033,141.20226151960031,50.667923066444629,60.667923066444622,{"$f":"IF(Q56>80,\"High temp. Please contact your distributor for advice\",IF(H56>180,\"Too high charging pressure!\",\"\"))","v":""},"",2,"Använd samma som M2",null,null,null,null,null,51,61]
[]
[]
[null,null,"T3-","Power Line X",null,"Strokelength","Utilized","Fill pressure","Frequency","Env./Tool","Env./Tool","Env./Tool",null,null,null,"Estimated running",null,{"$f":"P59","v":"Estimated running"},null,null,null,"F° env./tool",null,null,null,null,null,{"$f":"P59","v":"Estimated running"},null,null,null,null,1]
[null,null,null,null,null,null,"strokelength",null,null,"temperature","temperature","temperature","Fjäderfaktor","Tryckfaktor","Slagfaktor","temperature between:",null,"temperature between:",null,null,null,"temp.",null,null,null,null,null,{"$f":"P60","v":"temperature between:"},null,null,null,null,1]
[null,null,"Spring Size","Spring Size",null,null,"[mm]","[Bar]","[spm]","[°C]","[°F]","[°C]","K1","Kp","Ks","[°C]","[°C]","[°C]","[°C]","P som [°F]","Q som [°F]","to C°","N + T","U + 10°C","U to F°","V to F°","[°F]","[°F]","[°C]","[°C]",null,null,1]
[{"$f":"CONCATENATE(\"X\",\" \",D62)","v":"X 170"},null,170,170,null,{"$f":"Calculator!$M$2","v":10},{"$f":"Fjäderkurva!$D$14","v":10},{"$f":"Fjäderkurva!$D$19","v":150},{"$f":"Calculator!$X$19","v":20},{"$f":"Calculator!$X$20","v":20},77,25,{"$f":"0.0125","v":1.2500000000000001E-2},{"$f":"0.88*(H62/180)+0.12","v":0.85333333333333339},{"$f":"(G62/F62)^1.15","v":1},{"$f":"F62*I62*M62*N62*O62+J62","v":22.133333333333333},{"$f":"P62+10","v":32.133333333333333},22.133333333333333,32.133333333333333,71.84,89.84,25,47.133333333333333,57.133333333333333,116.84,134.84,116.84,134.84,47.13333333333334,57.13333333333334,{"$f":"IF(Q62>80,\"High temp. Please contact your distributor for advice\",IF(H62>180,\"Too high charging pressure!\",\"\"))","v":""},"",1,"Samma värden som idag",null,null,null,null,null,34,44]
[{"$f":"CONCATENATE(\"X\",\" \",D63)","v":"X 320"},null,320,320,null,{"$f":"Calculator!$M$2","v":10},{"$f":"Fjäderkurva!$D$14","v":10},{"$f":"Fjäderkurva!$D$19","v":150},{"$f":"Calculator!$X$19","v":20},{"$f":"Calculator!$X$20","v":20},77,25,{"$f":"-0.0000681414497203971*F63+0.023229141","v":2.2547726502796028E-2},{"$f":"0.76*(H63/180)+0.24","v":0.87333333333333341},1,{"$f":"F63*I63*M63*N63*O63+J63-2","v":21.938336229155041},{"$f":"P63+10","v":31.938336229155041},21.938336229155041,31.938336229155041,71.489005212479071,89.489005212479071,25,46.938336229155041,56.938336229155041,116.48900521247907,134.48900521247907,116.48900521247907,134.48900521247907,46.938336229155041,56.938336229155041,{"$f":"IF(Q63>80,\"High temp. Please contact your distributor for advice\",IF(H63>180,\"Too high charging pressure!\",\"\"))","v":""},"",1,"Samma värden som idag",null,null,null,null,null,36,46]
["X 350",null,350,350,null,{"$f":"Calculator!$M$2","v":10},{"$f":"Fjäderkurva!$D$14","v":10},{"$f":"Fjäderkurva!$D$19","v":150},{"$f":"Calculator!$X$19","v":20},{"$f":"Calculator!$X$20","v":20},77,25,{"$f":"-0.0000557409944506719*F64+0.012735192","v":1.217778205549328E-2},{"$f":"0.78*(H64/180)+0.22","v":0.87},1,{"$f":"F64*I64*M64*N64*O64+J64","v":22.11893407765583},32.11893407765583,22.11893407765583,32.11893407765583,71.8140813397805,89.8140813397805,25,47.11893407765583,57.11893407765583,116.8140813397805,134.8140813397805,116.8140813397805,134.8140813397805,47.118934077655837,57.118934077655837,{"$f":"IF(Q64>80,\"High temp. Please contact your distributor for advice\",IF(H64>180,\"Too high charging pressure!\",\"\"))","v":""},"",1,"Samma värden som idag",null,null,null,null,null,31,41]
["X 500",null,500,500,null,{"$f":"Calculator!$M$2","v":10},{"$f":"Fjäderkurva!$D$14","v":10},{"$f":"Fjäderkurva!$D$19","v":150},{"$f":"Calculator!$X$19","v":20},{"$f":"Calculator!$X$20","v":20},77,25,{"$f":"-0.0000286323189548996*F65+0.01030877","v":1.0022446810451004E-2},{"$f":"0.69*(H65/150)+0.31","v":1},1,22.004489362090201,32.004489362090197,22.004489362090201,32.004489362090197,71.608080851762367,89.608080851762367,25,47.004489362090197,57.004489362090197,116.60808085176235,134.60808085176234,116.60808085176235,134.60808085176234,47.004489362090197,57.00448936209019,{"$f":"IF(Q65>80,\"High temp. Please contact your distributor for advice\",IF(H65>150,\"Too high charging pressure!\",\"\"))","v":""},"",1,"Samma värden som idag",null,null,null,null,null,32,42]
["X 750",null,750,750,null,{"$f":"Calculator!$M$2","v":10},{"$f":"Fjäderkurva!$D$14","v":10},{"$f":"Fjäderkurva!$D$19","v":150},{"$f":"Calculator!$X$19","v":20},{"$f":"Calculator!$X$20","v":20},77,25,{"$f":"-5.21759415768633E-06*F66+0.011064444","v":1.1012268058423137E-2},{"$f":"0.7*(H66/150)+0.3","v":1},1,22.202453611684628,32.202453611684632,22.202453611684628,32.202453611684632,71.964416501032332,89.964416501032332,25,47.202453611684632,57.202453611684632,116.96441650103235,134.96441650103236,116.96441650103235,134.96441650103236,47.202453611684639,57.202453611684646,"","",1,"Samma värden som idag",null,null,null,null,null,34,44]
["X 1000",null,1000,1000,null,{"$f":"Calculator!$M$2","v":10},{"$f":"Fjäderkurva!$D$14","v":10},{"$f":"Fjäderkurva!$D$19","v":150},{"$f":"Calculator!$X$19","v":20},{"$f":"Calculator!$X$20","v":20},77,25,{"$f":"-3.37582158982632E-06*F67+0.012213964","v":1.2180205784101738E-2},{"$f":"0.79*(H67/150)+0.21","v":1},1,22.436041156820348,32.436041156820352,22.436041156820348,32.436041156820352,72.384874082276625,90.384874082276639,25,47.436041156820352,57.436041156820352,117.38487408227664,135.38487408227664,117.38487408227664,135.38487408227664,47.436041156820359,57.436041156820359,"","",1,"Samma värden som idag",null,null,null,null,null,36,46]
["X 1500",null,1500,1500,null,{"$f":"Calculator!$M$2","v":10},{"$f":"Fjäderkurva!$D$14","v":10},{"$f":"Fjäderkurva!$D$19","v":150},{"$f":"Calculator!$X$19","v":20},{"$f":"Calculator!$X$20","v":20},77,25,{"$f":"-0.0000115814333465656*F68+0.0161709","v":1.6055085666534342E-2},{"$f":"0.84*(H68/150)+0.16","v":1},1,23.211017133306868,33.211017133306868,23.211017133306868,33.211017133306868,73.779830839952353,91.779830839952353,25,48.211017133306868,58.211017133306868,118.77983083995237,136.77983083995235,118.77983083995237,136.77983083995235,48.211017133306875,58.211017133306868,"","",1,"Samma värden som idag",null,null,null,null,null,38,48]
["X 2400",null,2400,2400,null,{"$f":"Calculator!$M$2","v":10},{"$f":"Fjäderkurva!$D$14","v":10},{"$f":"Fjäderkurva!$D$19","v":150},{"$f":"Calculator!$X$19","v":20},{"$f":"Calculator!$X$20","v":20},77,25,1.5820000000000001E-2,{"$f":"0.87*(H69/150)+0.13","v":1},1,23.164000000000001,33.164000000000001,23.164000000000001,33.164000000000001,73.6952,91.6952,25,48.164000000000001,58.164000000000001,118.6952,136.6952,118.6952,136.6952,48.164000000000001,58.164000000000001,"","",1,"Samma värden som idag",null,null,null,null,null,39,49]
["X 4200",null,4200,4200,null,{"$f":"Calculator!$M$2","v":10},{"$f":"Fjäderkurva!$D$14","v":10},{"$f":"Fjäderkurva!$D$19","v":150},{"$f":"Calculator!$X$19","v":20},{"$f":"Calculator!$X$20","v":20},77,25,1.3690000000000001E-2,{"$f":"0.8*(H70/150)+0.2","v":1},1,22.738,32.738,22.738,32.738,72.928400000000011,90.928400000000011,25,47.738,57.738,117.9284,135.92840000000001,117.9284,135.92840000000001,47.738,57.738000000000007,"","",1,"Samma värden som idag",null,null,null,null,null,37,47]
["X 6600",null,6600,6600,null,{"$f":"Calculator!$M$2","v":10},{"$f":"Fjäderkurva!$D$14","v":10},{"$f":"Fjäderkurva!$D$19","v":150},{"$f":"Calculator!$X$19","v":20},{"$f":"Calculator!$X$20","v":20},77,25,1.3390000000000001E-2,{"$f":"0.74*(H71/150)+0.26","v":1},1,22.678000000000001,32.677999999999997,22.678000000000001,32.677999999999997,72.820400000000006,90.820400000000006,25,47.677999999999997,57.677999999999997,117.82039999999999,135.82040000000001,117.82039999999999,135.82040000000001,47.677999999999997,57.678000000000004,"","",1,"Samma värden som idag",null,null,null,null,null,37,47]
["X 9500",null,9500,9500,null,{"$f":"Calculator!$M$2","v":10},{"$f":"Fjäderkurva!$D$14","v":10},{"$f":"Fjäderkurva!$D$19","v":150},{"$f":"Calculator!$X$19","v":20},{"$f":"Calculator!$X$20","v":20},77,25,{"$f":"-0.0000191040326040326*F72+0.011165147","v":1.0974106673959674E-2},{"$f":"0.77*(H72/150)+0.23","v":1},1,22.194821334791936,32.194821334791939,22.194821334791936,32.194821334791939,71.950678402625485,89.950678402625499,25,47.194821334791939,57.194821334791939,116.9506784026255,134.9506784026255,116.9506784026255,134.9506784026255,47.194821334791946,57.194821334791946,"","",1,"Samma värden som idag",null,null,null,null,null,33,43]
["X 20000",null,20000,20000,null,{"$f":"Calculator!$M$2","v":10},{"$f":"Fjäderkurva!$D$14","v":10},{"$f":"Fjäderkurva!$D$19","v":150},{"$f":"Calculator!$X$19","v":20},{"$f":"Calculator!$X$20","v":20},77,25,{"$f":"0.0000242305296039432*H73*F73*(100*G73/F73)","v":3.6345794405914797},{"$f":"0.000200697723517146*I73*F73*G73/F73*100*0.0121957161724547*F73*I73","v":9.7906098898915985},{"$f":"0.116667676767677*H73","v":17.500151515151551},{"$f":"J73+(O73*N73*M73*0.000233655270520329+4.89453401490754)","v":25.040040149088554},{"$f":"P73+10","v":35.040040149088554},25.040040149088554,35.040040149088554,77.072072268359392,95.072072268359392,25,50.040040149088554,60.040040149088554,122.07207226835941,140.07207226835942,122.07207226835941,140.07207226835942,50.040040149088561,60.040040149088568,"","",2,"Nya tester",null,null,null,null,null,32,42]
[]
[]
[null,null,"T3T-","Power Line XG",null,"Strokelength","Utilized","Fill pressure","Frequency","Env./Tool","Env./Tool","Env./Tool",null,null,null,"Estimated running",null,{"$f":"P76","v":"Estimated running"},null,null,null,"F° env./tool",null,null,null,null,null,{"$f":"P76","v":"Estimated running"},null,null,null,null,1]
[null,null,null,null,null,null,"strokelength",null,null,"temperature","temperature","temperature","Fjäderfaktor","Tryckfaktor","Slagfaktor","temperature between:",null,"temperature between:",null,null,null,"temp.",null,null,null,null,null,{"$f":"P77","v":"temperature between:"},null,null,null,null,1]
[null,null,"Spring Size","Spring Size",null,null,"[mm]","[Bar]","[spm]","[°C]","[°F]","[°C]","K1","Kp","Ks","[°C]","[°C]","[°C]","[°C]","P som [°F]","Q som [°F]","to C°","N + T","U + 10°C","U to F°","V to F°","[°F]","[°F]","[°C]","[°C]",null,null,1]
[{"$f":"CONCATENATE(\"XG\",\" \",D79)","v":"XG 350"},null,350,350,null,{"$f":"Calculator!$M$2","v":10},{"$f":"Fjäderkurva!$D$14","v":10},{"$f":"Fjäderkurva!$D$19","v":150},{"$f":"Calculator!$X$19","v":20},{"$f":"Calculator!$X$20","v":20},77,{"$f":"5/9*(K79-32)","v":25},{"$f":"-0.0000557409944506719*F79+0.012735192","v":1.217778205549328E-2},{"$f":"0.78*(H79/180)+0.22","v":0.87},{"$f":"(G79/F79)^1.15","v":1},{"$f":"F79*I79*M79*N79*O79+J79","v":22.11893407765583},{"$f":"P79+10","v":32.11893407765583},22.11893407765583,32.11893407765583,{"$f":"9/5*R79+32","v":71.8140813397805},89.8140813397805,25,47.11893407765583,{"$f":"W79+10","v":57.11893407765583},116.8140813397805,134.8140813397805,{"$f":"Y79","v":116.8140813397805},134.8140813397805,{"$f":"5/9*(AA79-32)","v":47.118934077655837},57.118934077655837,{"$f":"IF(Q79>80,\"High temp. Please contact your distributor for advice\",IF(H79>180,\"Too high charging pressure!\",\"\"))","v":""},{"$f":"AE79","v":""},1,"Samma värden som X 350",null,null,null,null,null,31,41]
[{"$f":"CONCATENATE(\"XG\",\" \",D80)","v":"XG 500"},null,500,500,null,{"$f":"Calculator!$M$2","v":10},{"$f":"Fjäderkurva!$D$14","v":10},{"$f":"Fjäderkurva!$D$19","v":150},{"$f":"Calculator!$X$19","v":20},{"$f":"Calculator!$X$20","v":20},77,25,{"$f":"-0.0000286323189548996*F80+0.01030877","v":1.0022446810451004E-2},{"$f":"0.69*(H80/150)+0.31","v":1},1,22.004489362090201,32.004489362090197,22.004489362090201,32.004489362090197,71.608080851762367,89.608080851762367,25,47.004489362090197,57.004489362090197,116.60808085176235,134.60808085176234,116.60808085176235,134.60808085176234,47.004489362090197,57.00448936209019,{"$f":"IF(Q80>80,\"High temp. Please contact your distributor for advice\",IF(H80>150,\"Too high charging pressure!\",\"\"))","v":""},"",1,"Samma värden som X 500",null,null,null,null,null,32,42]
["XG 750",null,750,750,null,{"$f":"Calculator!$M$2","v":10},{"$f":"Fjäderkurva!$D$14","v":10},{"$f":"Fjäderkurva!$D$19","v":150},{"$f":"Calculator!$X$19","v":20},{"$f":"Calculator!$X$20","v":20},77,25,{"$f":"-5.21759415768633E-06*F81+0.011064444","v":1.1012268058423137E-2},{"$f":"0.7*(H81/150)+0.3","v":1},1,22.202453611684628,32.202453611684632,22.202453611684628,32.202453611684632,71.964416501032332,89.964416501032332,25,47.202453611684632,57.202453611684632,116.96441650103235,134.96441650103236,116.96441650103235,134.96441650103236,47.202453611684639,57.202453611684646,"","",1,"Samma värden som X 750",null,null,null,null,null,34,44]
["XG 1000",null,1000,1000,null,{"$f":"Calculator!$M$2","v":10},{"$f":"Fjäderkurva!$D$14","v":10},{"$f":"Fjäderkurva!$D$19","v":150},{"$f":"Calculator!$X$19","v":20},{"$f":"Calculator!$X$20","v":20},77,25,{"$f":"-3.37582158982632E-06*F82+0.012213964","v":1.2180205784101738E-2},{"$f":"0.79*(H82/150)+0.21","v":1},1,22.436041156820348,32.436041156820352,22.436041156820348,32.436041156820352,72.384874082276625,90.384874082276639,25,47.436041156820352,57.436041156820352,117.38487408227664,135.38487408227664,117.38487408227664,135.38487408227664,47.436041156820359,57.436041156820359,"","",1,"Samma värden som X 1000",null,null,null,null,null,36,46]
["XG 1500",null,1500,1500,null,{"$f":"Calculator!$M$2","v":10},{"$f":"Fjäderkurva!$D$14","v":10},{"$f":"Fjäderkurva!$D$19","v":150},{"$f":"Calculator!$X$19","v":20},{"$f":"Calculator!$X$20","v":20},77,25,{"$f":"-0.0000115814333465656*F83+0.0161709","v":1.6055085666534342E-2},{"$f":"0.84*(H83/150)+0.16","v":1},1,23.211017133306868,33.211017133306868,23.211017133306868,33.211017133306868,73.779830839952353,91.779830839952353,25,48.211017133306868,58.211017133306868,{"$f":"9/5*W83+32","v":118.77983083995237},136.77983083995235,118.77983083995237,136.77983083995235,48.211017133306875,58.211017133306868,"","",1,"Samma värden som X 1500",null,null,null,null,null,38,48]
["XG 2400",null,2400,2400,null,{"$f":"Calculator!$M$2","v":10},{"$f":"Fjäderkurva!$D$14","v":10},{"$f":"Fjäderkurva!$D$19","v":150},{"$f":"Calculator!$X$19","v":20},{"$f":"Calculator!$X$20","v":20},77,25,1.5820000000000001E-2,{"$f":"0.87*(H84/150)+0.13","v":1},1,23.164000000000001,33.164000000000001,23.164000000000001,33.164000000000001,73.6952,91.6952,25,48.164000000000001,58.164000000000001,118.6952,136.6952,118.6952,136.6952,48.164000000000001,58.164000000000001,"","",1,"Samma värden som X 2400",null,null,null,null,null,39,49]
["XG 4200",null,4200,4200,null,{"$f":"Calculator!$M$2","v":10},{"$f":"Fjäderkurva!$D$14","v":10},{"$f":"Fjäderkurva!$D$19","v":150},{"$f":"Calculator!$X$19","v":20},{"$f":"Calculator!$X$20","v":20},77,25,1.3690000000000001E-2,{"$f":"0.8*(H85/150)+0.2","v":1},1,22.738,32.738,22.738,32.738,72.928400000000011,90.928400000000011,25,47.738,57.738,117.9284,135.92840000000001,117.9284,135.92840000000001,47.738,57.738000000000007,"","",1,"Samma värden som X 4200",null,null,null,null,null,37,47]
["XG 6600",null,6600,6600,null,{"$f":"Calculator!$M$2","v":10},{"$f":"Fjäderkurva!$D$14","v":10},{"$f":"Fjäderkurva!$D$19","v":150},{"$f":"Calculator!$X$19","v":20},{"$f":"Calculator!$X$20","v":20},77,25,1.3390000000000001E-2,{"$f":"0.74*(H86/150)+0.26","v":1},1,22.678000000000001,32.677999999999997,22.678000000000001,32.677999999999997,72.820400000000006,90.820400000000006,25,47.677999999999997,57.677999999999997,117.82039999999999,135.82040000000001,117.82039999999999,135.82040000000001,47.677999999999997,57.678000000000004,"","",1,"Samma värden som X 6600",null,null,null,null,null,37,47]
[null,null,9500,"finns ej",null,{"$f":"Calculator!$M$2","v":10},{"$f":"Fjäderkurva!$D$14","v":10},{"$f":"Fjäderkurva!$D$19","v":150},{"$f":"Calculator!$X$19","v":20},{"$f":"Calculator!$X$20","v":20},77,25,{"$f":"-0.0000191040326040326*F87+0.011165147","v":1.0974106673959674E-2},{"$f":"0.77*(H87/150)+0.23","v":1},1,22.194821334791936,32.194821334791939,22.194821334791936,32.194821334791939,71.950678402625485,89.950678402625499,25,47.194821334791939,57.194821334791939,116.9506784026255,134.9506784026255,116.9506784026255,134.9506784026255,47.194821334791946,57.194821334791946,"","",3,"Samma värden som  X9500",null,null,null,null,null,33,43]
[]
[]
[null,null,"T2-50","R12",null,"Strokelength","Utilized","Fill pressure","Frequency","Env./Tool","Env./Tool","Env./Tool",null,null,null,"Estimated running",null,null,null,null,null,"F° env./tool",null,null,null,null,null,{"$f":"P90","v":"Estimated running"},null,null,null,null,3]
[null,null,null,null,null,null,"strokelength",null,null,"temperature","temperature","temperature",null,"Tryck-och",null,"temperature between:",null,null,null,null,null,"temp.",null,null,null,null,null,{"$f":"P91","v":"temperature between:"},null,null,null,null,3]
[null,null,"Spring Size","Spring Size",null,null,"[mm]","[Bar]","[spm]","[°C]","[°F]","[°C]","Slaglängdsfaktor","SPM-faktor","%-faktor","[°C]","[°C]",null,null,"P som [°F]","Q som [°F]","to C°","N + T","U + 10°C","U to F°","V to F°","[°F]","[°F]","[°C]","[°C]",null,null,3]
["R12",null,"T2-50","R12",null,{"$f":"Calculator!$M$2","v":10},{"$f":"Fjäderkurva!$D$14","v":10},{"$f":"Fjäderkurva!$D$19","v":150},{"$f":"Calculator!$X$19","v":20},{"$f":"Calculator!$X$20","v":20},77,25,{"$f":"0*F93^2+0.0773842904727491*F93+1.38869038428296","v":2.1625332890104509},{"$f":"(0*H93^2+0.0218685433000524*H93+3.25496045048892)*(0.00155475011645089*I93^2-0.0694414388077009*I93+3.14993259505957)","v":15.573506818004473},{"$f":"0.0860769264525189*(100*G93/F93)-0.119238195541514","v":8.4884544497103747},{"$f":"((M93*N93*O93)*0.00491291957951706-0.116151420334139)+J93","v":21.288334844904281},{"$f":"P93+10","v":31.288334844904281},{"$f":"P93","v":21.288334844904281},{"$f":"Q93","v":31.288334844904281},70.319002720827712,88.319002720827712,{"$f":"5/9*(K93-32)","v":25},{"$f":"P93+V93","v":46.288334844904284},56.288334844904284,115.31900272082771,133.31900272082771,115.31900272082771,133.31900272082771,46.288334844904284,56.288334844904284,{"$f":"IF(Q93>80,\"High temp. Please contact your distributor for advice\",IF(H93>180,\"Too high charging pressure!\",\"\"))","v":""},"",3,"Nya tester",null,null,null,null,null,28,38]
[]
[]
[null,null,"T2-70","R15",null,"Strokelength","Utilized","Fill pressure","Frequency","Env./Tool","Env./Tool","Env./Tool",null,null,null,"Estimated running",null,null,null,null,null,"F° env./tool",null,null,null,null,null,{"$f":"P96","v":"Estimated running"},null,null,null,null,3]
[null,null,null,null,null,null,"strokelength",null,null,"temperature","temperature","temperature",null,"Tryck-och",null,"temperature between:",null,null,null,null,null,"temp.",null,null,null,null,null,{"$f":"P97","v":"temperature between:"},null,null,null,null,3]
[null,null,"Spring Size","Spring Size",null,null,"[mm]","[Bar]","[spm]","[°C]","[°F]","[°C]","Slaglängdsfaktor","SPM-faktor","%-faktor","[°C]","[°C]",null,null,"P som [°F]","Q som [°F]","to C°","N + T","U + 10°C","U to F°","V to F°","[°F]","[°F]","[°C]","[°C]",null,null,3]
["R15",null,"T2-70","R15",null,{"$f":"Calculator!$M$2","v":10},{"$f":"Fjäderkurva!$D$14","v":10},{"$f":"Fjäderkurva!$D$19","v":150},{"$f":"Calculator!$X$19","v":20},{"$f":"Calculator!$X$20","v":20},77,25,{"$f":"0*F99^2+0.101700563349931*F99+1.05952116662376","v":2.0765268001230703},{"$f":"(0*H99^2+0.025631766517952*H99+3.91514433290844)*(0.000827721825636666*I99^2+0.00507305883455402*I99+3.03783330199938)","v":26.929858974447502},{"$f":"0.0859722222222222*(100*G99/F99)+1.01562037037037","v":9.6128425925925889},{"$f":"((M99*N99*O99)*0.0028145556115581+0.145637978570093)+J99","v":21.658618318573478},{"$f":"P99+10","v":31.658618318573478},{"$f":"P99","v":21.658618318573478},{"$f":"Q99","v":31.658618318573478},70.985512973432265,88.985512973432265,25,46.658618318573474,56.658618318573474,115.98551297343225,133.98551297343226,115.98551297343225,133.98551297343226,46.658618318573474,56.658618318573481,{"$f":"IF(Q99>80,\"High temp. Please contact your distributor for advice\",IF(H99>180,\"Too high charging pressure!\",\"\"))","v":""},"",3,"Nya tester",null,null,null,null,null,29,39]
[]
[]
[null,null,"T2-90","R19",null,"Strokelength","Utilized","Fill pressure","Frequency","Env./Tool","Env./Tool","Env./Tool",null,null,null,"Estimated running",null,{"$f":"P102","v":"Estimated running"},null,null,null,"F° env./tool",null,null,null,null,null,{"$f":"P102","v":"Estimated running"},null,null,null,null,2]
[null,null,null,null,null,null,"strokelength",null,null,"temperature","temperature","temperature",null,"Tryck-och",null,"temperature between:",null,{"$f":"P103","v":"temperature between:"},null,null,null,"temp.",null,null,null,null,null,{"$f":"P103","v":"temperature between:"},null,null,null,null,2]
[null,null,"Spring Size","Spring Size",null,null,"[mm]","[Bar]","[spm]","[°C]","[°F]","[°C]","Slaglängdsfaktor","SPM-faktor","%-faktor","[°C]","[°C]",{"$f":"P104","v":"[°C]"},{"$f":"Q104","v":"[°C]"},"P som [°F]","Q som [°F]","to C°","N + T","U + 10°C","U to F°","V to F°","[°F]","[°F]","[°C]","[°C]",null,null,2]
["R19",null,"T2-90","R19",null,{"$f":"Calculator!$M$2","v":10},{"$f":"Fjäderkurva!$D$14","v":10},{"$f":"Fjäderkurva!$D$19","v":150},{"$f":"Calculator!$X$19","v":20},{"$f":"Calculator!$X$20","v":20},77,25,{"$f":"-0.000305883384051968*F105^2+0.156486863440078*F105+1.29999288234444","v":2.8342731783400232},{"$f":"(0*H105^2+0.02389494890977*H105+6.72599823905976)*(0.00227350762618537*I105^2-0.03*I105+3.13727121454514)","v":35.536040857820566},{"$f":"0.0991536412606766*(100*G105/F105)+2.0166981641606","v":11.932062290228261},{"$f":"((M105*N105*O105)*0.000754142112906586+0.237377105445892)+J105","v":21.143692699986673},{"$f":"P105+10","v":31.143692699986673},{"$f":"P105","v":21.143692699986673},{"$f":"R105+10","v":31.143692699986673},70.058646859976022,88.058646859976022,25,46.143692699986673,56.143692699986673,115.05864685997601,133.05864685997602,115.05864685997601,133.05864685997602,46.143692699986673,56.14369269998668,{"$f":"IF(Q105>80,\"High temp. Please contact your distributor for advice\",IF(H105>180,\"Too high charging pressure!\",\"\"))","v":""},{"$f":"AE105","v":""},2,"Nya tester",null,null,null,null,null,27,37]
[]
[]
[null,null,"NPL-","TL",null,"Strokelength","Utilized","Fill pressure","Frequency","Env./Tool","Env./Tool","Env./Tool",null,null,null,"Estimated running",null,{"$f":"P108","v":"Estimated running"},null,null,null,"F° env./tool",null,null,null,null,null,{"$f":"P108","v":"Estimated running"},null,null,null,null,1]
[null,null,null,null,null,null,"strokelength",null,null,"temperature","temperature","temperature","Fjäderfaktor","Tryckfaktor","Slagfaktor","temperature between:",null,"temperature between:",null,null,null,"temp.",null,null,null,null,null,{"$f":"P109","v":"temperature between:"},null,null,null,null,1]
[null,null,"Spring Size","Spring Size",null,null,"[mm]","[Bar]","[spm]","[°C]","[°F]","[°C]","K1","Kp","Ks","[°C]","[°C]","[°C]","[°C]","P som [°F]","Q som [°F]","to C°","N + T","U + 10°C","U to F°","V to F°","[°F]","[°F]","[°C]","[°C]",null,null,1]
[{"$f":"CONCATENATE(\"TL\",\" \",D111)","v":"TL 750"},null,750,750,null,{"$f":"Calculator!$M$2","v":10},{"$f":"Fjäderkurva!$D$14","v":10},{"$f":"Fjäderkurva!$D$19","v":150},{"$f":"Calculator!$X$19","v":20},{"$f":"Calculator!$X$20","v":20},77,25,{"$f":"-0.0000002*F111^2+0.00005*F111+0.0132","v":1.3679999999999999E-2},{"$f":"0.88*(H111/150)+0.12","v":1},{"$f":"0.3551*(G111/F111)^2+0.5449*(G111/F111)+0.1","v":1.0000000000000002},{"$f":"F111*I111*M111*N111*O111+J111-2","v":20.736000000000001},{"$f":"P111+10","v":30.736000000000001},20.736000000000001,30.736000000000001,69.32480000000001,87.32480000000001,25,45.736000000000004,55.736000000000004,114.32480000000001,132.32480000000001,114.32480000000001,132.32480000000001,45.736000000000011,55.736000000000011,{"$f":"IF(Q111>80,\"High temp. Please contact your distributor for advice\",IF(H111>150,\"Too high charging pressure!\",\"\"))","v":""},{"$f":"AE111","v":""},1,"Samma värden som TU 750",null,null,null,null,null,34,44]
[{"$f":"CONCATENATE(\"TL\",\" \",D112)","v":"TL 1500"},null,1500,1500,null,{"$f":"Calculator!$M$2","v":10},{"$f":"Fjäderkurva!$D$14","v":10},{"$f":"Fjäderkurva!$D$19","v":150},{"$f":"Calculator!$X$19","v":20},{"$f":"Calculator!$X$20","v":20},77,25,{"$f":"-0.00000015*F112^2+0.000027*F112+0.0145","v":1.4755000000000001E-2},{"$f":"0.88*(H112/150)+0.12","v":1},{"$f":"0.82*(G112/F112)^2+0.075*(G112/F112)+0.1","v":0.99499999999999988},{"$f":"F112*I112*M112*N112*O112+J112","v":22.936245},{"$f":"P112+10","v":32.936245},22.936245,32.936245,73.285240999999999,91.285240999999999,25,47.936245,57.936245,118.285241,136.28524099999998,118.285241,136.28524099999998,47.936245,57.936244999999992,{"$f":"IF(Q112>80,\"High temp. Please contact your distributor for advice\",IF(H112>150,\"Too high charging pressure!\",\"\"))","v":""},{"$f":"AE112","v":""},1,"Samma värden som TU 1500",null,null,null,null,null,38,48]
["TL 3000",null,3000,3000,null,{"$f":"Calculator!$M$2","v":10},{"$f":"Fjäderkurva!$D$14","v":10},{"$f":"Fjäderkurva!$D$19","v":150},{"$f":"Calculator!$X$19","v":20},{"$f":"Calculator!$X$20","v":20},77,25,{"$f":"0.00000005*F113^2-0.000034*F113+0.0186","v":1.8265E-2},{"$f":"0.75*(H113/150)+0.25","v":1},{"$f":"0.82*(G113/F113)^2+0.075*(G113/F113)+0.1","v":0.99499999999999988},{"$f":"F113*I113*M113*N113*O113+J113","v":23.634734999999999},{"$f":"P113+10","v":33.634734999999999},23.634734999999999,33.634734999999999,74.542523000000003,92.542523000000003,25,48.634734999999999,58.634734999999999,119.542523,137.54252300000002,119.542523,137.54252300000002,48.634735000000006,58.634735000000013,{"$f":"IF(Q113>80,\"High temp. Please contact your distributor for advice\",IF(H113>150,\"Too high charging pressure!\",\"\"))","v":""},{"$f":"AE113","v":""},1,"Samma värden som TU 3000",null,null,null,null,null,47,57]
["TL 5000",null,5000,5000,null,{"$f":"Calculator!$M$2","v":10},{"$f":"Fjäderkurva!$D$14","v":10},{"$f":"Fjäderkurva!$D$19","v":150},{"$f":"Calculator!$X$19","v":20},{"$f":"Calculator!$X$20","v":20},77,25,{"$f":"-0.000003*F114+0.0155","v":1.5469999999999999E-2},{"$f":"0.89*(H114/150)+0.11","v":1},{"$f":"0.82*(G114/F114)^2+0.075*(G114/F114)+0.1","v":0.99499999999999988},{"$f":"F114*I114*M114*N114*O114+J114","v":23.078530000000001},{"$f":"P114+10","v":33.078530000000001},23.078530000000001,33.078530000000001,73.541354000000013,91.541354000000013,25,48.078530000000001,58.078530000000001,118.541354,136.54135400000001,118.541354,136.54135400000001,48.078530000000001,58.078530000000008,{"$f":"IF(Q114>80,\"High temp. Please contact your distributor for advice\",IF(H114>150,\"Too high charging pressure!\",\"\"))","v":""},{"$f":"AE114","v":""},1,"Samma värden som TU 5000",null,null,null,null,null,38,48]
["TL 7500",null,7500,7500,null,{"$f":"Calculator!$M$2","v":10},{"$f":"Fjäderkurva!$D$14","v":10},{"$f":"Fjäderkurva!$D$19","v":150},{"$f":"Calculator!$X$19","v":20},{"$f":"Calculator!$X$20","v":20},77,25,{"$f":"-0.000018*F115+0.025","v":2.4820000000000002E-2},{"$f":"0.85*(H115/150)+0.15","v":1},{"$f":"0.82*(G115/F115)^2+0.075*(G115/F115)+0.1","v":0.99499999999999988},{"$f":"F115*I115*M115*N115*O115+J115","v":24.93918},{"$f":"P115+10","v":34.93918},24.93918,34.93918,76.890523999999999,94.890523999999999,25,49.93918,59.93918,121.890524,139.890524,121.890524,139.890524,49.93918,59.93918,{"$f":"IF(Q115>80,\"High temp. Please contact your distributor for advice\",IF(H115>150,\"Too high charging pressure!\",\"\"))","v":""},{"$f":"AE115","v":""},1,"Samma värden som TU 7500",null,null,null,null,null,44,54]
[]
[null,null,null,null,null,null,null,null,null,null,null,null,null,"Tryck-och"]
[null,null,"NP-","TU",null,"Strokelength","Utilized","Fill pressure","Frequency","Env./Tool","Env./Tool","Env./Tool","Slaglängdsfaktor","SPM-faktor","%-faktor","Estimated running",null,{"$f":"P118","v":"Estimated running"},null,null,null,"F° env./tool",null,null,null,null,null,{"$f":"P118","v":"Estimated running"},null,null,null,null,1]
[null,null,null,null,null,null,"strokelength",null,null,"temperature","temperature","temperature","Fjäderfaktor","Tryckfaktor","Slagfaktor","temperature between:",null,"temperature between:",null,null,null,"temp.",null,null,null,null,null,{"$f":"P119","v":"temperature between:"},null,null,null,null,1]
[null,null,"Spring Size","Spring Size",null,null,"[mm]","[Bar]","[spm]","[°C]","[°F]","[°C]","K1","Kp","Ks","[°C]","[°C]","[°C]","[°C]","P som [°F]","Q som [°F]","to C°","N + T","U + 10°C","U to F°","V to F°","[°F]","[°F]","[°C]","[°C]",null,null,1]
[{"$f":"CONCATENATE(\"TU\",\" \",D121)","v":"TU 250"},null,250,250,null,{"$f":"Calculator!$M$2","v":10},{"$f":"Fjäderkurva!$D$14","v":10},{"$f":"Fjäderkurva!$D$19","v":150},{"$f":"Calculator!$X$19","v":20},{"$f":"Calculator!$X$20","v":20},77,25,{"$f":"0*F121^2+0.191028214047924*F121+1.19489445411071","v":3.1051765945899499},{"$f":"(0*H121^2+0.0198307891272208*H121+11.9649416367658)*(0*I121^2+0.0630821558264525*I121+9.92754833295433)","v":167.16159707648865},{"$f":"0.0557716256805885*(100*G121/F121)+9.77007422382933","v":15.347236791888179},{"$f":"((M121*N121*O121)*0.000375660733019535-0.345071041185781)+J121","v":22.647529921091891},{"$f":"P121+10","v":32.647529921091888},22.647529921091891,32.647529921091888,72.765553857965415,90.765553857965401,25,47.647529921091888,57.647529921091888,117.7655538579654,135.76555385796541,117.7655538579654,135.76555385796541,47.647529921091895,57.647529921091902,{"$f":"IF(Q121>80,\"High temp. Please contact your distributor for advice\",IF(H121>150,\"Too high charging pressure!\",\"\"))","v":""},{"$f":"AE121","v":""},1,"Nya tester",null,null,null,null,null,42,52]
[{"$f":"CONCATENATE(\"TU\",\" \",D122)","v":"TU 500"},null,500,500,null,{"$f":"Calculator!$M$2","v":10},{"$f":"Fjäderkurva!$D$14","v":10},{"$f":"Fjäderkurva!$D$19","v":150},{"$f":"Calculator!$X$19","v":20},{"$f":"Calculator!$X$20","v":20},77,25,{"$f":"-0.00000013726*F122^2-0.0000076261*F122+0.0133","v":1.3210013E-2},{"$f":"0.1645*EXP(1.7*(H122/150))+0.1","v":1.0004643459391245},{"$f":"0.496*(G122/F122)^2+0.4572*(G122/F122)+0.05","v":1.0032000000000001},{"$f":"(F122*I122*M122*N122*O122)+J122","v":22.651687737268638},{"$f":"P122+10","v":32.651687737268638},22.651687737268638,32.651687737268638,72.77303792708355,90.77303792708355,25,47.651687737268638,57.651687737268638,117.77303792708355,135.77303792708355,117.77303792708355,135.77303792708355,47.651687737268638,57.651687737268638,"","",1,"Samma värden som idag",null,null,null,null,null,29,39]
["TU 750",null,750,750,null,{"$f":"Calculator!$M$2","v":10},{"$f":"Fjäderkurva!$D$14","v":10},{"$f":"Fjäderkurva!$D$19","v":150},{"$f":"Calculator!$X$19","v":20},{"$f":"Calculator!$X$20","v":20},77,25,{"$f":"-0.0000002*F123^2+0.00005*F123+0.0132","v":1.3679999999999999E-2},{"$f":"0.88*(H123/150)+0.12","v":1},{"$f":"0.3551*(G123/F123)^2+0.5449*(G123/F123)+0.1","v":1.0000000000000002},{"$f":"F123*I123*M123*N123*O123+J123-2","v":20.736000000000001},{"$f":"P123+10","v":30.736000000000001},20.736000000000001,30.736000000000001,69.32480000000001,87.32480000000001,25,45.736000000000004,55.736000000000004,114.32480000000001,132.32480000000001,114.32480000000001,132.32480000000001,45.736000000000011,55.736000000000011,"","",1,"Samma värden som idag",null,null,null,null,null,33,43]
["TU 1500",null,1500,1500,null,{"$f":"Calculator!$M$2","v":10},{"$f":"Fjäderkurva!$D$14","v":10},{"$f":"Fjäderkurva!$D$19","v":150},{"$f":"Calculator!$X$19","v":20},{"$f":"Calculator!$X$20","v":20},77,25,{"$f":"-0.00000015*F124^2+0.000027*F124+0.0145","v":1.4755000000000001E-2},{"$f":"0.88*(H124/150)+0.12","v":1},{"$f":"0.82*(G124/F124)^2+0.075*(G124/F124)+0.1","v":0.99499999999999988},{"$f":"F124*I124*M124*N124*O124+J124","v":22.936245},32.936245,22.936245,32.936245,73.285240999999999,91.285240999999999,25,47.936245,57.936245,118.285241,136.28524099999998,118.285241,136.28524099999998,47.936245,57.936244999999992,"","",1,"Samma värden som idag",null,null,null,null,null,38,48]
["TU 3000",null,3000,3000,null,{"$f":"Calculator!$M$2","v":10},{"$f":"Fjäderkurva!$D$14","v":10},{"$f":"Fjäderkurva!$D$19","v":150},{"$f":"Calculator!$X$19","v":20},{"$f":"Calculator!$X$20","v":20},77,25,{"$f":"0.00000005*F125^2-0.000034*F125+0.0186","v":1.8265E-2},{"$f":"0.75*(H125/150)+0.25","v":1},{"$f":"0.82*(G125/F125)^2+0.075*(G125/F125)+0.1","v":0.99499999999999988},{"$f":"F125*I125*M125*N125*O125+J125","v":23.634734999999999},33.634734999999999,23.634734999999999,33.634734999999999,74.542523000000003,92.542523000000003,25,48.634734999999999,58.634734999999999,119.542523,137.54252300000002,119.542523,137.54252300000002,48.634735000000006,58.634735000000013,"","",1,"Samma värden som idag",null,null,null,null,null,38,48]
["TU 5000",null,5000,5000,null,{"$f":"Calculator!$M$2","v":10},{"$f":"Fjäderkurva!$D$14","v":10},{"$f":"Fjäderkurva!$D$19","v":150},{"$f":"Calculator!$X$19","v":20},{"$f":"Calculator!$X$20","v":20},77,25,{"$f":"-0.000003*F126+0.0155","v":1.5469999999999999E-2},{"$f":"0.89*(H126/150)+0.11","v":1},{"$f":"0.82*(G126/F126)^2+0.075*(G126/F126)+0.1","v":0.99499999999999988},{"$f":"F126*I126*M126*N126*O126+J126","v":23.078530000000001},33.078530000000001,23.078530000000001,33.078530000000001,73.541354000000013,91.541354000000013,25,48.078530000000001,58.078530000000001,118.541354,136.54135400000001,118.541354,136.54135400000001,48.078530000000001,58.078530000000008,"","",1,"Samma värden som idag",null,null,null,null,null,38,48]
["TU 7500",null,7500,7500,null,{"$f":"Calculator!$M$2","v":10},{"$f":"Fjäderkurva!$D$14","v":10},{"$f":"Fjäderkurva!$D$19","v":150},{"$f":"Calculator!$X$19","v":20},{"$f":"Calculator!$X$20","v":20},77,25,{"$f":"-0.000018*F127+0.025","v":2.4820000000000002E-2},{"$f":"0.85*(H127/150)+0.15","v":1},{"$f":"0.82*(G127/F127)^2+0.075*(G127/F127)+0.1","v":0.99499999999999988},{"$f":"F127*I127*M127*N127*O127+J127","v":24.93918},34.93918,24.93918,34.93918,76.890523999999999,94.890523999999999,25,49.93918,59.93918,121.890524,139.890524,121.890524,139.890524,49.93918,59.93918,"","",1,"Samma värden som idag",null,null,null,null,null,44,54]
["TU 10000",null,10000,10000,null,{"$f":"Calculator!$M$2","v":10},{"$f":"Fjäderkurva!$D$14","v":10},{"$f":"Fjäderkurva!$D$19","v":150},{"$f":"Calculator!$X$19","v":20},{"$f":"Calculator!$X$20","v":20},77,25,{"$f":"-0.00000004*F128^2+0.000015*F128+0.0145","v":1.4646000000000001E-2},{"$f":"0.9*(H128/150)+0.1","v":1},{"$f":"0.82*(G128/F128)^2+0.075*(G128/F128)+0.1","v":0.99499999999999988},{"$f":"F128*I128*M128*N128*O128+J128","v":22.914553999999999},32.914553999999995,22.914553999999999,32.914553999999995,73.246197199999997,91.246197199999983,25,47.914553999999995,57.914553999999995,118.2461972,136.24619719999998,118.2461972,136.24619719999998,47.914554000000003,57.914553999999995,"","",1,"Samma värden som idag",null,null,null,null,null,38,48]
[]
[]
[null,null,"Finns ej ","TUR",null,"Strokelength","Utilized","Fill pressure","Frequency","Env./Tool","Env./Tool","Env./Tool",null,null,null,"Estimated running",null,{"$f":"P131","v":"Estimated running"},null,null,null,"F° env./tool",null,null,null,null,null,{"$f":"P131","v":"Estimated running"},null,null,null,null,1]
[null,null,null,null,null,null,"strokelength",null,null,"temperature","temperature","temperature","Fjäderfaktor","Tryckfaktor","Slagfaktor","temperature between:",null,{"$f":"P132","v":"temperature between:"},null,null,null,"temp.",null,null,null,null,null,{"$f":"P132","v":"temperature between:"},null,null,null,null,1]
[null,null,null,"Spring Size",null,null,"[mm]","[Bar]","[spm]","[°C]","[°F]","[°C]","K1","Kp","Ks","[°C]","[°C]",{"$f":"P133","v":"[°C]"},{"$f":"Q133","v":"[°C]"},"P som [°F]","Q som [°F]","to C°","N + T","U + 10°C","U to F°","V to F°","[°F]","[°F]","[°C]","[°C]",null,null,1]
[{"$f":"CONCATENATE(\"TUR\",\" \",D134)","v":"TUR 10000"},null,null,10000,null,{"$f":"Calculator!$M$2","v":10},{"$f":"Fjäderkurva!$D$14","v":10},{"$f":"Fjäderkurva!$D$19","v":150},{"$f":"Calculator!$X$19","v":20},{"$f":"Calculator!$X$20","v":20},77,25,{"$f":"-0.00000004*F134^2+0.000015*F134+0.0145","v":1.4646000000000001E-2},{"$f":"0.9*(H134/150)+0.1","v":1},{"$f":"0.82*(G134/F134)^2+0.075*(G134/F134)+0.1","v":0.99499999999999988},{"$f":"F134*I134*M134*N134*O134+J134","v":22.914553999999999},{"$f":"P134+10","v":32.914553999999995},{"$f":"P134","v":22.914553999999999},{"$f":"Q134","v":32.914553999999995},73.246197199999997,91.246197199999983,25,47.914553999999995,57.914553999999995,118.2461972,136.24619719999998,118.2461972,136.24619719999998,47.914554000000003,57.914553999999995,{"$f":"IF(Q134>80,\"High temp. Please contact your distributor for advice\",IF(H134>150,\"Too high charging pressure!\",\"\"))","v":""},{"$f":"AE134","v":""},1,"Samma värden som TU",null,null,null,null,null,38,48]
[]
[]
[null,null,"Finns ej ","TUS",null,"Strokelength","Utilized","Fill pressure","Frequency","Env./Tool","Env./Tool","Env./Tool",null,null,null,"Estimated running",null,{"$f":"P137","v":"Estimated running"},null,null,null,"F° env./tool",null,null,null,null,null,{"$f":"P137","v":"Estimated running"},null,null,null,null,1]
[null,null,null,null,null,null,"strokelength",null,null,"temperature","temperature","temperature","Fjäderfaktor","Tryckfaktor","Slagfaktor","temperature between:",null,"temperature between:",null,null,null,"temp.",null,null,null,null,null,{"$f":"P138","v":"temperature between:"},null,null,null,null,1]
[null,null,null,"Spring Size",null,null,"[mm]","[Bar]","[spm]","[°C]","[°F]","[°C]","K1","Kp","Ks","[°C]","[°C]","[°C]","[°C]","P som [°F]","Q som [°F]","to C°","N + T","U + 10°C","U to F°","V to F°","[°F]","[°F]","[°C]","[°C]",null,null,1]
[{"$f":"CONCATENATE(\"TUS\",\" \",D140)","v":"TUS 750"},null,null,750,null,{"$f":"Calculator!$M$2","v":10},{"$f":"Fjäderkurva!$D$14","v":10},{"$f":"Fjäderkurva!$D$19","v":150},{"$f":"Calculator!$X$19","v":20},{"$f":"Calculator!$X$20","v":20},77,{"$f":"5/9*(K140-32)","v":25},{"$f":"-0.0000002*F140^2+0.00005*F140+0.0132","v":1.3679999999999999E-2},{"$f":"0.88*(H140/150)+0.12","v":1},{"$f":"0.3551*(G140/F140)^2+0.5449*(G140/F140)+0.1","v":1.0000000000000002},{"$f":"F140*I140*M140*N140*O140+J140-2","v":20.736000000000001},{"$f":"P140+10","v":30.736000000000001},20.736000000000001,30.736000000000001,{"$f":"9/5*R140+32","v":69.32480000000001},87.32480000000001,25,45.736000000000004,{"$f":"W140+10","v":55.736000000000004},114.32480000000001,132.32480000000001,{"$f":"Y140","v":114.32480000000001},132.32480000000001,{"$f":"5/9*(AA140-32)","v":45.736000000000011},55.736000000000011,{"$f":"IF(Q140>80,\"High temp. Please contact your distributor for advice\",IF(H140>150,\"Too high charging pressure!\",\"\"))","v":""},{"$f":"AE140","v":""},1,"Samma värden som TU",null,null,null,null,null,37,47]
[{"$f":"CONCATENATE(\"TUS\",\" \",D141)","v":"TUS 1500"},null,null,1500,null,{"$f":"Calculator!$M$2","v":10},{"$f":"Fjäderkurva!$D$14","v":10},{"$f":"Fjäderkurva!$D$19","v":150},{"$f":"Calculator!$X$19","v":20},{"$f":"Calculator!$X$20","v":20},77,25,{"$f":"-0.00000015*F141^2+0.000027*F141+0.0145","v":1.4755000000000001E-2},{"$f":"0.88*(H141/150)+0.12","v":1},{"$f":"0.82*(G141/F141)^2+0.075*(G141/F141)+0.1","v":0.99499999999999988},{"$f":"F141*I141*M141*N141*O141+J141","v":22.936245},{"$f":"P141+10","v":32.936245},22.936245,32.936245,73.285240999999999,91.285240999999999,25,47.936245,57.936245,118.285241,136.28524099999998,118.285241,136.28524099999998,47.936245,57.936244999999992,{"$f":"IF(Q141>80,\"High temp. Please contact your distributor for advice\",IF(H141>150,\"Too high charging pressure!\",\"\"))","v":""},"",1,"Samma värden som TU",null,null,null,null,null,38,48]
["TUS 3000",null,null,3000,null,{"$f":"Calculator!$M$2","v":10},{"$f":"Fjäderkurva!$D$14","v":10},{"$f":"Fjäderkurva!$D$19","v":150},{"$f":"Calculator!$X$19","v":20},{"$f":"Calculator!$X$20","v":20},77,25,{"$f":"0.00000005*F142^2-0.000034*F142+0.0186","v":1.8265E-2},{"$f":"0.75*(H142/150)+0.25","v":1},{"$f":"0.82*(G142/F142)^2+0.075*(G142/F142)+0.1","v":0.99499999999999988},{"$f":"F142*I142*M142*N142*O142+J142","v":23.634734999999999},{"$f":"P142+10","v":33.634734999999999},23.634734999999999,33.634734999999999,74.542523000000003,92.542523000000003,25,48.634734999999999,58.634734999999999,119.542523,137.54252300000002,119.542523,137.54252300000002,48.634735000000006,58.634735000000013,{"$f":"IF(Q142>80,\"High temp. Please contact your distributor for advice\",IF(H142>150,\"Too high charging pressure!\",\"\"))","v":""},"",1,"Samma värden som TU",null,null,null,null,null,38,48]
["TUS 5000",null,null,5000,null,{"$f":"Calculator!$M$2","v":10},{"$f":"Fjäderkurva!$D$14","v":10},{"$f":"Fjäderkurva!$D$19","v":150},{"$f":"Calculator!$X$19","v":20},{"$f":"Calculator!$X$20","v":20},77,25,{"$f":"-0.000003*F143+0.0155","v":1.5469999999999999E-2},{"$f":"0.89*(H143/150)+0.11","v":1},{"$f":"0.82*(G143/F143)^2+0.075*(G143/F143)+0.1","v":0.99499999999999988},{"$f":"F143*I143*M143*N143*O143+J143","v":23.078530000000001},{"$f":"P143+10","v":33.078530000000001},23.078530000000001,33.078530000000001,73.541354000000013,91.541354000000013,25,48.078530000000001,58.078530000000001,118.541354,136.54135400000001,118.541354,136.54135400000001,48.078530000000001,58.078530000000008,{"$f":"IF(Q143>80,\"High temp. Please contact your distributor for advice\",IF(H143>150,\"Too high charging pressure!\",\"\"))","v":""},"",1,"Samma värden som TU",null,null,null,null,null,38,48]
["TUS 7500",null,null,7500,null,{"$f":"Calculator!$M$2","v":10},{"$f":"Fjäderkurva!$D$14","v":10},{"$f":"Fjäderkurva!$D$19","v":150},{"$f":"Calculator!$X$19","v":20},{"$f":"Calculator!$X$20","v":20},77,25,{"$f":"-0.000018*F144+0.025","v":2.4820000000000002E-2},{"$f":"0.85*(H144/150)+0.15","v":1},{"$f":"0.82*(G144/F144)^2+0.075*(G144/F144)+0.1","v":0.99499999999999988},{"$f":"F144*I144*M144*N144*O144+J144","v":24.93918},{"$f":"P144+10","v":34.93918},24.93918,34.93918,76.890523999999999,94.890523999999999,25,49.93918,59.93918,121.890524,139.890524,121.890524,139.890524,49.93918,59.93918,{"$f":"IF(Q144>80,\"High temp. Please contact your distributor for advice\",IF(H144>150,\"Too high charging pressure!\",\"\"))","v":""},"",1,"Samma värden som TU",null,null,null,null,null,44,54]
[]
[]
[null,null,"T4-","TX",null,"Strokelength","Utilized","Fill pressure","Frequency","Env./Tool","Env./Tool","Env./Tool",null,"Tryckfaktor Kp",null,"Estimated running",null,{"$f":"P147","v":"Estimated running"},null,null,null,"F° env./tool",null,null,null,null,null,{"$f":"P147","v":"Estimated running"},null,null,null,null,1]
[null,null,null,null,null,null,"strokelength",null,null,"temperature","temperature","temperature","Fjäderfaktor K1","Tryck-och","Slagfaktor Ks","temperature between:",null,{"$f":"P148","v":"temperature between:"},null,null,null,"temp.",null,null,null,null,null,{"$f":"P148","v":"temperature between:"},null,null,null,null,1]
[null,null,"Spring Size","Spring Size",null,null,"[mm]","[Bar]","[spm]","[°C]","[°F]","[°C]","Slaglängdsfaktor","SPM-faktor","%-faktor","[°C]","[°C]",{"$f":"P149","v":"[°C]"},{"$f":"Q149","v":"[°C]"},"P som [°F]","Q som [°F]","to C°","N + T","U + 10°C","U to F°","V to F°","[°F]","[°F]","[°C]","[°C]",null,null,1]
[{"$f":"CONCATENATE(\"TX\",\" \",D150)","v":"TX 750"},null,750,750,null,{"$f":"Calculator!$M$2","v":10},{"$f":"Fjäderkurva!$D$14","v":10},{"$f":"Fjäderkurva!$D$19","v":150},{"$f":"Calculator!$X$19","v":20},{"$f":"Calculator!$X$20","v":20},77,25,{"$f":"-0.00000013726*F150^2-0.0000076261*F150+0.0133","v":1.3210013E-2},{"$f":"0.1645*EXP(1.7*(H150/150))+0.1","v":1.0004643459391245},{"$f":"0.496*(G150/F150)^2+0.4572*(G150/F150)+0.05","v":1.0032000000000001},{"$f":"((F150*I150*M150*N150*O150)*0.9)+J150","v":22.386518963541775},{"$f":"P150+10","v":32.386518963541775},{"$f":"P150","v":22.386518963541775},{"$f":"Q150","v":32.386518963541775},72.295734134375195,90.295734134375195,{"$f":"5/9*(K150-32)","v":25},{"$f":"P150+V150","v":47.386518963541775},57.386518963541775,{"$f":"9/5*W150+32","v":117.29573413437519},135.29573413437521,117.29573413437519,135.29573413437521,47.386518963541775,57.386518963541782,{"$f":"IF(Q150>80,\"High temp. Please contact your distributor for advice\",IF(H150>150,\"Too high charging pressure!\",\"\"))","v":""},"",2,"Nya tester alt. samma som TU 500",null,null,null,null,null,31,41]
[{"$f":"CONCATENATE(\"TX\",\" \",D151)","v":"TX 1000"},null,1000,1000,null,{"$f":"Calculator!$M$2","v":10},{"$f":"Fjäderkurva!$D$14","v":10},{"$f":"Fjäderkurva!$D$19","v":150},{"$f":"Calculator!$X$19","v":20},{"$f":"Calculator!$X$20","v":20},77,25,{"$f":"-0.0000002*F151^2+0.00005*F151+0.0132","v":1.3679999999999999E-2},{"$f":"0.88*(H151/150)+0.12","v":1},{"$f":"0.3551*(G151/F151)^2+0.5449*(G151/F151)+0.1","v":1.0000000000000002},{"$f":"F151*I151*M151*N151*O151+J151-2","v":20.736000000000001},30.736000000000001,{"$f":"P151","v":20.736000000000001},30.736000000000001,69.32480000000001,87.32480000000001,25,45.736000000000004,55.736000000000004,114.32480000000001,132.32480000000001,114.32480000000001,132.32480000000001,45.736000000000011,55.736000000000011,"","",1,"Samma värden som TU 750",null,null,null,null,null,39,49]
["TX 1500",null,1500,1500,null,{"$f":"Calculator!$M$2","v":10},{"$f":"Fjäderkurva!$D$14","v":10},{"$f":"Fjäderkurva!$D$19","v":150},{"$f":"Calculator!$X$19","v":20},{"$f":"Calculator!$X$20","v":20},77,25,{"$f":"0.123963746670613*F152","v":1.2396374667061298},{"$f":"(0.0703967741935484*H152+5.52354838709677)*(0.000530647743213614*I152^2+0.274166602843941*I152)","v":91.602559989917694},{"$f":"(100*G152/F152)*0.171918187168923","v":17.1918187168923},{"$f":"J152+(M152*N152*O152*0.000731558156516041+4.52833074925737)","v":25.956477988315299},35.956477988315299,25.956477988315299,35.956477988315299,78.721660378967542,96.721660378967542,25,50.956477988315299,60.956477988315299,123.72166037896754,141.72166037896756,123.72166037896754,141.72166037896756,50.956477988315307,60.956477988315314,"","",2,"Nya tester",null,null,null,null,null,37,47]
["TX 2400",null,2400,2400,null,{"$f":"Calculator!$M$2","v":10},{"$f":"Fjäderkurva!$D$14","v":10},{"$f":"Fjäderkurva!$D$19","v":150},{"$f":"Calculator!$X$19","v":20},{"$f":"Calculator!$X$20","v":20},77,25,{"$f":"-0.00000015*F153^2+0.000027*F153+0.0145","v":1.4755000000000001E-2},{"$f":"0.88*(H153/150)+0.12","v":1},{"$f":"0.82*(G153/F153)^2+0.075*(G153/F153)+0.1","v":0.99499999999999988},{"$f":"F153*I153*M153*N153*O153+J153","v":22.936245},32.936245,22.936245,32.936245,73.285240999999999,91.285240999999999,25,47.936245,57.936245,118.285241,136.28524099999998,118.285241,136.28524099999998,47.936245,57.936244999999992,"","",1,"Samma värden som TU 1500",null,null,null,null,null,41,51]
["TX 4200",null,4200,4200,null,{"$f":"Calculator!$M$2","v":10},{"$f":"Fjäderkurva!$D$14","v":10},{"$f":"Fjäderkurva!$D$19","v":150},{"$f":"Calculator!$X$19","v":20},{"$f":"Calculator!$X$20","v":20},77,25,{"$f":"0.00000005*F154^2-0.000034*F154+0.0186","v":1.8265E-2},{"$f":"0.75*(H154/150)+0.25","v":1},{"$f":"0.82*(G154/F154)^2+0.075*(G154/F154)+0.1","v":0.99499999999999988},{"$f":"F154*I154*M154*N154*O154+J154","v":23.634734999999999},33.634734999999999,23.634734999999999,33.634734999999999,74.542523000000003,92.542523000000003,25,48.634734999999999,58.634734999999999,119.542523,137.54252300000002,119.542523,137.54252300000002,48.634735000000006,58.634735000000013,"","",1,"Samma värden som TU 3000",null,null,null,null,null,41,51]
["TX 6600",null,6600,6600,null,{"$f":"Calculator!$M$2","v":10},{"$f":"Fjäderkurva!$D$14","v":10},{"$f":"Fjäderkurva!$D$19","v":150},{"$f":"Calculator!$X$19","v":20},{"$f":"Calculator!$X$20","v":20},77,25,{"$f":"-0.000003*F155+0.0155","v":1.5469999999999999E-2},{"$f":"0.89*(H155/150)+0.11","v":1},{"$f":"0.82*(G155/F155)^2+0.075*(G155/F155)+0.1","v":0.99499999999999988},{"$f":"F155*I155*M155*N155*O155+J155","v":23.078530000000001},33.078530000000001,23.078530000000001,33.078530000000001,73.541354000000013,91.541354000000013,25,48.078530000000001,58.078530000000001,118.541354,136.54135400000001,118.541354,136.54135400000001,48.078530000000001,58.078530000000008,"","",1,"Samma värden som TU 5000",null,null,null,null,null,40,50]
["TX 9500",null,9500,9500,null,{"$f":"Calculator!$M$2","v":10},{"$f":"Fjäderkurva!$D$14","v":10},{"$f":"Fjäderkurva!$D$19","v":150},{"$f":"Calculator!$X$19","v":20},{"$f":"Calculator!$X$20","v":20},77,25,{"$f":"-0.000018*F156+0.025","v":2.4820000000000002E-2},{"$f":"0.85*(H156/150)+0.15","v":1},{"$f":"0.82*(G156/F156)^2+0.075*(G156/F156)+0.1","v":0.99499999999999988},{"$f":"F156*I156*M156*N156*O156+J156","v":24.93918},34.93918,24.93918,34.93918,76.890523999999999,94.890523999999999,25,49.93918,59.93918,121.890524,139.890524,121.890524,139.890524,49.93918,59.93918,"","",1,"Samma värden som TU 7500",null,null,null,null,null,48,58]
["TX 20000",null,20000,20000,null,{"$f":"Calculator!$M$2","v":10},{"$f":"Fjäderkurva!$D$14","v":10},{"$f":"Fjäderkurva!$D$19","v":150},{"$f":"Calculator!$X$19","v":20},{"$f":"Calculator!$X$20","v":20},77,25,{"$f":"-0.00000004*F157^2+0.000015*F157+0.0145","v":1.4646000000000001E-2},{"$f":"0.9*(H157/150)+0.1","v":1},{"$f":"0.82*(G157/F157)^2+0.075*(G157/F157)+0.1","v":0.99499999999999988},{"$f":"F157*I157*M157*N157*O157+J157","v":22.914553999999999},32.914553999999995,22.914553999999999,32.914553999999995,73.246197199999997,91.246197199999983,25,47.914553999999995,57.914553999999995,118.2461972,136.24619719999998,118.2461972,136.24619719999998,47.914554000000003,57.914553999999995,"","",2,"Nya tester alt. samma som TU 10T",null,null,null,null,null,41,51]
[]
[]
[]
[null,null,null,"Kopia av X-data",null,"Strokelength","Utilized","Fill pressure","Frequency","Env./Tool","Env./Tool","Env./Tool",null,null,null,"Estimated running",null,{"$f":"P161","v":"Estimated running"},null,null,null,"F° env./tool",null,null,null,null,null,{"$f":"P161","v":"Estimated running"},null,null,null,null,1]
[null,null,null,"2017-05-29",null,null,"strokelength",null,null,"temperature","temperature","temperature","Fjäderfaktor","Tryckfaktor","Slagfaktor","temperature between:",null,"temperature between:",null,null,null,"temp.",null,null,null,null,null,{"$f":"P162","v":"temperature between:"},null,null,null,null,1]
[null,null,"Spring Size","Spring Size",null,null,"[mm]","[Bar]","[spm]","[°C]","[°F]","[°C]","K1","Kp","Ks","[°C]","[°C]","[°C]",{"$f":"Q163","v":"[°C]"},"P som [°F]","Q som [°F]","to C°","N + T","U + 10°C","U to F°","V to F°","[°F]","[°F]","[°C]","[°C]",null,null,1]
[{"$f":"CONCATENATE(\"XF\",\" \",D164)","v":"XF 750"},null,750,750,null,{"$f":"Calculator!$M$2","v":10},{"$f":"Fjäderkurva!$D$14","v":10},{"$f":"Fjäderkurva!$D$19","v":150},{"$f":"Calculator!$X$19","v":20},{"$f":"Calculator!$X$20","v":20},77,{"$f":"5/9*(K164-32)","v":25},{"$f":"-5.21759415768633E-06*F164+0.011064444","v":1.1012268058423137E-2},{"$f":"0.7*(H164/150)+0.3","v":1},{"$f":"(G164/F164)^1.15","v":1},{"$f":"F164*I164*M164*N164*O164+J164","v":22.202453611684628},{"$f":"P164+10","v":32.202453611684632},22.202453611684628,32.202453611684632,{"$f":"9/5*R164+32","v":71.964416501032332},{"$f":"9/5*S164+32","v":89.964416501032332},{"$f":"5/9*(K164-32)","v":25},{"$f":"P164+V164","v":47.202453611684632},{"$f":"W164+10","v":57.202453611684632},{"$f":"9/5*W164+32","v":116.96441650103235},{"$f":"9/5*X164+32","v":134.96441650103236},{"$f":"Y164","v":116.96441650103235},{"$f":"Z164","v":134.96441650103236},{"$f":"5/9*(AA164-32)","v":47.202453611684639},{"$f":"5/9*(AB164-32)","v":57.202453611684646},{"$f":"IF(Q164>80,\"High temp. Please contact your distributor for advice\",IF(H164>150,\"Too high charging pressure!\",\"\"))","v":""},{"$f":"AE164","v":""},1,"Samma värden som idag",null,null,null,null,null,34,44]
["XF 1000",null,1000,1000,null,{"$f":"Calculator!$M$2","v":10},{"$f":"Fjäderkurva!$D$14","v":10},{"$f":"Fjäderkurva!$D$19","v":150},{"$f":"Calculator!$X$19","v":20},{"$f":"Calculator!$X$20","v":20},77,25,{"$f":"-3.37582158982632E-06*F165+0.012213964","v":1.2180205784101738E-2},{"$f":"0.79*(H165/150)+0.21","v":1},1,22.436041156820348,32.436041156820352,22.436041156820348,32.436041156820352,72.384874082276625,90.384874082276639,25,47.436041156820352,57.436041156820352,117.38487408227664,135.38487408227664,117.38487408227664,135.38487408227664,47.436041156820359,57.436041156820359,"","",1,"Samma värden som idag",null,null,null,null,null,36,46]
["XF 1500",null,1500,1500,null,{"$f":"Calculator!$M$2","v":10},{"$f":"Fjäderkurva!$D$14","v":10},{"$f":"Fjäderkurva!$D$19","v":150},{"$f":"Calculator!$X$19","v":20},{"$f":"Calculator!$X$20","v":20},77,25,{"$f":"-0.0000115814333465656*F166+0.0161709","v":1.6055085666534342E-2},{"$f":"0.84*(H166/150)+0.16","v":1},1,23.211017133306868,33.211017133306868,23.211017133306868,33.211017133306868,73.779830839952353,91.779830839952353,25,48.211017133306868,58.211017133306868,118.77983083995237,136.77983083995235,118.77983083995237,136.77983083995235,48.211017133306875,58.211017133306868,"","",1,"Samma värden som idag",null,null,null,null,null,38,48]
["XF 2400",null,2400,2400,null,{"$f":"Calculator!$M$2","v":10},{"$f":"Fjäderkurva!$D$14","v":10},{"$f":"Fjäderkurva!$D$19","v":150},{"$f":"Calculator!$X$19","v":20},{"$f":"Calculator!$X$20","v":20},77,25,1.5820000000000001E-2,{"$f":"0.87*(H167/150)+0.13","v":1},1,23.164000000000001,33.164000000000001,23.164000000000001,33.164000000000001,73.6952,91.6952,25,48.164000000000001,58.164000000000001,118.6952,136.6952,118.6952,136.6952,48.164000000000001,58.164000000000001,"","",1,"Samma värden som idag",null,null,null,null,null,39,49]